BEGIN:VCALENDAR
VERSION:2.0
PRODID:-//Saint Catherine of Alexandria School - ECPv6.15.20//NONSGML v1.0//EN
CALSCALE:GREGORIAN
METHOD:PUBLISH
X-ORIGINAL-URL:https://www.saintcatherineschool.org
X-WR-CALDESC:Events for Saint Catherine of Alexandria School
REFRESH-INTERVAL;VALUE=DURATION:PT1H
X-Robots-Tag:noindex
X-PUBLISHED-TTL:PT1H
BEGIN:VTIMEZONE
TZID:America/Chicago
BEGIN:DAYLIGHT
TZOFFSETFROM:-0600
TZOFFSETTO:-0500
TZNAME:CDT
DTSTART:20220313T080000
END:DAYLIGHT
BEGIN:STANDARD
TZOFFSETFROM:-0500
TZOFFSETTO:-0600
TZNAME:CST
DTSTART:20221106T070000
END:STANDARD
BEGIN:DAYLIGHT
TZOFFSETFROM:-0600
TZOFFSETTO:-0500
TZNAME:CDT
DTSTART:20230312T080000
END:DAYLIGHT
BEGIN:STANDARD
TZOFFSETFROM:-0500
TZOFFSETTO:-0600
TZNAME:CST
DTSTART:20231105T070000
END:STANDARD
BEGIN:DAYLIGHT
TZOFFSETFROM:-0600
TZOFFSETTO:-0500
TZNAME:CDT
DTSTART:20240310T080000
END:DAYLIGHT
BEGIN:STANDARD
TZOFFSETFROM:-0500
TZOFFSETTO:-0600
TZNAME:CST
DTSTART:20241103T070000
END:STANDARD
END:VTIMEZONE
BEGIN:VEVENT
DTSTART;TZID=America/Chicago:20231102T081500
DTEND;TZID=America/Chicago:20231102T090000
DTSTAMP:20260425T140735
CREATED:20230718T180334Z
LAST-MODIFIED:20230718T183152Z
UID:10009990-1698912900-1698915600@www.saintcatherineschool.org
SUMMARY:Mass - Saint Catherine
DESCRIPTION:This Mass is said in English.
URL:https://www.saintcatherineschool.org/event/mass-saint-catherine-26/2023-11-02
LOCATION:Saint Catherine of Alexandria\, 4532 S. 25th W. Ave.\, Tulsa\, OK\, 74107\, United States
CATEGORIES:Church of Saint Catherine,Saint Catherine School
ORGANIZER;CN="Fr. John Grant":MAILTO:fr.joh.grant@saint-catherine.org
GEO:36.0981774;-96.0216659
X-APPLE-STRUCTURED-LOCATION;VALUE=URI;X-ADDRESS=Saint Catherine of Alexandria 4532 S. 25th W. Ave. Tulsa OK 74107 United States;X-APPLE-RADIUS=500;X-TITLE=4532 S. 25th W. Ave.:geo:-96.0216659,36.0981774
END:VEVENT
BEGIN:VEVENT
DTSTART;TZID=America/Chicago:20231102T143000
DTEND;TZID=America/Chicago:20231102T163000
DTSTAMP:20260425T140735
CREATED:20230709T001447Z
LAST-MODIFIED:20231026T142757Z
UID:10009783-1698935400-1698942600@www.saintcatherineschool.org
SUMMARY:8th Grade Class to Calvary Cemetery
DESCRIPTION:
URL:https://www.saintcatherineschool.org/event/8th-grade-class-to-calvary-cemetery
LOCATION:Calvary Cemetary\, 9101 S Harvard Ave\, Tulsa\, 74137\, United States
CATEGORIES:Church of Saint Catherine,Saint Catherine School
ORGANIZER;CN="Fr. John Grant":MAILTO:fr.joh.grant@saint-catherine.org
GEO:36.0303334;-95.9350268
X-APPLE-STRUCTURED-LOCATION;VALUE=URI;X-ADDRESS=Calvary Cemetary 9101 S Harvard Ave Tulsa 74137 United States;X-APPLE-RADIUS=500;X-TITLE=9101 S Harvard Ave:geo:-95.9350268,36.0303334
END:VEVENT
BEGIN:VEVENT
DTSTART;TZID=America/Chicago:20231102T153000
DTEND;TZID=America/Chicago:20231102T170000
DTSTAMP:20260425T140735
CREATED:20231026T143054Z
LAST-MODIFIED:20231026T143054Z
UID:10011345-1698939000-1698944400@www.saintcatherineschool.org
SUMMARY:Robotics Club
DESCRIPTION:
URL:https://www.saintcatherineschool.org/event/robotics-club/2023-11-02
LOCATION:Saint Catherine School\, 2515 W. 46th St.\, Tulsa\, OK\, 74107\, United States
CATEGORIES:Church of Saint Catherine,Saint Catherine School
ORGANIZER;CN="Andrea Warner":MAILTO:andrea.warner.mail@gmail.com
GEO:36.0981282;-96.0219361
X-APPLE-STRUCTURED-LOCATION;VALUE=URI;X-ADDRESS=Saint Catherine School 2515 W. 46th St. Tulsa OK 74107 United States;X-APPLE-RADIUS=500;X-TITLE=2515 W. 46th St.:geo:-96.0219361,36.0981282
END:VEVENT
END:VCALENDAR