BEGIN:VCALENDAR
VERSION:2.0
PRODID:-//Saint Catherine of Alexandria School - ECPv6.15.20//NONSGML v1.0//EN
CALSCALE:GREGORIAN
METHOD:PUBLISH
X-ORIGINAL-URL:https://www.saintcatherineschool.org
X-WR-CALDESC:Events for Saint Catherine of Alexandria School
REFRESH-INTERVAL;VALUE=DURATION:PT1H
X-Robots-Tag:noindex
X-PUBLISHED-TTL:PT1H
BEGIN:VTIMEZONE
TZID:America/Chicago
BEGIN:DAYLIGHT
TZOFFSETFROM:-0600
TZOFFSETTO:-0500
TZNAME:CDT
DTSTART:20230312T080000
END:DAYLIGHT
BEGIN:STANDARD
TZOFFSETFROM:-0500
TZOFFSETTO:-0600
TZNAME:CST
DTSTART:20231105T070000
END:STANDARD
BEGIN:DAYLIGHT
TZOFFSETFROM:-0600
TZOFFSETTO:-0500
TZNAME:CDT
DTSTART:20240310T080000
END:DAYLIGHT
BEGIN:STANDARD
TZOFFSETFROM:-0500
TZOFFSETTO:-0600
TZNAME:CST
DTSTART:20241103T070000
END:STANDARD
BEGIN:DAYLIGHT
TZOFFSETFROM:-0600
TZOFFSETTO:-0500
TZNAME:CDT
DTSTART:20250309T080000
END:DAYLIGHT
BEGIN:STANDARD
TZOFFSETFROM:-0500
TZOFFSETTO:-0600
TZNAME:CST
DTSTART:20251102T070000
END:STANDARD
END:VTIMEZONE
BEGIN:VEVENT
DTSTART;TZID=America/Chicago:20240216T080000
DTEND;TZID=America/Chicago:20240216T140000
DTSTAMP:20260425T060756
CREATED:20230709T005208Z
LAST-MODIFIED:20230709T005208Z
UID:10009815-1708070400-1708092000@www.saintcatherineschool.org
SUMMARY:Teacher In-Service No School
DESCRIPTION:
URL:https://www.saintcatherineschool.org/event/teacher-in-service-no-school
LOCATION:Bisoph Kelley\, 3905 S Hudson Ave\, Tulsa\, 74135\, United States
CATEGORIES:Church of Saint Catherine,Saint Catherine School
ORGANIZER;CN="Michelle Anthamatten":MAILTO:manthamatten@saint-catherine.org
GEO:36.1065774;-95.9132567
X-APPLE-STRUCTURED-LOCATION;VALUE=URI;X-ADDRESS=Bisoph Kelley 3905 S Hudson Ave Tulsa 74135 United States;X-APPLE-RADIUS=500;X-TITLE=3905 S Hudson Ave:geo:-95.9132567,36.1065774
END:VEVENT
BEGIN:VEVENT
DTSTART;TZID=America/Chicago:20240216T081500
DTEND;TZID=America/Chicago:20240216T090000
DTSTAMP:20260425T060756
CREATED:20230718T183913Z
LAST-MODIFIED:20231211T190726Z
UID:10011377-1708071300-1708074000@www.saintcatherineschool.org
SUMMARY:Mass - Saint Catherine
DESCRIPTION:This Mass is said in English.
URL:https://www.saintcatherineschool.org/event/mass-saint-catherine-30/2024-02-16
LOCATION:Saint Catherine of Alexandria\, 4532 S. 25th W. Ave.\, Tulsa\, OK\, 74107\, United States
CATEGORIES:Church of Saint Catherine,Saint Catherine School
ORGANIZER;CN="Fr. John Grant":MAILTO:fr.joh.grant@saint-catherine.org
GEO:36.0981774;-96.0216659
X-APPLE-STRUCTURED-LOCATION;VALUE=URI;X-ADDRESS=Saint Catherine of Alexandria 4532 S. 25th W. Ave. Tulsa OK 74107 United States;X-APPLE-RADIUS=500;X-TITLE=4532 S. 25th W. Ave.:geo:-96.0216659,36.0981774
END:VEVENT
BEGIN:VEVENT
DTSTART;TZID=America/Chicago:20240216T081500
DTEND;TZID=America/Chicago:20240216T090000
DTSTAMP:20260425T060756
CREATED:20240212T170732Z
LAST-MODIFIED:20240212T170732Z
UID:10011426-1708071300-1708074000@www.saintcatherineschool.org
SUMMARY:Mass - Saint Catherine
DESCRIPTION:This Mass is in English.
URL:https://www.saintcatherineschool.org/event/mass-saint-catherine-33
LOCATION:Saint Catherine of Alexandria\, 4532 S. 25th W. Ave.\, Tulsa\, OK\, 74107\, United States
CATEGORIES:Church of Saint Catherine,Saint Catherine School
ORGANIZER;CN="Fr. John Grant":MAILTO:fr.joh.grant@saint-catherine.org
GEO:36.0981774;-96.0216659
X-APPLE-STRUCTURED-LOCATION;VALUE=URI;X-ADDRESS=Saint Catherine of Alexandria 4532 S. 25th W. Ave. Tulsa OK 74107 United States;X-APPLE-RADIUS=500;X-TITLE=4532 S. 25th W. Ave.:geo:-96.0216659,36.0981774
END:VEVENT
BEGIN:VEVENT
DTSTART;TZID=America/Chicago:20240216T173000
DTEND;TZID=America/Chicago:20240216T180000
DTSTAMP:20260425T060756
CREATED:20230709T013212Z
LAST-MODIFIED:20230709T013456Z
UID:10009809-1708104600-1708106400@www.saintcatherineschool.org
SUMMARY:Stations of the Cross - St. Catherine
DESCRIPTION:
URL:https://www.saintcatherineschool.org/event/stations-of-the-cross-st-catherine
LOCATION:Saint Catherine of Alexandria\, 4532 S. 25th W. Ave.\, Tulsa\, OK\, 74107\, United States
CATEGORIES:Church of Saint Catherine,Saint Catherine School
ORGANIZER;CN="Fr. John Grant":MAILTO:fr.joh.grant@saint-catherine.org
GEO:36.0981774;-96.0216659
X-APPLE-STRUCTURED-LOCATION;VALUE=URI;X-ADDRESS=Saint Catherine of Alexandria 4532 S. 25th W. Ave. Tulsa OK 74107 United States;X-APPLE-RADIUS=500;X-TITLE=4532 S. 25th W. Ave.:geo:-96.0216659,36.0981774
END:VEVENT
BEGIN:VEVENT
DTSTART;TZID=America/Chicago:20240216T190000
DTEND;TZID=America/Chicago:20240216T200000
DTSTAMP:20260425T060756
CREATED:20230709T013340Z
LAST-MODIFIED:20230709T013511Z
UID:10009807-1708110000-1708113600@www.saintcatherineschool.org
SUMMARY:Stations of the Cross - Tonu Maria
DESCRIPTION:
URL:https://www.saintcatherineschool.org/event/stations-of-the-cross-tonu-maria-4
LOCATION:Saint Catherine of Alexandria\, 4532 S. 25th W. Ave.\, Tulsa\, OK\, 74107\, United States
CATEGORIES:Church of Saint Catherine,Saint Catherine School
ORGANIZER;CN="Fr. Robert Kim":MAILTO:fr.robert.kim@dioceseoftulsa.org
GEO:36.0981774;-96.0216659
X-APPLE-STRUCTURED-LOCATION;VALUE=URI;X-ADDRESS=Saint Catherine of Alexandria 4532 S. 25th W. Ave. Tulsa OK 74107 United States;X-APPLE-RADIUS=500;X-TITLE=4532 S. 25th W. Ave.:geo:-96.0216659,36.0981774
END:VEVENT
END:VCALENDAR