BEGIN:VCALENDAR
VERSION:2.0
PRODID:-//Saint Catherine of Alexandria School - ECPv6.15.20//NONSGML v1.0//EN
CALSCALE:GREGORIAN
METHOD:PUBLISH
X-WR-CALNAME:Saint Catherine of Alexandria School
X-ORIGINAL-URL:https://www.saintcatherineschool.org
X-WR-CALDESC:Events for Saint Catherine of Alexandria School
REFRESH-INTERVAL;VALUE=DURATION:PT1H
X-Robots-Tag:noindex
X-PUBLISHED-TTL:PT1H
BEGIN:VTIMEZONE
TZID:America/Chicago
BEGIN:DAYLIGHT
TZOFFSETFROM:-0600
TZOFFSETTO:-0500
TZNAME:CDT
DTSTART:20240310T080000
END:DAYLIGHT
BEGIN:STANDARD
TZOFFSETFROM:-0500
TZOFFSETTO:-0600
TZNAME:CST
DTSTART:20241103T070000
END:STANDARD
BEGIN:DAYLIGHT
TZOFFSETFROM:-0600
TZOFFSETTO:-0500
TZNAME:CDT
DTSTART:20250309T080000
END:DAYLIGHT
BEGIN:STANDARD
TZOFFSETFROM:-0500
TZOFFSETTO:-0600
TZNAME:CST
DTSTART:20251102T070000
END:STANDARD
BEGIN:DAYLIGHT
TZOFFSETFROM:-0600
TZOFFSETTO:-0500
TZNAME:CDT
DTSTART:20260308T080000
END:DAYLIGHT
BEGIN:STANDARD
TZOFFSETFROM:-0500
TZOFFSETTO:-0600
TZNAME:CST
DTSTART:20261101T070000
END:STANDARD
END:VTIMEZONE
BEGIN:VEVENT
DTSTART;TZID=America/Chicago:20250823T080000
DTEND;TZID=America/Chicago:20250823T170000
DTSTAMP:20260423T231619
CREATED:20250813T205447Z
LAST-MODIFIED:20250814T150622Z
UID:10013153-1755936000-1755968400@www.saintcatherineschool.org
SUMMARY:Faith Formation
DESCRIPTION:This year’s Faith Formation is at the Renaissance Hotel hosted by the Diocese of Tulsa. \nhttps://dioceseoftulsa.org/faith-formation-conference-registration-1 \n 
URL:https://www.saintcatherineschool.org/event/faith-formation-4
LOCATION:Renaissance Hotel\, 6808 S 107th E Ave\, Tulsa\, 74133\, United States
CATEGORIES:Church of Saint Catherine,Saint Catherine School
ORGANIZER;CN="Fr. Robert Kim":MAILTO:fr.robert.kim@dioceseoftulsa.org
GEO:36.0650097;-95.8578923
X-APPLE-STRUCTURED-LOCATION;VALUE=URI;X-ADDRESS=Renaissance Hotel 6808 S 107th E Ave Tulsa 74133 United States;X-APPLE-RADIUS=500;X-TITLE=6808 S 107th E Ave:geo:-95.8578923,36.0650097
END:VEVENT
BEGIN:VEVENT
DTSTART;TZID=America/Chicago:20250823T100000
DTEND;TZID=America/Chicago:20250823T110000
DTSTAMP:20260423T231619
CREATED:20250822T152741Z
LAST-MODIFIED:20250822T152741Z
UID:10013168-1755943200-1755946800@www.saintcatherineschool.org
SUMMARY:Volleyball Game - Girls Team
DESCRIPTION:
URL:https://www.saintcatherineschool.org/event/volleyball-game-girls-team
LOCATION:Marquette\, 1519 S Quincy Ave\, Tulsa\, OK\, 74120\, United States
CATEGORIES:Church of Saint Catherine,Saint Catherine School
ORGANIZER;CN="Aidan Couch":MAILTO:acouch@saint-catherine.org
GEO:36.1401305;-95.9723673
X-APPLE-STRUCTURED-LOCATION;VALUE=URI;X-ADDRESS=Marquette 1519 S Quincy Ave Tulsa OK 74120 United States;X-APPLE-RADIUS=500;X-TITLE=1519 S Quincy Ave:geo:-95.9723673,36.1401305
END:VEVENT
BEGIN:VEVENT
DTSTART;TZID=America/Chicago:20250823T170000
DTEND;TZID=America/Chicago:20250823T180000
DTSTAMP:20260423T231619
CREATED:20250814T150256Z
LAST-MODIFIED:20250814T150256Z
UID:10013160-1755968400-1755972000@www.saintcatherineschool.org
SUMMARY:Mass in English
DESCRIPTION:
URL:https://www.saintcatherineschool.org/event/mass-in-english-8
LOCATION:Saint Catherine of Alexandria\, 4532 S. 25th W. Ave.\, Tulsa\, OK\, 74107\, United States
CATEGORIES:Church of Saint Catherine,Saint Catherine School
ORGANIZER;CN="Fr. Robert Kim":MAILTO:fr.robert.kim@dioceseoftulsa.org
GEO:36.0981774;-96.0216659
X-APPLE-STRUCTURED-LOCATION;VALUE=URI;X-ADDRESS=Saint Catherine of Alexandria 4532 S. 25th W. Ave. Tulsa OK 74107 United States;X-APPLE-RADIUS=500;X-TITLE=4532 S. 25th W. Ave.:geo:-96.0216659,36.0981774
END:VEVENT
END:VCALENDAR