BEGIN:VCALENDAR
VERSION:2.0
PRODID:-//Saint Catherine of Alexandria School - ECPv6.15.20//NONSGML v1.0//EN
CALSCALE:GREGORIAN
METHOD:PUBLISH
X-ORIGINAL-URL:https://www.saintcatherineschool.org
X-WR-CALDESC:Events for Saint Catherine of Alexandria School
REFRESH-INTERVAL;VALUE=DURATION:PT1H
X-Robots-Tag:noindex
X-PUBLISHED-TTL:PT1H
BEGIN:VTIMEZONE
TZID:America/Chicago
BEGIN:DAYLIGHT
TZOFFSETFROM:-0600
TZOFFSETTO:-0500
TZNAME:CDT
DTSTART:20240310T080000
END:DAYLIGHT
BEGIN:STANDARD
TZOFFSETFROM:-0500
TZOFFSETTO:-0600
TZNAME:CST
DTSTART:20241103T070000
END:STANDARD
BEGIN:DAYLIGHT
TZOFFSETFROM:-0600
TZOFFSETTO:-0500
TZNAME:CDT
DTSTART:20250309T080000
END:DAYLIGHT
BEGIN:STANDARD
TZOFFSETFROM:-0500
TZOFFSETTO:-0600
TZNAME:CST
DTSTART:20251102T070000
END:STANDARD
BEGIN:DAYLIGHT
TZOFFSETFROM:-0600
TZOFFSETTO:-0500
TZNAME:CDT
DTSTART:20260308T080000
END:DAYLIGHT
BEGIN:STANDARD
TZOFFSETFROM:-0500
TZOFFSETTO:-0600
TZNAME:CST
DTSTART:20261101T070000
END:STANDARD
END:VTIMEZONE
BEGIN:VEVENT
DTSTART;TZID=America/Chicago:20250908T080000
DTEND;TZID=America/Chicago:20250908T090000
DTSTAMP:20260423T190239
CREATED:20250822T193326Z
LAST-MODIFIED:20250822T193326Z
UID:10013189-1757318400-1757322000@www.saintcatherineschool.org
SUMMARY:All School Mass
DESCRIPTION:
URL:https://www.saintcatherineschool.org/event/all-school-mass
LOCATION:Saint Catherine School\, 2515 W. 46th St.\, Tulsa\, OK\, 74107\, United States
CATEGORIES:Church of Saint Catherine,Saint Catherine School
ORGANIZER;CN="Fr. Robert Kim":MAILTO:fr.robert.kim@dioceseoftulsa.org
GEO:36.0981282;-96.0219361
X-APPLE-STRUCTURED-LOCATION;VALUE=URI;X-ADDRESS=Saint Catherine School 2515 W. 46th St. Tulsa OK 74107 United States;X-APPLE-RADIUS=500;X-TITLE=2515 W. 46th St.:geo:-96.0219361,36.0981282
END:VEVENT
BEGIN:VEVENT
DTSTART;TZID=America/Chicago:20250908T153000
DTEND;TZID=America/Chicago:20250908T163000
DTSTAMP:20260423T190239
CREATED:20250822T193245Z
LAST-MODIFIED:20250822T193245Z
UID:10013188-1757345400-1757349000@www.saintcatherineschool.org
SUMMARY:Choir Practice
DESCRIPTION:
URL:https://www.saintcatherineschool.org/event/choir-practice-9
LOCATION:Saint Catherine School\, 2515 W. 46th St.\, Tulsa\, OK\, 74107\, United States
CATEGORIES:Church of Saint Catherine,Saint Catherine School
ORGANIZER;CN="Kaite Guglielmo":MAILTO:katiebug22302@gmail.com
GEO:36.0981282;-96.0219361
X-APPLE-STRUCTURED-LOCATION;VALUE=URI;X-ADDRESS=Saint Catherine School 2515 W. 46th St. Tulsa OK 74107 United States;X-APPLE-RADIUS=500;X-TITLE=2515 W. 46th St.:geo:-96.0219361,36.0981282
END:VEVENT
BEGIN:VEVENT
DTSTART;TZID=America/Chicago:20250908T180000
DTEND;TZID=America/Chicago:20250908T190000
DTSTAMP:20260423T190239
CREATED:20250822T153130Z
LAST-MODIFIED:20250822T153130Z
UID:10013171-1757354400-1757358000@www.saintcatherineschool.org
SUMMARY:Volleyball Game - Girls Team
DESCRIPTION:
URL:https://www.saintcatherineschool.org/event/volleyball-game-girls-team-4
LOCATION:St. Mary’s\, 1347 E 49th Pl\, Tulsa\, OK\, 74105\, United States
CATEGORIES:Church of Saint Catherine,Saint Catherine School
ORGANIZER;CN="Aidan Couch":MAILTO:acouch@saint-catherine.org
GEO:36.0925549;-95.9735246
X-APPLE-STRUCTURED-LOCATION;VALUE=URI;X-ADDRESS=St. Mary’s 1347 E 49th Pl Tulsa OK 74105 United States;X-APPLE-RADIUS=500;X-TITLE=1347 E 49th Pl:geo:-95.9735246,36.0925549
END:VEVENT
BEGIN:VEVENT
DTSTART;TZID=America/Chicago:20250908T180000
DTEND;TZID=America/Chicago:20250908T190000
DTSTAMP:20260423T190239
CREATED:20250822T193435Z
LAST-MODIFIED:20250822T193435Z
UID:10013190-1757354400-1757358000@www.saintcatherineschool.org
SUMMARY:Girls Volleyball Game
DESCRIPTION:St. Mary
URL:https://www.saintcatherineschool.org/event/girls-volleyball-game
LOCATION:St. Mary’s\, 1347 E 49th Pl\, Tulsa\, OK\, 74105\, United States
CATEGORIES:Church of Saint Catherine,Saint Catherine School
ORGANIZER;CN="Aidan Couch":MAILTO:acouch@saint-catherine.org
GEO:36.0925549;-95.9735246
X-APPLE-STRUCTURED-LOCATION;VALUE=URI;X-ADDRESS=St. Mary’s 1347 E 49th Pl Tulsa OK 74105 United States;X-APPLE-RADIUS=500;X-TITLE=1347 E 49th Pl:geo:-95.9735246,36.0925549
END:VEVENT
END:VCALENDAR