BEGIN:VCALENDAR
VERSION:2.0
PRODID:-//Saint Catherine of Alexandria School - ECPv6.15.20//NONSGML v1.0//EN
CALSCALE:GREGORIAN
METHOD:PUBLISH
X-WR-CALNAME:Saint Catherine of Alexandria School
X-ORIGINAL-URL:https://www.saintcatherineschool.org
X-WR-CALDESC:Events for Saint Catherine of Alexandria School
REFRESH-INTERVAL;VALUE=DURATION:PT1H
X-Robots-Tag:noindex
X-PUBLISHED-TTL:PT1H
BEGIN:VTIMEZONE
TZID:America/Chicago
BEGIN:DAYLIGHT
TZOFFSETFROM:-0600
TZOFFSETTO:-0500
TZNAME:CDT
DTSTART:20250309T080000
END:DAYLIGHT
BEGIN:STANDARD
TZOFFSETFROM:-0500
TZOFFSETTO:-0600
TZNAME:CST
DTSTART:20251102T070000
END:STANDARD
BEGIN:DAYLIGHT
TZOFFSETFROM:-0600
TZOFFSETTO:-0500
TZNAME:CDT
DTSTART:20260308T080000
END:DAYLIGHT
BEGIN:STANDARD
TZOFFSETFROM:-0500
TZOFFSETTO:-0600
TZNAME:CST
DTSTART:20261101T070000
END:STANDARD
BEGIN:DAYLIGHT
TZOFFSETFROM:-0600
TZOFFSETTO:-0500
TZNAME:CDT
DTSTART:20270314T080000
END:DAYLIGHT
BEGIN:STANDARD
TZOFFSETFROM:-0500
TZOFFSETTO:-0600
TZNAME:CST
DTSTART:20271107T070000
END:STANDARD
END:VTIMEZONE
BEGIN:VEVENT
DTSTART;TZID=America/Chicago:20260408T080000
DTEND;TZID=America/Chicago:20260408T090000
DTSTAMP:20260423T081824
CREATED:20260305T183020Z
LAST-MODIFIED:20260305T183020Z
UID:10013794-1775635200-1775638800@www.saintcatherineschool.org
SUMMARY:Mass - Zomi
DESCRIPTION:
URL:https://www.saintcatherineschool.org/event/mass-zomi-55/2026-04-08
LOCATION:Saint Catherine of Alexandria\, 4532 S. 25th W. Ave.\, Tulsa\, OK\, 74107\, United States
CATEGORIES:Church of Saint Catherine,Saint Catherine School
ORGANIZER;CN="Fr. Robert Kim":MAILTO:fr.robert.kim@dioceseoftulsa.org
GEO:36.0981774;-96.0216659
X-APPLE-STRUCTURED-LOCATION;VALUE=URI;X-ADDRESS=Saint Catherine of Alexandria 4532 S. 25th W. Ave. Tulsa OK 74107 United States;X-APPLE-RADIUS=500;X-TITLE=4532 S. 25th W. Ave.:geo:-96.0216659,36.0981774
END:VEVENT
END:VCALENDAR