BEGIN:VCALENDAR
VERSION:2.0
PRODID:-//Saint Catherine of Alexandria School - ECPv6.15.20//NONSGML v1.0//EN
CALSCALE:GREGORIAN
METHOD:PUBLISH
X-ORIGINAL-URL:https://www.saintcatherineschool.org
X-WR-CALDESC:Events for Saint Catherine of Alexandria School
REFRESH-INTERVAL;VALUE=DURATION:PT1H
X-Robots-Tag:noindex
X-PUBLISHED-TTL:PT1H
BEGIN:VTIMEZONE
TZID:America/Chicago
BEGIN:DAYLIGHT
TZOFFSETFROM:-0600
TZOFFSETTO:-0500
TZNAME:CDT
DTSTART:20230312T080000
END:DAYLIGHT
BEGIN:STANDARD
TZOFFSETFROM:-0500
TZOFFSETTO:-0600
TZNAME:CST
DTSTART:20231105T070000
END:STANDARD
BEGIN:DAYLIGHT
TZOFFSETFROM:-0600
TZOFFSETTO:-0500
TZNAME:CDT
DTSTART:20240310T080000
END:DAYLIGHT
BEGIN:STANDARD
TZOFFSETFROM:-0500
TZOFFSETTO:-0600
TZNAME:CST
DTSTART:20241103T070000
END:STANDARD
BEGIN:DAYLIGHT
TZOFFSETFROM:-0600
TZOFFSETTO:-0500
TZNAME:CDT
DTSTART:20250309T080000
END:DAYLIGHT
BEGIN:STANDARD
TZOFFSETFROM:-0500
TZOFFSETTO:-0600
TZNAME:CST
DTSTART:20251102T070000
END:STANDARD
END:VTIMEZONE
BEGIN:VEVENT
DTSTART;TZID=America/Chicago:20241028T153000
DTEND;TZID=America/Chicago:20241028T163000
DTSTAMP:20260425T084846
CREATED:20240701T012146Z
LAST-MODIFIED:20240701T012146Z
UID:10011611-1730129400-1730133000@www.saintcatherineschool.org
SUMMARY:Faculty Meeting
DESCRIPTION:
URL:https://www.saintcatherineschool.org/event/faculty-meeting-52
LOCATION:Saint Catherine School\, 2515 W. 46th St.\, Tulsa\, OK\, 74107\, United States
CATEGORIES:Church of Saint Catherine,Saint Catherine School
ORGANIZER;CN="Michelle Anthamatten":MAILTO:manthamatten@saint-catherine.org
GEO:36.0981282;-96.0219361
X-APPLE-STRUCTURED-LOCATION;VALUE=URI;X-ADDRESS=Saint Catherine School 2515 W. 46th St. Tulsa OK 74107 United States;X-APPLE-RADIUS=500;X-TITLE=2515 W. 46th St.:geo:-96.0219361,36.0981282
END:VEVENT
BEGIN:VEVENT
DTSTART;TZID=America/Chicago:20241101T080000
DTEND;TZID=America/Chicago:20241101T090000
DTSTAMP:20260425T084846
CREATED:20240701T012511Z
LAST-MODIFIED:20240701T012511Z
UID:10011612-1730448000-1730451600@www.saintcatherineschool.org
SUMMARY:Mass - All Saints Day
DESCRIPTION:This will be an all school Mass.
URL:https://www.saintcatherineschool.org/event/mass-all-saints-day
LOCATION:Saint Catherine of Alexandria\, 4532 S. 25th W. Ave.\, Tulsa\, OK\, 74107\, United States
CATEGORIES:Church of Saint Catherine,Saint Catherine School
ORGANIZER;CN="Fr. Robert Kim":MAILTO:fr.robert.kim@dioceseoftulsa.org
GEO:36.0981774;-96.0216659
X-APPLE-STRUCTURED-LOCATION;VALUE=URI;X-ADDRESS=Saint Catherine of Alexandria 4532 S. 25th W. Ave. Tulsa OK 74107 United States;X-APPLE-RADIUS=500;X-TITLE=4532 S. 25th W. Ave.:geo:-96.0216659,36.0981774
END:VEVENT
BEGIN:VEVENT
DTSTART;TZID=America/Chicago:20241101T130000
DTEND;TZID=America/Chicago:20241101T140000
DTSTAMP:20260425T084846
CREATED:20241105T202844Z
LAST-MODIFIED:20241105T202844Z
UID:10011767-1730466000-1730469600@www.saintcatherineschool.org
SUMMARY:Adoration
DESCRIPTION:Today it is from 1-2 because we will be having All Saints Day parties at 2:30.
URL:https://www.saintcatherineschool.org/event/adoration-30
LOCATION:Saint Catherine of Alexandria\, 4532 S. 25th W. Ave.\, Tulsa\, OK\, 74107\, United States
CATEGORIES:Church of Saint Catherine,Saint Catherine School
ORGANIZER;CN="Fr. Robert Kim":MAILTO:fr.robert.kim@dioceseoftulsa.org
GEO:36.0981774;-96.0216659
X-APPLE-STRUCTURED-LOCATION;VALUE=URI;X-ADDRESS=Saint Catherine of Alexandria 4532 S. 25th W. Ave. Tulsa OK 74107 United States;X-APPLE-RADIUS=500;X-TITLE=4532 S. 25th W. Ave.:geo:-96.0216659,36.0981774
END:VEVENT
BEGIN:VEVENT
DTSTART;TZID=America/Chicago:20241101T143000
DTEND;TZID=America/Chicago:20241101T151500
DTSTAMP:20260425T084846
CREATED:20240701T012718Z
LAST-MODIFIED:20240701T012718Z
UID:10011614-1730471400-1730474100@www.saintcatherineschool.org
SUMMARY:All Saints Day Parties
DESCRIPTION:
URL:https://www.saintcatherineschool.org/event/all-saints-day-parties-5
LOCATION:Saint Catherine School\, 2515 W. 46th St.\, Tulsa\, OK\, 74107\, United States
CATEGORIES:Church of Saint Catherine,Saint Catherine School
ORGANIZER;CN="Michelle Anthamatten":MAILTO:manthamatten@saint-catherine.org
GEO:36.0981282;-96.0219361
X-APPLE-STRUCTURED-LOCATION;VALUE=URI;X-ADDRESS=Saint Catherine School 2515 W. 46th St. Tulsa OK 74107 United States;X-APPLE-RADIUS=500;X-TITLE=2515 W. 46th St.:geo:-96.0219361,36.0981282
END:VEVENT
BEGIN:VEVENT
DTSTART;VALUE=DATE:20241102
DTEND;VALUE=DATE:20241103
DTSTAMP:20260425T084846
CREATED:20241105T203401Z
LAST-MODIFIED:20241105T203401Z
UID:10011770-1730505600-1730591999@www.saintcatherineschool.org
SUMMARY:All Souls Day
DESCRIPTION:
URL:https://www.saintcatherineschool.org/event/all-souls-day
LOCATION:OK
CATEGORIES:Church of Saint Catherine,Saint Catherine School
END:VEVENT
BEGIN:VEVENT
DTSTART;TZID=America/Chicago:20241102T153000
DTEND;TZID=America/Chicago:20241102T170000
DTSTAMP:20260425T084846
CREATED:20180123T023113Z
LAST-MODIFIED:20201202T201345Z
UID:10005934-1730561400-1730566800@www.saintcatherineschool.org
SUMMARY:Confessions
DESCRIPTION:Fr. Grant will hear confessions from 3:30-5:00.
URL:https://www.saintcatherineschool.org/event/confessions/2024-11-02
LOCATION:Saint Catherine of Alexandria\, 4532 S. 25th W. Ave.\, Tulsa\, OK\, 74107\, United States
CATEGORIES:Church of Saint Catherine,Saint Catherine School
GEO:36.0981774;-96.0216659
X-APPLE-STRUCTURED-LOCATION;VALUE=URI;X-ADDRESS=Saint Catherine of Alexandria 4532 S. 25th W. Ave. Tulsa OK 74107 United States;X-APPLE-RADIUS=500;X-TITLE=4532 S. 25th W. Ave.:geo:-96.0216659,36.0981774
END:VEVENT
BEGIN:VEVENT
DTSTART;TZID=America/Chicago:20241102T170000
DTEND;TZID=America/Chicago:20241102T180000
DTSTAMP:20260425T084846
CREATED:20241105T211547Z
LAST-MODIFIED:20241105T211547Z
UID:10011793-1730566800-1730570400@www.saintcatherineschool.org
SUMMARY:Mass - English
DESCRIPTION:
URL:https://www.saintcatherineschool.org/event/mass-english-36
LOCATION:Saint Catherine of Alexandria\, 4532 S. 25th W. Ave.\, Tulsa\, OK\, 74107\, United States
CATEGORIES:Church of Saint Catherine,Saint Catherine School
ORGANIZER;CN="Fr. Robert Kim":MAILTO:fr.robert.kim@dioceseoftulsa.org
GEO:36.0981774;-96.0216659
X-APPLE-STRUCTURED-LOCATION;VALUE=URI;X-ADDRESS=Saint Catherine of Alexandria 4532 S. 25th W. Ave. Tulsa OK 74107 United States;X-APPLE-RADIUS=500;X-TITLE=4532 S. 25th W. Ave.:geo:-96.0216659,36.0981774
END:VEVENT
END:VCALENDAR