BEGIN:VCALENDAR
VERSION:2.0
PRODID:-//Saint Catherine of Alexandria School - ECPv6.15.20//NONSGML v1.0//EN
CALSCALE:GREGORIAN
METHOD:PUBLISH
X-WR-CALNAME:Saint Catherine of Alexandria School
X-ORIGINAL-URL:https://www.saintcatherineschool.org
X-WR-CALDESC:Events for Saint Catherine of Alexandria School
REFRESH-INTERVAL;VALUE=DURATION:PT1H
X-Robots-Tag:noindex
X-PUBLISHED-TTL:PT1H
BEGIN:VTIMEZONE
TZID:America/Chicago
BEGIN:DAYLIGHT
TZOFFSETFROM:-0600
TZOFFSETTO:-0500
TZNAME:CDT
DTSTART:20240310T080000
END:DAYLIGHT
BEGIN:STANDARD
TZOFFSETFROM:-0500
TZOFFSETTO:-0600
TZNAME:CST
DTSTART:20241103T070000
END:STANDARD
BEGIN:DAYLIGHT
TZOFFSETFROM:-0600
TZOFFSETTO:-0500
TZNAME:CDT
DTSTART:20250309T080000
END:DAYLIGHT
BEGIN:STANDARD
TZOFFSETFROM:-0500
TZOFFSETTO:-0600
TZNAME:CST
DTSTART:20251102T070000
END:STANDARD
BEGIN:DAYLIGHT
TZOFFSETFROM:-0600
TZOFFSETTO:-0500
TZNAME:CDT
DTSTART:20260308T080000
END:DAYLIGHT
BEGIN:STANDARD
TZOFFSETFROM:-0500
TZOFFSETTO:-0600
TZNAME:CST
DTSTART:20261101T070000
END:STANDARD
END:VTIMEZONE
BEGIN:VEVENT
DTSTART;TZID=America/Chicago:20250824T110000
DTEND;TZID=America/Chicago:20250824T130000
DTSTAMP:20260423T203148
CREATED:20250814T150321Z
LAST-MODIFIED:20250814T150321Z
UID:10013161-1756033200-1756040400@www.saintcatherineschool.org
SUMMARY:Mass in Zomi
DESCRIPTION:
URL:https://www.saintcatherineschool.org/event/mass-in-zomi-3
LOCATION:Saint Catherine of Alexandria\, 4532 S. 25th W. Ave.\, Tulsa\, OK\, 74107\, United States
CATEGORIES:Church of Saint Catherine,Saint Catherine School
ORGANIZER;CN="Fr. Robert Kim":MAILTO:fr.robert.kim@dioceseoftulsa.org
GEO:36.0981774;-96.0216659
X-APPLE-STRUCTURED-LOCATION;VALUE=URI;X-ADDRESS=Saint Catherine of Alexandria 4532 S. 25th W. Ave. Tulsa OK 74107 United States;X-APPLE-RADIUS=500;X-TITLE=4532 S. 25th W. Ave.:geo:-96.0216659,36.0981774
END:VEVENT
BEGIN:VEVENT
DTSTART;TZID=America/Chicago:20250825T190000
DTEND;TZID=America/Chicago:20250825T200000
DTSTAMP:20260423T203148
CREATED:20250822T152927Z
LAST-MODIFIED:20250822T152951Z
UID:10013169-1756148400-1756152000@www.saintcatherineschool.org
SUMMARY:Volleyball Game - Girls Team
DESCRIPTION:
URL:https://www.saintcatherineschool.org/event/volleyball-game-girls-team-2
LOCATION:Monte Cassino\, 2206 S. Lewis Ave.\, Tulsa\, OK\, 74114\, United States
CATEGORIES:Church of Saint Catherine,Saint Catherine School
ORGANIZER;CN="Aidan Couch":MAILTO:acouch@saint-catherine.org
GEO:36.1314173;-95.9590244
X-APPLE-STRUCTURED-LOCATION;VALUE=URI;X-ADDRESS=Monte Cassino 2206 S. Lewis Ave. Tulsa OK 74114 United States;X-APPLE-RADIUS=500;X-TITLE=2206 S. Lewis Ave.:geo:-95.9590244,36.1314173
END:VEVENT
BEGIN:VEVENT
DTSTART;TZID=America/Chicago:20250826T080000
DTEND;TZID=America/Chicago:20250826T090000
DTSTAMP:20260423T203148
CREATED:20250814T150857Z
LAST-MODIFIED:20250814T150857Z
UID:10013162-1756195200-1756198800@www.saintcatherineschool.org
SUMMARY:Mass in English
DESCRIPTION:
URL:https://www.saintcatherineschool.org/event/mass-in-english-9
LOCATION:Saint Catherine of Alexandria\, 4532 S. 25th W. Ave.\, Tulsa\, OK\, 74107\, United States
CATEGORIES:Church of Saint Catherine,Saint Catherine School
ORGANIZER;CN="Fr. Robert Kim":MAILTO:fr.robert.kim@dioceseoftulsa.org
GEO:36.0981774;-96.0216659
X-APPLE-STRUCTURED-LOCATION;VALUE=URI;X-ADDRESS=Saint Catherine of Alexandria 4532 S. 25th W. Ave. Tulsa OK 74107 United States;X-APPLE-RADIUS=500;X-TITLE=4532 S. 25th W. Ave.:geo:-96.0216659,36.0981774
END:VEVENT
BEGIN:VEVENT
DTSTART;TZID=America/Chicago:20250828T080000
DTEND;TZID=America/Chicago:20250828T090000
DTSTAMP:20260423T203148
CREATED:20250814T150923Z
LAST-MODIFIED:20250814T150923Z
UID:10013163-1756368000-1756371600@www.saintcatherineschool.org
SUMMARY:Mass in English
DESCRIPTION:
URL:https://www.saintcatherineschool.org/event/mass-in-english-10
LOCATION:Saint Catherine of Alexandria\, 4532 S. 25th W. Ave.\, Tulsa\, OK\, 74107\, United States
CATEGORIES:Church of Saint Catherine,Saint Catherine School
ORGANIZER;CN="Fr. Robert Kim":MAILTO:fr.robert.kim@dioceseoftulsa.org
GEO:36.0981774;-96.0216659
X-APPLE-STRUCTURED-LOCATION;VALUE=URI;X-ADDRESS=Saint Catherine of Alexandria 4532 S. 25th W. Ave. Tulsa OK 74107 United States;X-APPLE-RADIUS=500;X-TITLE=4532 S. 25th W. Ave.:geo:-96.0216659,36.0981774
END:VEVENT
BEGIN:VEVENT
DTSTART;TZID=America/Chicago:20250828T090000
DTEND;TZID=America/Chicago:20250828T130000
DTSTAMP:20260423T203148
CREATED:20250813T205215Z
LAST-MODIFIED:20250813T205215Z
UID:10013152-1756371600-1756386000@www.saintcatherineschool.org
SUMMARY:8th Grade to Bishop Kelley
DESCRIPTION:The 8th grade class will tour Bishop Kelley today.
URL:https://www.saintcatherineschool.org/event/8th-grade-to-bishop-kelley-2
LOCATION:Bisoph Kelley\, 3905 S Hudson Ave\, Tulsa\, 74135\, United States
CATEGORIES:Church of Saint Catherine,Saint Catherine School
ORGANIZER;CN="Michelle Anthamatten":MAILTO:manthamatten@saint-catherine.org
GEO:36.1065774;-95.9132567
X-APPLE-STRUCTURED-LOCATION;VALUE=URI;X-ADDRESS=Bisoph Kelley 3905 S Hudson Ave Tulsa 74135 United States;X-APPLE-RADIUS=500;X-TITLE=3905 S Hudson Ave:geo:-95.9132567,36.1065774
END:VEVENT
BEGIN:VEVENT
DTSTART;TZID=America/Chicago:20250828T180000
DTEND;TZID=America/Chicago:20250828T190000
DTSTAMP:20260423T203148
CREATED:20250822T154517Z
LAST-MODIFIED:20250822T154517Z
UID:10013177-1756404000-1756407600@www.saintcatherineschool.org
SUMMARY:Volleyball Game - Boys Team
DESCRIPTION:St. Pius
URL:https://www.saintcatherineschool.org/event/volleyball-game-boys-team
LOCATION:St. Pius\, 1717 S. 75th E. Ave.\, Tulsa\, OK\, 74112\, United States
CATEGORIES:Church of Saint Catherine,Saint Catherine School
ORGANIZER;CN="Aidan Couch":MAILTO:acouch@saint-catherine.org
GEO:36.1377658;-95.8926129
X-APPLE-STRUCTURED-LOCATION;VALUE=URI;X-ADDRESS=St. Pius 1717 S. 75th E. Ave. Tulsa OK 74112 United States;X-APPLE-RADIUS=500;X-TITLE=1717 S. 75th E. Ave.:geo:-95.8926129,36.1377658
END:VEVENT
BEGIN:VEVENT
DTSTART;TZID=America/Chicago:20250828T190000
DTEND;TZID=America/Chicago:20250828T200000
DTSTAMP:20260423T203148
CREATED:20250822T153017Z
LAST-MODIFIED:20250822T153017Z
UID:10013170-1756407600-1756411200@www.saintcatherineschool.org
SUMMARY:Volleyball Game - Girls Team
DESCRIPTION:
URL:https://www.saintcatherineschool.org/event/volleyball-game-girls-team-3
LOCATION:St. Pius\, 1717 S. 75th E. Ave.\, Tulsa\, OK\, 74112\, United States
CATEGORIES:Church of Saint Catherine,Saint Catherine School
ORGANIZER;CN="Aidan Couch":MAILTO:acouch@saint-catherine.org
GEO:36.1377658;-95.8926129
X-APPLE-STRUCTURED-LOCATION;VALUE=URI;X-ADDRESS=St. Pius 1717 S. 75th E. Ave. Tulsa OK 74112 United States;X-APPLE-RADIUS=500;X-TITLE=1717 S. 75th E. Ave.:geo:-95.8926129,36.1377658
END:VEVENT
BEGIN:VEVENT
DTSTART;TZID=America/Chicago:20250829T080000
DTEND;TZID=America/Chicago:20250829T090000
DTSTAMP:20260423T203148
CREATED:20250814T151011Z
LAST-MODIFIED:20250814T151011Z
UID:10013164-1756454400-1756458000@www.saintcatherineschool.org
SUMMARY:Mass in English
DESCRIPTION:
URL:https://www.saintcatherineschool.org/event/mass-in-english-11
LOCATION:Saint Catherine of Alexandria\, 4532 S. 25th W. Ave.\, Tulsa\, OK\, 74107\, United States
CATEGORIES:Church of Saint Catherine,Saint Catherine School
ORGANIZER;CN="Fr. Robert Kim":MAILTO:fr.robert.kim@dioceseoftulsa.org
GEO:36.0981774;-96.0216659
X-APPLE-STRUCTURED-LOCATION;VALUE=URI;X-ADDRESS=Saint Catherine of Alexandria 4532 S. 25th W. Ave. Tulsa OK 74107 United States;X-APPLE-RADIUS=500;X-TITLE=4532 S. 25th W. Ave.:geo:-96.0216659,36.0981774
END:VEVENT
BEGIN:VEVENT
DTSTART;TZID=America/Chicago:20250830T170000
DTEND;TZID=America/Chicago:20250830T180000
DTSTAMP:20260423T203148
CREATED:20250814T151045Z
LAST-MODIFIED:20250814T151045Z
UID:10013165-1756573200-1756576800@www.saintcatherineschool.org
SUMMARY:Mass in English
DESCRIPTION:
URL:https://www.saintcatherineschool.org/event/mass-in-english-12
LOCATION:Saint Catherine of Alexandria\, 4532 S. 25th W. Ave.\, Tulsa\, OK\, 74107\, United States
CATEGORIES:Church of Saint Catherine,Saint Catherine School
ORGANIZER;CN="Fr. Robert Kim":MAILTO:fr.robert.kim@dioceseoftulsa.org
GEO:36.0981774;-96.0216659
X-APPLE-STRUCTURED-LOCATION;VALUE=URI;X-ADDRESS=Saint Catherine of Alexandria 4532 S. 25th W. Ave. Tulsa OK 74107 United States;X-APPLE-RADIUS=500;X-TITLE=4532 S. 25th W. Ave.:geo:-96.0216659,36.0981774
END:VEVENT
END:VCALENDAR