BEGIN:VCALENDAR
VERSION:2.0
PRODID:-//Saint Catherine of Alexandria School - ECPv6.15.20//NONSGML v1.0//EN
CALSCALE:GREGORIAN
METHOD:PUBLISH
X-WR-CALNAME:Saint Catherine of Alexandria School
X-ORIGINAL-URL:https://www.saintcatherineschool.org
X-WR-CALDESC:Events for Saint Catherine of Alexandria School
REFRESH-INTERVAL;VALUE=DURATION:PT1H
X-Robots-Tag:noindex
X-PUBLISHED-TTL:PT1H
BEGIN:VTIMEZONE
TZID:America/Chicago
BEGIN:DAYLIGHT
TZOFFSETFROM:-0600
TZOFFSETTO:-0500
TZNAME:CDT
DTSTART:20240310T080000
END:DAYLIGHT
BEGIN:STANDARD
TZOFFSETFROM:-0500
TZOFFSETTO:-0600
TZNAME:CST
DTSTART:20241103T070000
END:STANDARD
BEGIN:DAYLIGHT
TZOFFSETFROM:-0600
TZOFFSETTO:-0500
TZNAME:CDT
DTSTART:20250309T080000
END:DAYLIGHT
BEGIN:STANDARD
TZOFFSETFROM:-0500
TZOFFSETTO:-0600
TZNAME:CST
DTSTART:20251102T070000
END:STANDARD
BEGIN:DAYLIGHT
TZOFFSETFROM:-0600
TZOFFSETTO:-0500
TZNAME:CDT
DTSTART:20260308T080000
END:DAYLIGHT
BEGIN:STANDARD
TZOFFSETFROM:-0500
TZOFFSETTO:-0600
TZNAME:CST
DTSTART:20261101T070000
END:STANDARD
END:VTIMEZONE
BEGIN:VEVENT
DTSTART;TZID=America/Chicago:20250921T110000
DTEND;TZID=America/Chicago:20250921T130000
DTSTAMP:20260423T190135
CREATED:20250825T133002Z
LAST-MODIFIED:20250825T133002Z
UID:10013200-1758452400-1758459600@www.saintcatherineschool.org
SUMMARY:Mass - Zomi
DESCRIPTION:
URL:https://www.saintcatherineschool.org/event/mass-zomi-23
LOCATION:Saint Catherine of Alexandria\, 4532 S. 25th W. Ave.\, Tulsa\, OK\, 74107\, United States
CATEGORIES:Church of Saint Catherine,Saint Catherine School
ORGANIZER;CN="Fr. Robert Kim":MAILTO:fr.robert.kim@dioceseoftulsa.org
GEO:36.0981774;-96.0216659
X-APPLE-STRUCTURED-LOCATION;VALUE=URI;X-ADDRESS=Saint Catherine of Alexandria 4532 S. 25th W. Ave. Tulsa OK 74107 United States;X-APPLE-RADIUS=500;X-TITLE=4532 S. 25th W. Ave.:geo:-96.0216659,36.0981774
END:VEVENT
BEGIN:VEVENT
DTSTART;TZID=America/Chicago:20250922T153000
DTEND;TZID=America/Chicago:20250922T163000
DTSTAMP:20260423T190135
CREATED:20250825T135448Z
LAST-MODIFIED:20250825T135448Z
UID:10013229-1758555000-1758558600@www.saintcatherineschool.org
SUMMARY:Choir Practice
DESCRIPTION:
URL:https://www.saintcatherineschool.org/event/choir-practice-11
LOCATION:Saint Catherine School\, 2515 W. 46th St.\, Tulsa\, OK\, 74107\, United States
CATEGORIES:Church of Saint Catherine,Saint Catherine School
ORGANIZER;CN="Kaite Guglielmo":MAILTO:katiebug22302@gmail.com
GEO:36.0981282;-96.0219361
X-APPLE-STRUCTURED-LOCATION;VALUE=URI;X-ADDRESS=Saint Catherine School 2515 W. 46th St. Tulsa OK 74107 United States;X-APPLE-RADIUS=500;X-TITLE=2515 W. 46th St.:geo:-96.0219361,36.0981282
END:VEVENT
BEGIN:VEVENT
DTSTART;TZID=America/Chicago:20250922T190000
DTEND;TZID=America/Chicago:20250922T200000
DTSTAMP:20260423T190135
CREATED:20250822T153212Z
LAST-MODIFIED:20250822T153212Z
UID:10013172-1758567600-1758571200@www.saintcatherineschool.org
SUMMARY:Volleyball Game - Girls Team
DESCRIPTION:
URL:https://www.saintcatherineschool.org/event/volleyball-game-girls-team-5
LOCATION:Cascia Hall\, 2520 S. Yorktown Ave.\, Tulsa\, OK\, 74114\, United States
CATEGORIES:Church of Saint Catherine,Saint Catherine School
ORGANIZER;CN="Aidan Couch":MAILTO:acouch@saint-catherine.org
GEO:36.127873;-95.964799
X-APPLE-STRUCTURED-LOCATION;VALUE=URI;X-ADDRESS=Cascia Hall 2520 S. Yorktown Ave. Tulsa OK 74114 United States;X-APPLE-RADIUS=500;X-TITLE=2520 S. Yorktown Ave.:geo:-95.964799,36.127873
END:VEVENT
BEGIN:VEVENT
DTSTART;TZID=America/Chicago:20250923T080000
DTEND;TZID=America/Chicago:20250923T090000
DTSTAMP:20260423T190135
CREATED:20250825T134015Z
LAST-MODIFIED:20250825T134015Z
UID:10013213-1758614400-1758618000@www.saintcatherineschool.org
SUMMARY:Mass - English
DESCRIPTION:All School Mass
URL:https://www.saintcatherineschool.org/event/mass-english-59
LOCATION:Saint Catherine of Alexandria\, 4532 S. 25th W. Ave.\, Tulsa\, OK\, 74107\, United States
CATEGORIES:Church of Saint Catherine,Saint Catherine School
ORGANIZER;CN="Fr. Robert Kim":MAILTO:fr.robert.kim@dioceseoftulsa.org
GEO:36.0981774;-96.0216659
X-APPLE-STRUCTURED-LOCATION;VALUE=URI;X-ADDRESS=Saint Catherine of Alexandria 4532 S. 25th W. Ave. Tulsa OK 74107 United States;X-APPLE-RADIUS=500;X-TITLE=4532 S. 25th W. Ave.:geo:-96.0216659,36.0981774
END:VEVENT
BEGIN:VEVENT
DTSTART;TZID=America/Chicago:20250924T080000
DTEND;TZID=America/Chicago:20250924T090000
DTSTAMP:20260423T190135
CREATED:20250825T135054Z
LAST-MODIFIED:20250825T135054Z
UID:10013227-1758700800-1758704400@www.saintcatherineschool.org
SUMMARY:Mass - Zomi
DESCRIPTION:
URL:https://www.saintcatherineschool.org/event/mass-zomi-28
LOCATION:Saint Catherine of Alexandria\, 4532 S. 25th W. Ave.\, Tulsa\, OK\, 74107\, United States
CATEGORIES:Church of Saint Catherine,Saint Catherine School
ORGANIZER;CN="Fr. Robert Kim":MAILTO:fr.robert.kim@dioceseoftulsa.org
GEO:36.0981774;-96.0216659
X-APPLE-STRUCTURED-LOCATION;VALUE=URI;X-ADDRESS=Saint Catherine of Alexandria 4532 S. 25th W. Ave. Tulsa OK 74107 United States;X-APPLE-RADIUS=500;X-TITLE=4532 S. 25th W. Ave.:geo:-96.0216659,36.0981774
END:VEVENT
BEGIN:VEVENT
DTSTART;TZID=America/Chicago:20250924T153000
DTEND;TZID=America/Chicago:20250924T170000
DTSTAMP:20260423T190135
CREATED:20250825T141712Z
LAST-MODIFIED:20250825T141712Z
UID:10013230-1758727800-1758733200@www.saintcatherineschool.org
SUMMARY:Volleyball Practice
DESCRIPTION:
URL:https://www.saintcatherineschool.org/event/volleyball-practice-24
LOCATION:Saint Catherine School\, 2515 W. 46th St.\, Tulsa\, OK\, 74107\, United States
CATEGORIES:Church of Saint Catherine,Saint Catherine School
ORGANIZER;CN="Aidan Couch":MAILTO:acouch@saint-catherine.org
GEO:36.0981282;-96.0219361
X-APPLE-STRUCTURED-LOCATION;VALUE=URI;X-ADDRESS=Saint Catherine School 2515 W. 46th St. Tulsa OK 74107 United States;X-APPLE-RADIUS=500;X-TITLE=2515 W. 46th St.:geo:-96.0219361,36.0981282
END:VEVENT
BEGIN:VEVENT
DTSTART;TZID=America/Chicago:20250925T080000
DTEND;TZID=America/Chicago:20250925T090000
DTSTAMP:20260423T190135
CREATED:20250825T134519Z
LAST-MODIFIED:20250825T134519Z
UID:10013217-1758787200-1758790800@www.saintcatherineschool.org
SUMMARY:Mass - English
DESCRIPTION:Middle School
URL:https://www.saintcatherineschool.org/event/mass-english-63
LOCATION:Saint Catherine of Alexandria\, 4532 S. 25th W. Ave.\, Tulsa\, OK\, 74107\, United States
CATEGORIES:Church of Saint Catherine,Saint Catherine School
ORGANIZER;CN="Fr. Robert Kim":MAILTO:fr.robert.kim@dioceseoftulsa.org
GEO:36.0981774;-96.0216659
X-APPLE-STRUCTURED-LOCATION;VALUE=URI;X-ADDRESS=Saint Catherine of Alexandria 4532 S. 25th W. Ave. Tulsa OK 74107 United States;X-APPLE-RADIUS=500;X-TITLE=4532 S. 25th W. Ave.:geo:-96.0216659,36.0981774
END:VEVENT
BEGIN:VEVENT
DTSTART;TZID=America/Chicago:20250925T153000
DTEND;TZID=America/Chicago:20250925T170000
DTSTAMP:20260423T190135
CREATED:20250825T141741Z
LAST-MODIFIED:20250825T141741Z
UID:10013231-1758814200-1758819600@www.saintcatherineschool.org
SUMMARY:Volleyball Practice Boys
DESCRIPTION:
URL:https://www.saintcatherineschool.org/event/volleyball-practice-boys
LOCATION:Saint Catherine School\, 2515 W. 46th St.\, Tulsa\, OK\, 74107\, United States
CATEGORIES:Church of Saint Catherine,Saint Catherine School
ORGANIZER;CN="Aidan Couch":MAILTO:acouch@saint-catherine.org
GEO:36.0981282;-96.0219361
X-APPLE-STRUCTURED-LOCATION;VALUE=URI;X-ADDRESS=Saint Catherine School 2515 W. 46th St. Tulsa OK 74107 United States;X-APPLE-RADIUS=500;X-TITLE=2515 W. 46th St.:geo:-96.0219361,36.0981282
END:VEVENT
BEGIN:VEVENT
DTSTART;TZID=America/Chicago:20250925T180000
DTEND;TZID=America/Chicago:20250925T190000
DTSTAMP:20260423T190135
CREATED:20250822T153326Z
LAST-MODIFIED:20250822T153326Z
UID:10013173-1758823200-1758826800@www.saintcatherineschool.org
SUMMARY:Volleyball Game - Girls Team
DESCRIPTION:
URL:https://www.saintcatherineschool.org/event/volleyball-game-girls-team-6
LOCATION:Monte Cassino\, 2206 S. Lewis Ave.\, Tulsa\, OK\, 74114\, United States
CATEGORIES:Church of Saint Catherine,Saint Catherine School
ORGANIZER;CN="Aidan Couch":MAILTO:acouch@saint-catherine.org
GEO:36.1314173;-95.9590244
X-APPLE-STRUCTURED-LOCATION;VALUE=URI;X-ADDRESS=Monte Cassino 2206 S. Lewis Ave. Tulsa OK 74114 United States;X-APPLE-RADIUS=500;X-TITLE=2206 S. Lewis Ave.:geo:-95.9590244,36.1314173
END:VEVENT
BEGIN:VEVENT
DTSTART;TZID=America/Chicago:20250926T080000
DTEND;TZID=America/Chicago:20250926T090000
DTSTAMP:20260423T190135
CREATED:20250825T134748Z
LAST-MODIFIED:20250825T134748Z
UID:10013222-1758873600-1758877200@www.saintcatherineschool.org
SUMMARY:Mass - English
DESCRIPTION:Elementary
URL:https://www.saintcatherineschool.org/event/mass-english-68
LOCATION:Saint Catherine of Alexandria\, 4532 S. 25th W. Ave.\, Tulsa\, OK\, 74107\, United States
CATEGORIES:Church of Saint Catherine,Saint Catherine School
ORGANIZER;CN="Fr. Robert Kim":MAILTO:fr.robert.kim@dioceseoftulsa.org
GEO:36.0981774;-96.0216659
X-APPLE-STRUCTURED-LOCATION;VALUE=URI;X-ADDRESS=Saint Catherine of Alexandria 4532 S. 25th W. Ave. Tulsa OK 74107 United States;X-APPLE-RADIUS=500;X-TITLE=4532 S. 25th W. Ave.:geo:-96.0216659,36.0981774
END:VEVENT
BEGIN:VEVENT
DTSTART;TZID=America/Chicago:20250926T080000
DTEND;TZID=America/Chicago:20250926T110000
DTSTAMP:20260423T190135
CREATED:20250825T141814Z
LAST-MODIFIED:20250825T141814Z
UID:10013232-1758873600-1758884400@www.saintcatherineschool.org
SUMMARY:TU Hearing
DESCRIPTION:
URL:https://www.saintcatherineschool.org/event/tu-hearing
LOCATION:Saint Catherine School\, 2515 W. 46th St.\, Tulsa\, OK\, 74107\, United States
CATEGORIES:Church of Saint Catherine,Saint Catherine School
ORGANIZER;CN="Michelle Anthamatten":MAILTO:manthamatten@saint-catherine.org
GEO:36.0981282;-96.0219361
X-APPLE-STRUCTURED-LOCATION;VALUE=URI;X-ADDRESS=Saint Catherine School 2515 W. 46th St. Tulsa OK 74107 United States;X-APPLE-RADIUS=500;X-TITLE=2515 W. 46th St.:geo:-96.0219361,36.0981282
END:VEVENT
BEGIN:VEVENT
DTSTART;VALUE=DATE:20250927
DTEND;VALUE=DATE:20250928
DTSTAMP:20260423T190135
CREATED:20250825T142025Z
LAST-MODIFIED:20250825T142041Z
UID:10013235-1758931200-1759017599@www.saintcatherineschool.org
SUMMARY:Celebration of the Dedication of St. Catherine Church
DESCRIPTION:
URL:https://www.saintcatherineschool.org/event/celebration-of-the-dedication-of-st-catherine-church
LOCATION:Saint Catherine of Alexandria\, 4532 S. 25th W. Ave.\, Tulsa\, OK\, 74107\, United States
CATEGORIES:Church of Saint Catherine,Saint Catherine School
ORGANIZER;CN="Fr. Robert Kim":MAILTO:fr.robert.kim@dioceseoftulsa.org
GEO:36.0981774;-96.0216659
X-APPLE-STRUCTURED-LOCATION;VALUE=URI;X-ADDRESS=Saint Catherine of Alexandria 4532 S. 25th W. Ave. Tulsa OK 74107 United States;X-APPLE-RADIUS=500;X-TITLE=4532 S. 25th W. Ave.:geo:-96.0216659,36.0981774
END:VEVENT
BEGIN:VEVENT
DTSTART;TZID=America/Chicago:20250927T153000
DTEND;TZID=America/Chicago:20250927T163000
DTSTAMP:20260423T190135
CREATED:20250825T133308Z
LAST-MODIFIED:20250825T133308Z
UID:10013205-1758987000-1758990600@www.saintcatherineschool.org
SUMMARY:Adoration and Confession
DESCRIPTION:
URL:https://www.saintcatherineschool.org/event/adoration-and-confession-4
LOCATION:Saint Catherine of Alexandria\, 4532 S. 25th W. Ave.\, Tulsa\, OK\, 74107\, United States
CATEGORIES:Church of Saint Catherine,Saint Catherine School
ORGANIZER;CN="Fr. Robert Kim":MAILTO:fr.robert.kim@dioceseoftulsa.org
GEO:36.0981774;-96.0216659
X-APPLE-STRUCTURED-LOCATION;VALUE=URI;X-ADDRESS=Saint Catherine of Alexandria 4532 S. 25th W. Ave. Tulsa OK 74107 United States;X-APPLE-RADIUS=500;X-TITLE=4532 S. 25th W. Ave.:geo:-96.0216659,36.0981774
END:VEVENT
BEGIN:VEVENT
DTSTART;TZID=America/Chicago:20250927T170000
DTEND;TZID=America/Chicago:20250927T180000
DTSTAMP:20260423T190135
CREATED:20250825T133531Z
LAST-MODIFIED:20250825T133531Z
UID:10013209-1758992400-1758996000@www.saintcatherineschool.org
SUMMARY:Mass - English
DESCRIPTION:
URL:https://www.saintcatherineschool.org/event/mass-english-55
LOCATION:Saint Catherine of Alexandria\, 4532 S. 25th W. Ave.\, Tulsa\, OK\, 74107\, United States
CATEGORIES:Church of Saint Catherine,Saint Catherine School
ORGANIZER;CN="Fr. Robert Kim":MAILTO:fr.robert.kim@dioceseoftulsa.org
GEO:36.0981774;-96.0216659
X-APPLE-STRUCTURED-LOCATION;VALUE=URI;X-ADDRESS=Saint Catherine of Alexandria 4532 S. 25th W. Ave. Tulsa OK 74107 United States;X-APPLE-RADIUS=500;X-TITLE=4532 S. 25th W. Ave.:geo:-96.0216659,36.0981774
END:VEVENT
END:VCALENDAR