BEGIN:VCALENDAR
VERSION:2.0
PRODID:-//Saint Catherine of Alexandria School - ECPv6.15.20//NONSGML v1.0//EN
CALSCALE:GREGORIAN
METHOD:PUBLISH
X-ORIGINAL-URL:https://www.saintcatherineschool.org
X-WR-CALDESC:Events for Saint Catherine of Alexandria School
REFRESH-INTERVAL;VALUE=DURATION:PT1H
X-Robots-Tag:noindex
X-PUBLISHED-TTL:PT1H
BEGIN:VTIMEZONE
TZID:America/Chicago
BEGIN:DAYLIGHT
TZOFFSETFROM:-0600
TZOFFSETTO:-0500
TZNAME:CDT
DTSTART:20240310T080000
END:DAYLIGHT
BEGIN:STANDARD
TZOFFSETFROM:-0500
TZOFFSETTO:-0600
TZNAME:CST
DTSTART:20241103T070000
END:STANDARD
BEGIN:DAYLIGHT
TZOFFSETFROM:-0600
TZOFFSETTO:-0500
TZNAME:CDT
DTSTART:20250309T080000
END:DAYLIGHT
BEGIN:STANDARD
TZOFFSETFROM:-0500
TZOFFSETTO:-0600
TZNAME:CST
DTSTART:20251102T070000
END:STANDARD
BEGIN:DAYLIGHT
TZOFFSETFROM:-0600
TZOFFSETTO:-0500
TZNAME:CDT
DTSTART:20260308T080000
END:DAYLIGHT
BEGIN:STANDARD
TZOFFSETFROM:-0500
TZOFFSETTO:-0600
TZNAME:CST
DTSTART:20261101T070000
END:STANDARD
END:VTIMEZONE
BEGIN:VEVENT
DTSTART;TZID=America/Chicago:20251019T110000
DTEND;TZID=America/Chicago:20251019T130000
DTSTAMP:20260423T190410
CREATED:20250825T153726Z
LAST-MODIFIED:20250825T153726Z
UID:10013279-1760871600-1760878800@www.saintcatherineschool.org
SUMMARY:Mass - Zomi
DESCRIPTION:
URL:https://www.saintcatherineschool.org/event/mass-zomi-36
LOCATION:Saint Catherine of Alexandria\, 4532 S. 25th W. Ave.\, Tulsa\, OK\, 74107\, United States
CATEGORIES:Church of Saint Catherine,Saint Catherine School
ORGANIZER;CN="Fr. Robert Kim":MAILTO:fr.robert.kim@dioceseoftulsa.org
GEO:36.0981774;-96.0216659
X-APPLE-STRUCTURED-LOCATION;VALUE=URI;X-ADDRESS=Saint Catherine of Alexandria 4532 S. 25th W. Ave. Tulsa OK 74107 United States;X-APPLE-RADIUS=500;X-TITLE=4532 S. 25th W. Ave.:geo:-96.0216659,36.0981774
END:VEVENT
BEGIN:VEVENT
DTSTART;TZID=America/Chicago:20251020T153000
DTEND;TZID=America/Chicago:20251020T163000
DTSTAMP:20260423T190410
CREATED:20250825T142700Z
LAST-MODIFIED:20250825T142700Z
UID:10013242-1760974200-1760977800@www.saintcatherineschool.org
SUMMARY:Choir Practice
DESCRIPTION:
URL:https://www.saintcatherineschool.org/event/choir-practice-14
LOCATION:Saint Catherine School\, 2515 W. 46th St.\, Tulsa\, OK\, 74107\, United States
CATEGORIES:Church of Saint Catherine,Saint Catherine School
ORGANIZER;CN="Kaite Guglielmo":MAILTO:katiebug22302@gmail.com
GEO:36.0981282;-96.0219361
X-APPLE-STRUCTURED-LOCATION;VALUE=URI;X-ADDRESS=Saint Catherine School 2515 W. 46th St. Tulsa OK 74107 United States;X-APPLE-RADIUS=500;X-TITLE=2515 W. 46th St.:geo:-96.0219361,36.0981282
END:VEVENT
BEGIN:VEVENT
DTSTART;TZID=America/Chicago:20251020T190000
DTEND;TZID=America/Chicago:20251020T200000
DTSTAMP:20260423T190410
CREATED:20250822T153522Z
LAST-MODIFIED:20250822T154015Z
UID:10013175-1760986800-1760990400@www.saintcatherineschool.org
SUMMARY:Volleyball Game - Girls Team
DESCRIPTION:All Saints
URL:https://www.saintcatherineschool.org/event/volleyball-game-girls-team-8
LOCATION:All Saints\, 299 S. 9th St.\, Broken Arrow\, OK\, 74012\, United States
CATEGORIES:Church of Saint Catherine,Saint Catherine School
ORGANIZER;CN="Aidan Couch":MAILTO:acouch@saint-catherine.org
GEO:36.0507831;-95.7789131
X-APPLE-STRUCTURED-LOCATION;VALUE=URI;X-ADDRESS=All Saints 299 S. 9th St. Broken Arrow OK 74012 United States;X-APPLE-RADIUS=500;X-TITLE=299 S. 9th St.:geo:-95.7789131,36.0507831
END:VEVENT
BEGIN:VEVENT
DTSTART;TZID=America/Chicago:20251021T080000
DTEND;TZID=America/Chicago:20251021T090000
DTSTAMP:20260423T190410
CREATED:20250825T150115Z
LAST-MODIFIED:20250825T150115Z
UID:10013258-1761033600-1761037200@www.saintcatherineschool.org
SUMMARY:Mass - English
DESCRIPTION:All School Mass
URL:https://www.saintcatherineschool.org/event/mass-english-77
LOCATION:Saint Catherine of Alexandria\, 4532 S. 25th W. Ave.\, Tulsa\, OK\, 74107\, United States
CATEGORIES:Church of Saint Catherine,Saint Catherine School
ORGANIZER;CN="Fr. Robert Kim":MAILTO:fr.robert.kim@dioceseoftulsa.org
GEO:36.0981774;-96.0216659
X-APPLE-STRUCTURED-LOCATION;VALUE=URI;X-ADDRESS=Saint Catherine of Alexandria 4532 S. 25th W. Ave. Tulsa OK 74107 United States;X-APPLE-RADIUS=500;X-TITLE=4532 S. 25th W. Ave.:geo:-96.0216659,36.0981774
END:VEVENT
BEGIN:VEVENT
DTSTART;TZID=America/Chicago:20251022T080000
DTEND;TZID=America/Chicago:20251022T090000
DTSTAMP:20260423T190410
CREATED:20250825T150150Z
LAST-MODIFIED:20250825T150150Z
UID:10013259-1761120000-1761123600@www.saintcatherineschool.org
SUMMARY:Mass - Zomi
DESCRIPTION:
URL:https://www.saintcatherineschool.org/event/mass-zomi-32
LOCATION:Saint Catherine of Alexandria\, 4532 S. 25th W. Ave.\, Tulsa\, OK\, 74107\, United States
CATEGORIES:Church of Saint Catherine,Saint Catherine School
ORGANIZER;CN="Fr. Robert Kim":MAILTO:fr.robert.kim@dioceseoftulsa.org
GEO:36.0981774;-96.0216659
X-APPLE-STRUCTURED-LOCATION;VALUE=URI;X-ADDRESS=Saint Catherine of Alexandria 4532 S. 25th W. Ave. Tulsa OK 74107 United States;X-APPLE-RADIUS=500;X-TITLE=4532 S. 25th W. Ave.:geo:-96.0216659,36.0981774
END:VEVENT
BEGIN:VEVENT
DTSTART;TZID=America/Chicago:20251022T153000
DTEND;TZID=America/Chicago:20251022T170000
DTSTAMP:20260423T190410
CREATED:20250825T152404Z
LAST-MODIFIED:20250825T152404Z
UID:10013273-1761147000-1761152400@www.saintcatherineschool.org
SUMMARY:Volleyball Practice
DESCRIPTION:
URL:https://www.saintcatherineschool.org/event/volleyball-practice-28
LOCATION:Saint Catherine School\, 2515 W. 46th St.\, Tulsa\, OK\, 74107\, United States
CATEGORIES:Church of Saint Catherine,Saint Catherine School
ORGANIZER;CN="Aidan Couch":MAILTO:acouch@saint-catherine.org
GEO:36.0981282;-96.0219361
X-APPLE-STRUCTURED-LOCATION;VALUE=URI;X-ADDRESS=Saint Catherine School 2515 W. 46th St. Tulsa OK 74107 United States;X-APPLE-RADIUS=500;X-TITLE=2515 W. 46th St.:geo:-96.0219361,36.0981282
END:VEVENT
BEGIN:VEVENT
DTSTART;TZID=America/Chicago:20251023T080000
DTEND;TZID=America/Chicago:20251023T090000
DTSTAMP:20260423T190410
CREATED:20250825T150459Z
LAST-MODIFIED:20250825T150459Z
UID:10013260-1761206400-1761210000@www.saintcatherineschool.org
SUMMARY:Mass - English
DESCRIPTION:Middle School
URL:https://www.saintcatherineschool.org/event/mass-english-78
LOCATION:Saint Catherine of Alexandria\, 4532 S. 25th W. Ave.\, Tulsa\, OK\, 74107\, United States
CATEGORIES:Church of Saint Catherine,Saint Catherine School
ORGANIZER;CN="Fr. Robert Kim":MAILTO:fr.robert.kim@dioceseoftulsa.org
GEO:36.0981774;-96.0216659
X-APPLE-STRUCTURED-LOCATION;VALUE=URI;X-ADDRESS=Saint Catherine of Alexandria 4532 S. 25th W. Ave. Tulsa OK 74107 United States;X-APPLE-RADIUS=500;X-TITLE=4532 S. 25th W. Ave.:geo:-96.0216659,36.0981774
END:VEVENT
BEGIN:VEVENT
DTSTART;TZID=America/Chicago:20251023T180000
DTEND;TZID=America/Chicago:20251023T180000
DTSTAMP:20260423T190410
CREATED:20250822T153731Z
LAST-MODIFIED:20250822T154022Z
UID:10013176-1761242400-1761242400@www.saintcatherineschool.org
SUMMARY:Volleyball Game - Girls Team
DESCRIPTION:St. Pius
URL:https://www.saintcatherineschool.org/event/volleyball-game-girls-team-9
LOCATION:St. Pius\, 1717 S. 75th E. Ave.\, Tulsa\, OK\, 74112\, United States
CATEGORIES:Church of Saint Catherine,Saint Catherine School
ORGANIZER;CN="Aidan Couch":MAILTO:acouch@saint-catherine.org
GEO:36.1377658;-95.8926129
X-APPLE-STRUCTURED-LOCATION;VALUE=URI;X-ADDRESS=St. Pius 1717 S. 75th E. Ave. Tulsa OK 74112 United States;X-APPLE-RADIUS=500;X-TITLE=1717 S. 75th E. Ave.:geo:-95.8926129,36.1377658
END:VEVENT
BEGIN:VEVENT
DTSTART;TZID=America/Chicago:20251023T180000
DTEND;TZID=America/Chicago:20251023T200000
DTSTAMP:20260423T190410
CREATED:20250825T150733Z
LAST-MODIFIED:20250825T150733Z
UID:10013262-1761242400-1761249600@www.saintcatherineschool.org
SUMMARY:Friends of Catholic Education Dinner
DESCRIPTION:Our school choir will be singing for this event.
URL:https://www.saintcatherineschool.org/event/friends-of-catholic-education-dinner-2
LOCATION:Saint Catherine School\, 2515 W. 46th St.\, Tulsa\, OK\, 74107\, United States
CATEGORIES:Church of Saint Catherine,Saint Catherine School
ORGANIZER;CN="Michelle Anthamatten":MAILTO:manthamatten@saint-catherine.org
GEO:36.0981282;-96.0219361
X-APPLE-STRUCTURED-LOCATION;VALUE=URI;X-ADDRESS=Saint Catherine School 2515 W. 46th St. Tulsa OK 74107 United States;X-APPLE-RADIUS=500;X-TITLE=2515 W. 46th St.:geo:-96.0219361,36.0981282
END:VEVENT
BEGIN:VEVENT
DTSTART;TZID=America/Chicago:20251023T190000
DTEND;TZID=America/Chicago:20251023T200000
DTSTAMP:20260423T190410
CREATED:20250822T155221Z
LAST-MODIFIED:20250822T155221Z
UID:10013182-1761246000-1761249600@www.saintcatherineschool.org
SUMMARY:Volleyball Game - Boys Team
DESCRIPTION:Monte Cassino
URL:https://www.saintcatherineschool.org/event/volleyball-game-boys-team-6
LOCATION:Monte Cassino\, 2206 S. Lewis Ave.\, Tulsa\, OK\, 74114\, United States
CATEGORIES:Church of Saint Catherine,Saint Catherine School
ORGANIZER;CN="Aidan Couch":MAILTO:acouch@saint-catherine.org
GEO:36.1314173;-95.9590244
X-APPLE-STRUCTURED-LOCATION;VALUE=URI;X-ADDRESS=Monte Cassino 2206 S. Lewis Ave. Tulsa OK 74114 United States;X-APPLE-RADIUS=500;X-TITLE=2206 S. Lewis Ave.:geo:-95.9590244,36.1314173
END:VEVENT
BEGIN:VEVENT
DTSTART;TZID=America/Chicago:20251024T080000
DTEND;TZID=America/Chicago:20251024T090000
DTSTAMP:20260423T190410
CREATED:20250825T150528Z
LAST-MODIFIED:20250825T150528Z
UID:10013261-1761292800-1761296400@www.saintcatherineschool.org
SUMMARY:Mass - English
DESCRIPTION:Elementary
URL:https://www.saintcatherineschool.org/event/mass-english-79
LOCATION:Saint Catherine of Alexandria\, 4532 S. 25th W. Ave.\, Tulsa\, OK\, 74107\, United States
CATEGORIES:Church of Saint Catherine,Saint Catherine School
ORGANIZER;CN="Fr. Robert Kim":MAILTO:fr.robert.kim@dioceseoftulsa.org
GEO:36.0981774;-96.0216659
X-APPLE-STRUCTURED-LOCATION;VALUE=URI;X-ADDRESS=Saint Catherine of Alexandria 4532 S. 25th W. Ave. Tulsa OK 74107 United States;X-APPLE-RADIUS=500;X-TITLE=4532 S. 25th W. Ave.:geo:-96.0216659,36.0981774
END:VEVENT
BEGIN:VEVENT
DTSTART;TZID=America/Chicago:20251025T153000
DTEND;TZID=America/Chicago:20251025T163000
DTSTAMP:20260423T190410
CREATED:20250825T155420Z
LAST-MODIFIED:20250825T155420Z
UID:10013289-1761406200-1761409800@www.saintcatherineschool.org
SUMMARY:Adoration and Confessions
DESCRIPTION:
URL:https://www.saintcatherineschool.org/event/adoration-and-confessions-4
LOCATION:Saint Catherine of Alexandria\, 4532 S. 25th W. Ave.\, Tulsa\, OK\, 74107\, United States
CATEGORIES:Church of Saint Catherine,Saint Catherine School
ORGANIZER;CN="Fr. Robert Kim":MAILTO:fr.robert.kim@dioceseoftulsa.org
GEO:36.0981774;-96.0216659
X-APPLE-STRUCTURED-LOCATION;VALUE=URI;X-ADDRESS=Saint Catherine of Alexandria 4532 S. 25th W. Ave. Tulsa OK 74107 United States;X-APPLE-RADIUS=500;X-TITLE=4532 S. 25th W. Ave.:geo:-96.0216659,36.0981774
END:VEVENT
BEGIN:VEVENT
DTSTART;TZID=America/Chicago:20251025T170000
DTEND;TZID=America/Chicago:20251025T180000
DTSTAMP:20260423T190410
CREATED:20250825T155204Z
LAST-MODIFIED:20250825T155204Z
UID:10013285-1761411600-1761415200@www.saintcatherineschool.org
SUMMARY:Mass - English
DESCRIPTION:
URL:https://www.saintcatherineschool.org/event/mass-english-85
LOCATION:Saint Catherine of Alexandria\, 4532 S. 25th W. Ave.\, Tulsa\, OK\, 74107\, United States
CATEGORIES:Church of Saint Catherine,Saint Catherine School
ORGANIZER;CN="Fr. Robert Kim":MAILTO:fr.robert.kim@dioceseoftulsa.org
GEO:36.0981774;-96.0216659
X-APPLE-STRUCTURED-LOCATION;VALUE=URI;X-ADDRESS=Saint Catherine of Alexandria 4532 S. 25th W. Ave. Tulsa OK 74107 United States;X-APPLE-RADIUS=500;X-TITLE=4532 S. 25th W. Ave.:geo:-96.0216659,36.0981774
END:VEVENT
END:VCALENDAR