BEGIN:VCALENDAR
VERSION:2.0
PRODID:-//Saint Catherine of Alexandria School - ECPv6.15.20//NONSGML v1.0//EN
CALSCALE:GREGORIAN
METHOD:PUBLISH
X-ORIGINAL-URL:https://www.saintcatherineschool.org
X-WR-CALDESC:Events for Saint Catherine of Alexandria School
REFRESH-INTERVAL;VALUE=DURATION:PT1H
X-Robots-Tag:noindex
X-PUBLISHED-TTL:PT1H
BEGIN:VTIMEZONE
TZID:America/Chicago
BEGIN:DAYLIGHT
TZOFFSETFROM:-0600
TZOFFSETTO:-0500
TZNAME:CDT
DTSTART:20230312T080000
END:DAYLIGHT
BEGIN:STANDARD
TZOFFSETFROM:-0500
TZOFFSETTO:-0600
TZNAME:CST
DTSTART:20231105T070000
END:STANDARD
BEGIN:DAYLIGHT
TZOFFSETFROM:-0600
TZOFFSETTO:-0500
TZNAME:CDT
DTSTART:20240310T080000
END:DAYLIGHT
BEGIN:STANDARD
TZOFFSETFROM:-0500
TZOFFSETTO:-0600
TZNAME:CST
DTSTART:20241103T070000
END:STANDARD
BEGIN:DAYLIGHT
TZOFFSETFROM:-0600
TZOFFSETTO:-0500
TZNAME:CDT
DTSTART:20250309T080000
END:DAYLIGHT
BEGIN:STANDARD
TZOFFSETFROM:-0500
TZOFFSETTO:-0600
TZNAME:CST
DTSTART:20251102T070000
END:STANDARD
END:VTIMEZONE
BEGIN:VEVENT
DTSTART;TZID=America/Chicago:20240924T153000
DTEND;TZID=America/Chicago:20240924T163000
DTSTAMP:20260425T061814
CREATED:20240913T170628Z
LAST-MODIFIED:20240913T170628Z
UID:10011748-1727191800-1727195400@www.saintcatherineschool.org
SUMMARY:Red and Blue Soccer Practice
DESCRIPTION:
URL:https://www.saintcatherineschool.org/event/red-and-blue-soccer-practice
LOCATION:Saint Catherine School\, 2515 W. 46th St.\, Tulsa\, OK\, 74107\, United States
CATEGORIES:Church of Saint Catherine,Saint Catherine School
ORGANIZER;CN="Sam Naab":MAILTO:snaab@saint-catherine.org
GEO:36.0981282;-96.0219361
X-APPLE-STRUCTURED-LOCATION;VALUE=URI;X-ADDRESS=Saint Catherine School 2515 W. 46th St. Tulsa OK 74107 United States;X-APPLE-RADIUS=500;X-TITLE=2515 W. 46th St.:geo:-96.0219361,36.0981282
END:VEVENT
BEGIN:VEVENT
DTSTART;TZID=America/Chicago:20240924T153000
DTEND;TZID=America/Chicago:20240924T170000
DTSTAMP:20260425T061814
CREATED:20240913T170703Z
LAST-MODIFIED:20240913T170703Z
UID:10011749-1727191800-1727197200@www.saintcatherineschool.org
SUMMARY:Volleyball Practice
DESCRIPTION:
URL:https://www.saintcatherineschool.org/event/volleyball-practice-14
LOCATION:Saint Catherine School\, 2515 W. 46th St.\, Tulsa\, OK\, 74107\, United States
CATEGORIES:Church of Saint Catherine,Saint Catherine School
ORGANIZER;CN="Sam Naab":MAILTO:snaab@saint-catherine.org
GEO:36.0981282;-96.0219361
X-APPLE-STRUCTURED-LOCATION;VALUE=URI;X-ADDRESS=Saint Catherine School 2515 W. 46th St. Tulsa OK 74107 United States;X-APPLE-RADIUS=500;X-TITLE=2515 W. 46th St.:geo:-96.0219361,36.0981282
END:VEVENT
BEGIN:VEVENT
DTSTART;TZID=America/Chicago:20240925T080000
DTEND;TZID=America/Chicago:20240925T090000
DTSTAMP:20260425T061814
CREATED:20240913T170414Z
LAST-MODIFIED:20240913T170414Z
UID:10011745-1727251200-1727254800@www.saintcatherineschool.org
SUMMARY:Mass - Zomi
DESCRIPTION:
URL:https://www.saintcatherineschool.org/event/mass-zomi-9
LOCATION:Saint Catherine School\, 2515 W. 46th St.\, Tulsa\, OK\, 74107\, United States
CATEGORIES:Church of Saint Catherine,Saint Catherine School
ORGANIZER;CN="Fr. Robert Kim":MAILTO:fr.robert.kim@dioceseoftulsa.org
GEO:36.0981282;-96.0219361
X-APPLE-STRUCTURED-LOCATION;VALUE=URI;X-ADDRESS=Saint Catherine School 2515 W. 46th St. Tulsa OK 74107 United States;X-APPLE-RADIUS=500;X-TITLE=2515 W. 46th St.:geo:-96.0219361,36.0981282
END:VEVENT
BEGIN:VEVENT
DTSTART;TZID=America/Chicago:20240925T153000
DTEND;TZID=America/Chicago:20240925T170000
DTSTAMP:20260425T061814
CREATED:20240913T171258Z
LAST-MODIFIED:20240913T171258Z
UID:10011751-1727278200-1727283600@www.saintcatherineschool.org
SUMMARY:Volleyball Practice
DESCRIPTION:
URL:https://www.saintcatherineschool.org/event/volleyball-practice-15
LOCATION:Saint Catherine School\, 2515 W. 46th St.\, Tulsa\, OK\, 74107\, United States
CATEGORIES:Church of Saint Catherine,Saint Catherine School
ORGANIZER;CN="Sam Naab":MAILTO:snaab@saint-catherine.org
GEO:36.0981282;-96.0219361
X-APPLE-STRUCTURED-LOCATION;VALUE=URI;X-ADDRESS=Saint Catherine School 2515 W. 46th St. Tulsa OK 74107 United States;X-APPLE-RADIUS=500;X-TITLE=2515 W. 46th St.:geo:-96.0219361,36.0981282
END:VEVENT
BEGIN:VEVENT
DTSTART;TZID=America/Chicago:20240925T180000
DTEND;TZID=America/Chicago:20240925T200000
DTSTAMP:20260425T061814
CREATED:20240913T171424Z
LAST-MODIFIED:20240913T171424Z
UID:10011752-1727287200-1727294400@www.saintcatherineschool.org
SUMMARY:BK and Cascia Hall Parent Night
DESCRIPTION:
URL:https://www.saintcatherineschool.org/event/bk-and-cascia-hall-parent-night
LOCATION:Saint Catherine School\, 2515 W. 46th St.\, Tulsa\, OK\, 74107\, United States
CATEGORIES:Church of Saint Catherine,Saint Catherine School
ORGANIZER;CN="Sam Naab":MAILTO:snaab@saint-catherine.org
GEO:36.0981282;-96.0219361
X-APPLE-STRUCTURED-LOCATION;VALUE=URI;X-ADDRESS=Saint Catherine School 2515 W. 46th St. Tulsa OK 74107 United States;X-APPLE-RADIUS=500;X-TITLE=2515 W. 46th St.:geo:-96.0219361,36.0981282
END:VEVENT
BEGIN:VEVENT
DTSTART;TZID=America/Chicago:20240926T080000
DTEND;TZID=America/Chicago:20240926T090000
DTSTAMP:20260425T061814
CREATED:20240913T170447Z
LAST-MODIFIED:20240913T170447Z
UID:10011746-1727337600-1727341200@www.saintcatherineschool.org
SUMMARY:Mass - English
DESCRIPTION:
URL:https://www.saintcatherineschool.org/event/mass-english-18
LOCATION:Saint Catherine School\, 2515 W. 46th St.\, Tulsa\, OK\, 74107\, United States
CATEGORIES:Church of Saint Catherine,Saint Catherine School
ORGANIZER;CN="Fr. Robert Kim":MAILTO:fr.robert.kim@dioceseoftulsa.org
GEO:36.0981282;-96.0219361
X-APPLE-STRUCTURED-LOCATION;VALUE=URI;X-ADDRESS=Saint Catherine School 2515 W. 46th St. Tulsa OK 74107 United States;X-APPLE-RADIUS=500;X-TITLE=2515 W. 46th St.:geo:-96.0219361,36.0981282
END:VEVENT
BEGIN:VEVENT
DTSTART;TZID=America/Chicago:20240926T153000
DTEND;TZID=America/Chicago:20240926T170000
DTSTAMP:20260425T061814
CREATED:20240913T171450Z
LAST-MODIFIED:20240913T171450Z
UID:10011753-1727364600-1727370000@www.saintcatherineschool.org
SUMMARY:Lego Club
DESCRIPTION:
URL:https://www.saintcatherineschool.org/event/lego-club-6
LOCATION:Saint Catherine School\, 2515 W. 46th St.\, Tulsa\, OK\, 74107\, United States
CATEGORIES:Church of Saint Catherine,Saint Catherine School
ORGANIZER;CN="Andrea Warner":MAILTO:andrea.warner.mail@gmail.com
GEO:36.0981282;-96.0219361
X-APPLE-STRUCTURED-LOCATION;VALUE=URI;X-ADDRESS=Saint Catherine School 2515 W. 46th St. Tulsa OK 74107 United States;X-APPLE-RADIUS=500;X-TITLE=2515 W. 46th St.:geo:-96.0219361,36.0981282
END:VEVENT
BEGIN:VEVENT
DTSTART;TZID=America/Chicago:20240926T190000
DTEND;TZID=America/Chicago:20240926T200000
DTSTAMP:20260425T061814
CREATED:20240913T171528Z
LAST-MODIFIED:20240913T171528Z
UID:10011754-1727377200-1727380800@www.saintcatherineschool.org
SUMMARY:Volleyball Game
DESCRIPTION:
URL:https://www.saintcatherineschool.org/event/volleyball-game-26
LOCATION:St. Pius\, 1717 S. 75th E. Ave.\, Tulsa\, OK\, 74112\, United States
CATEGORIES:Church of Saint Catherine,Saint Catherine School
ORGANIZER;CN="Sam Naab":MAILTO:snaab@saint-catherine.org
GEO:36.1377658;-95.8926129
X-APPLE-STRUCTURED-LOCATION;VALUE=URI;X-ADDRESS=St. Pius 1717 S. 75th E. Ave. Tulsa OK 74112 United States;X-APPLE-RADIUS=500;X-TITLE=1717 S. 75th E. Ave.:geo:-95.8926129,36.1377658
END:VEVENT
BEGIN:VEVENT
DTSTART;VALUE=DATE:20240927
DTEND;VALUE=DATE:20240928
DTSTAMP:20260425T061814
CREATED:20240701T010601Z
LAST-MODIFIED:20240701T010601Z
UID:10011598-1727395200-1727481599@www.saintcatherineschool.org
SUMMARY:Dedication of St. Catherine Church
DESCRIPTION:
URL:https://www.saintcatherineschool.org/event/dedication-of-st-catherine-church
LOCATION:Saint Catherine of Alexandria\, 4532 S. 25th W. Ave.\, Tulsa\, OK\, 74107\, United States
CATEGORIES:Church of Saint Catherine,Saint Catherine School
ORGANIZER;CN="Fr. Robert Kim":MAILTO:fr.robert.kim@dioceseoftulsa.org
GEO:36.0981774;-96.0216659
X-APPLE-STRUCTURED-LOCATION;VALUE=URI;X-ADDRESS=Saint Catherine of Alexandria 4532 S. 25th W. Ave. Tulsa OK 74107 United States;X-APPLE-RADIUS=500;X-TITLE=4532 S. 25th W. Ave.:geo:-96.0216659,36.0981774
END:VEVENT
BEGIN:VEVENT
DTSTART;TZID=America/Chicago:20240927T080000
DTEND;TZID=America/Chicago:20240927T090000
DTSTAMP:20260425T061814
CREATED:20240913T170528Z
LAST-MODIFIED:20240913T170528Z
UID:10011747-1727424000-1727427600@www.saintcatherineschool.org
SUMMARY:Mass - English
DESCRIPTION:
URL:https://www.saintcatherineschool.org/event/mass-english-19
LOCATION:Saint Catherine School\, 2515 W. 46th St.\, Tulsa\, OK\, 74107\, United States
CATEGORIES:Church of Saint Catherine,Saint Catherine School
ORGANIZER;CN="Fr. Robert Kim":MAILTO:fr.robert.kim@dioceseoftulsa.org
GEO:36.0981282;-96.0219361
X-APPLE-STRUCTURED-LOCATION;VALUE=URI;X-ADDRESS=Saint Catherine School 2515 W. 46th St. Tulsa OK 74107 United States;X-APPLE-RADIUS=500;X-TITLE=2515 W. 46th St.:geo:-96.0219361,36.0981282
END:VEVENT
BEGIN:VEVENT
DTSTART;TZID=America/Chicago:20240927T080000
DTEND;TZID=America/Chicago:20240927T110000
DTSTAMP:20260425T061814
CREATED:20240701T010528Z
LAST-MODIFIED:20240701T010528Z
UID:10011597-1727424000-1727434800@www.saintcatherineschool.org
SUMMARY:Speech and Hearing
DESCRIPTION:Students from TU will come and do speech and hearing screening for students in grades Pk3-2.
URL:https://www.saintcatherineschool.org/event/speech-and-hearing-2
LOCATION:Saint Catherine School\, 2515 W. 46th St.\, Tulsa\, OK\, 74107\, United States
CATEGORIES:Church of Saint Catherine,Saint Catherine School
ORGANIZER;CN="Michelle Anthamatten":MAILTO:manthamatten@saint-catherine.org
GEO:36.0981282;-96.0219361
X-APPLE-STRUCTURED-LOCATION;VALUE=URI;X-ADDRESS=Saint Catherine School 2515 W. 46th St. Tulsa OK 74107 United States;X-APPLE-RADIUS=500;X-TITLE=2515 W. 46th St.:geo:-96.0219361,36.0981282
END:VEVENT
BEGIN:VEVENT
DTSTART;TZID=America/Chicago:20240927T153000
DTEND;TZID=America/Chicago:20240927T163000
DTSTAMP:20260425T061814
CREATED:20240913T171725Z
LAST-MODIFIED:20240913T171725Z
UID:10011755-1727451000-1727454600@www.saintcatherineschool.org
SUMMARY:Red Soccer Practice
DESCRIPTION:
URL:https://www.saintcatherineschool.org/event/red-soccer-practice-3
LOCATION:Saint Catherine School\, 2515 W. 46th St.\, Tulsa\, OK\, 74107\, United States
CATEGORIES:Church of Saint Catherine,Saint Catherine School
ORGANIZER;CN="Sam Naab":MAILTO:snaab@saint-catherine.org
GEO:36.0981282;-96.0219361
X-APPLE-STRUCTURED-LOCATION;VALUE=URI;X-ADDRESS=Saint Catherine School 2515 W. 46th St. Tulsa OK 74107 United States;X-APPLE-RADIUS=500;X-TITLE=2515 W. 46th St.:geo:-96.0219361,36.0981282
END:VEVENT
BEGIN:VEVENT
DTSTART;TZID=America/Chicago:20240928T100000
DTEND;TZID=America/Chicago:20240928T110000
DTSTAMP:20260425T061814
CREATED:20240701T010134Z
LAST-MODIFIED:20240701T010134Z
UID:10011595-1727517600-1727521200@www.saintcatherineschool.org
SUMMARY:Soccer game
DESCRIPTION:
URL:https://www.saintcatherineschool.org/event/soccer-game-3
LOCATION:St. Augustine\, 1720 E Apache St\, Tulsa\, OK\, 74110\, United States
CATEGORIES:Church of Saint Catherine,Saint Catherine School
ORGANIZER;CN="Sam Naab":MAILTO:snaab@saint-catherine.org
GEO:36.1911097;-95.965663
X-APPLE-STRUCTURED-LOCATION;VALUE=URI;X-ADDRESS=St. Augustine 1720 E Apache St Tulsa OK 74110 United States;X-APPLE-RADIUS=500;X-TITLE=1720 E Apache St:geo:-95.965663,36.1911097
END:VEVENT
BEGIN:VEVENT
DTSTART;TZID=America/Chicago:20240928T153000
DTEND;TZID=America/Chicago:20240928T170000
DTSTAMP:20260425T061814
CREATED:20180123T023113Z
LAST-MODIFIED:20201202T201345Z
UID:10005929-1727537400-1727542800@www.saintcatherineschool.org
SUMMARY:Confessions
DESCRIPTION:Fr. Grant will hear confessions from 3:30-5:00.
URL:https://www.saintcatherineschool.org/event/confessions/2024-09-28
LOCATION:Saint Catherine of Alexandria\, 4532 S. 25th W. Ave.\, Tulsa\, OK\, 74107\, United States
CATEGORIES:Church of Saint Catherine,Saint Catherine School
GEO:36.0981774;-96.0216659
X-APPLE-STRUCTURED-LOCATION;VALUE=URI;X-ADDRESS=Saint Catherine of Alexandria 4532 S. 25th W. Ave. Tulsa OK 74107 United States;X-APPLE-RADIUS=500;X-TITLE=4532 S. 25th W. Ave.:geo:-96.0216659,36.0981774
END:VEVENT
BEGIN:VEVENT
DTSTART;TZID=America/Chicago:20240929T080000
DTEND;TZID=America/Chicago:20240929T090000
DTSTAMP:20260425T061814
CREATED:20240913T145326Z
LAST-MODIFIED:20240913T145326Z
UID:10011724-1727596800-1727600400@www.saintcatherineschool.org
SUMMARY:Mass - English
DESCRIPTION:
URL:https://www.saintcatherineschool.org/event/mass-english-13
LOCATION:OK
CATEGORIES:Church of Saint Catherine,Saint Catherine School
END:VEVENT
BEGIN:VEVENT
DTSTART;TZID=America/Chicago:20240929T110000
DTEND;TZID=America/Chicago:20240929T130000
DTSTAMP:20260425T061814
CREATED:20240913T145528Z
LAST-MODIFIED:20240913T145528Z
UID:10011727-1727607600-1727614800@www.saintcatherineschool.org
SUMMARY:Mass - Zomi
DESCRIPTION:
URL:https://www.saintcatherineschool.org/event/mass-zomi-7
LOCATION:Saint Catherine of Alexandria\, 4532 S. 25th W. Ave.\, Tulsa\, OK\, 74107\, United States
CATEGORIES:Church of Saint Catherine,Saint Catherine School
ORGANIZER;CN="Fr. Robert Kim":MAILTO:fr.robert.kim@dioceseoftulsa.org
GEO:36.0981774;-96.0216659
X-APPLE-STRUCTURED-LOCATION;VALUE=URI;X-ADDRESS=Saint Catherine of Alexandria 4532 S. 25th W. Ave. Tulsa OK 74107 United States;X-APPLE-RADIUS=500;X-TITLE=4532 S. 25th W. Ave.:geo:-96.0216659,36.0981774
END:VEVENT
BEGIN:VEVENT
DTSTART;TZID=America/Chicago:20240930T153000
DTEND;TZID=America/Chicago:20240930T163000
DTSTAMP:20260425T061814
CREATED:20240701T010704Z
LAST-MODIFIED:20240701T010704Z
UID:10011599-1727710200-1727713800@www.saintcatherineschool.org
SUMMARY:Faculty Meeting
DESCRIPTION:
URL:https://www.saintcatherineschool.org/event/faculty-meeting-51
LOCATION:Saint Catherine School\, 2515 W. 46th St.\, Tulsa\, OK\, 74107\, United States
CATEGORIES:Church of Saint Catherine,Saint Catherine School
ORGANIZER;CN="Fr. Robert Kim":MAILTO:fr.robert.kim@dioceseoftulsa.org
GEO:36.0981282;-96.0219361
X-APPLE-STRUCTURED-LOCATION;VALUE=URI;X-ADDRESS=Saint Catherine School 2515 W. 46th St. Tulsa OK 74107 United States;X-APPLE-RADIUS=500;X-TITLE=2515 W. 46th St.:geo:-96.0219361,36.0981282
END:VEVENT
BEGIN:VEVENT
DTSTART;TZID=America/Chicago:20240930T190000
DTEND;TZID=America/Chicago:20240930T200000
DTSTAMP:20260425T061814
CREATED:20240913T145929Z
LAST-MODIFIED:20240913T155557Z
UID:10011730-1727722800-1727726400@www.saintcatherineschool.org
SUMMARY:Volleyball Game
DESCRIPTION:
URL:https://www.saintcatherineschool.org/event/volleyball-game-25
LOCATION:St. Mary’s\, 1347 E 49th Pl\, Tulsa\, OK\, 74105\, United States
CATEGORIES:Church of Saint Catherine,Saint Catherine School
ORGANIZER;CN="Sam Naab":MAILTO:snaab@saint-catherine.org
GEO:36.0925549;-95.9735246
X-APPLE-STRUCTURED-LOCATION;VALUE=URI;X-ADDRESS=St. Mary’s 1347 E 49th Pl Tulsa OK 74105 United States;X-APPLE-RADIUS=500;X-TITLE=1347 E 49th Pl:geo:-95.9735246,36.0925549
END:VEVENT
BEGIN:VEVENT
DTSTART;TZID=America/Chicago:20241001T080000
DTEND;TZID=America/Chicago:20241001T090000
DTSTAMP:20260425T061814
CREATED:20240913T172636Z
LAST-MODIFIED:20240913T172636Z
UID:10011758-1727769600-1727773200@www.saintcatherineschool.org
SUMMARY:Mass - English
DESCRIPTION:
URL:https://www.saintcatherineschool.org/event/mass-english-20
LOCATION:Saint Catherine School\, 2515 W. 46th St.\, Tulsa\, OK\, 74107\, United States
CATEGORIES:Church of Saint Catherine,Saint Catherine School
ORGANIZER;CN="Fr. Robert Kim":MAILTO:fr.robert.kim@dioceseoftulsa.org
GEO:36.0981282;-96.0219361
X-APPLE-STRUCTURED-LOCATION;VALUE=URI;X-ADDRESS=Saint Catherine School 2515 W. 46th St. Tulsa OK 74107 United States;X-APPLE-RADIUS=500;X-TITLE=2515 W. 46th St.:geo:-96.0219361,36.0981282
END:VEVENT
BEGIN:VEVENT
DTSTART;TZID=America/Chicago:20241001T150000
DTEND;TZID=America/Chicago:20241001T163000
DTSTAMP:20260425T061814
CREATED:20240913T172352Z
LAST-MODIFIED:20240913T172352Z
UID:10011756-1727794800-1727800200@www.saintcatherineschool.org
SUMMARY:Red and Blue Practice
DESCRIPTION:
URL:https://www.saintcatherineschool.org/event/red-and-blue-practice
LOCATION:Saint Catherine School\, 2515 W. 46th St.\, Tulsa\, OK\, 74107\, United States
CATEGORIES:Church of Saint Catherine,Saint Catherine School
ORGANIZER;CN="Sam Naab":MAILTO:snaab@saint-catherine.org
GEO:36.0981282;-96.0219361
X-APPLE-STRUCTURED-LOCATION;VALUE=URI;X-ADDRESS=Saint Catherine School 2515 W. 46th St. Tulsa OK 74107 United States;X-APPLE-RADIUS=500;X-TITLE=2515 W. 46th St.:geo:-96.0219361,36.0981282
END:VEVENT
BEGIN:VEVENT
DTSTART;TZID=America/Chicago:20241001T153000
DTEND;TZID=America/Chicago:20241001T170000
DTSTAMP:20260425T061814
CREATED:20240913T172419Z
LAST-MODIFIED:20240913T172419Z
UID:10011757-1727796600-1727802000@www.saintcatherineschool.org
SUMMARY:Volleyball Practice
DESCRIPTION:
URL:https://www.saintcatherineschool.org/event/volleyball-practice-16
LOCATION:Saint Catherine School\, 2515 W. 46th St.\, Tulsa\, OK\, 74107\, United States
CATEGORIES:Church of Saint Catherine,Saint Catherine School
ORGANIZER;CN="Sam Naab":MAILTO:snaab@saint-catherine.org
GEO:36.0981282;-96.0219361
X-APPLE-STRUCTURED-LOCATION;VALUE=URI;X-ADDRESS=Saint Catherine School 2515 W. 46th St. Tulsa OK 74107 United States;X-APPLE-RADIUS=500;X-TITLE=2515 W. 46th St.:geo:-96.0219361,36.0981282
END:VEVENT
BEGIN:VEVENT
DTSTART;TZID=America/Chicago:20241001T180000
DTEND;TZID=America/Chicago:20241001T193000
DTSTAMP:20260425T061814
CREATED:20240701T011052Z
LAST-MODIFIED:20240701T011052Z
UID:10011600-1727805600-1727811000@www.saintcatherineschool.org
SUMMARY:School Advisory Meeting
DESCRIPTION:
URL:https://www.saintcatherineschool.org/event/school-advisory-meeting-29
LOCATION:Saint Catherine School\, 2515 W. 46th St.\, Tulsa\, OK\, 74107\, United States
CATEGORIES:Church of Saint Catherine,Saint Catherine School
ORGANIZER;CN="Michelle Anthamatten":MAILTO:manthamatten@saint-catherine.org
GEO:36.0981282;-96.0219361
X-APPLE-STRUCTURED-LOCATION;VALUE=URI;X-ADDRESS=Saint Catherine School 2515 W. 46th St. Tulsa OK 74107 United States;X-APPLE-RADIUS=500;X-TITLE=2515 W. 46th St.:geo:-96.0219361,36.0981282
END:VEVENT
BEGIN:VEVENT
DTSTART;TZID=America/Chicago:20241002T080000
DTEND;TZID=America/Chicago:20241002T090000
DTSTAMP:20260425T061814
CREATED:20240913T172703Z
LAST-MODIFIED:20240913T172703Z
UID:10011759-1727856000-1727859600@www.saintcatherineschool.org
SUMMARY:Mass - Zomi
DESCRIPTION:
URL:https://www.saintcatherineschool.org/event/mass-zomi-10
LOCATION:Saint Catherine School\, 2515 W. 46th St.\, Tulsa\, OK\, 74107\, United States
CATEGORIES:Church of Saint Catherine,Saint Catherine School
ORGANIZER;CN="Fr. Robert Kim":MAILTO:fr.robert.kim@dioceseoftulsa.org
GEO:36.0981282;-96.0219361
X-APPLE-STRUCTURED-LOCATION;VALUE=URI;X-ADDRESS=Saint Catherine School 2515 W. 46th St. Tulsa OK 74107 United States;X-APPLE-RADIUS=500;X-TITLE=2515 W. 46th St.:geo:-96.0219361,36.0981282
END:VEVENT
BEGIN:VEVENT
DTSTART;TZID=America/Chicago:20241002T153000
DTEND;TZID=America/Chicago:20241002T163000
DTSTAMP:20260425T061814
CREATED:20240913T173702Z
LAST-MODIFIED:20240913T173702Z
UID:10011763-1727883000-1727886600@www.saintcatherineschool.org
SUMMARY:Little Flowers 1st and 2nd Grade
DESCRIPTION:
URL:https://www.saintcatherineschool.org/event/little-flowers-1st-and-2nd-grade
LOCATION:Saint Catherine School\, 2515 W. 46th St.\, Tulsa\, OK\, 74107\, United States
CATEGORIES:Church of Saint Catherine,Saint Catherine School
GEO:36.0981282;-96.0219361
X-APPLE-STRUCTURED-LOCATION;VALUE=URI;X-ADDRESS=Saint Catherine School 2515 W. 46th St. Tulsa OK 74107 United States;X-APPLE-RADIUS=500;X-TITLE=2515 W. 46th St.:geo:-96.0219361,36.0981282
END:VEVENT
BEGIN:VEVENT
DTSTART;TZID=America/Chicago:20241002T153000
DTEND;TZID=America/Chicago:20241002T170000
DTSTAMP:20260425T061814
CREATED:20240913T173622Z
LAST-MODIFIED:20240913T173622Z
UID:10011762-1727883000-1727888400@www.saintcatherineschool.org
SUMMARY:Volleyball Practice
DESCRIPTION:
URL:https://www.saintcatherineschool.org/event/volleyball-practice-17
LOCATION:Saint Catherine School\, 2515 W. 46th St.\, Tulsa\, OK\, 74107\, United States
CATEGORIES:Church of Saint Catherine,Saint Catherine School
ORGANIZER;CN="Sam Naab":MAILTO:snaab@saint-catherine.org
GEO:36.0981282;-96.0219361
X-APPLE-STRUCTURED-LOCATION;VALUE=URI;X-ADDRESS=Saint Catherine School 2515 W. 46th St. Tulsa OK 74107 United States;X-APPLE-RADIUS=500;X-TITLE=2515 W. 46th St.:geo:-96.0219361,36.0981282
END:VEVENT
BEGIN:VEVENT
DTSTART;TZID=America/Chicago:20241003T080000
DTEND;TZID=America/Chicago:20241003T090000
DTSTAMP:20260425T061814
CREATED:20240913T173047Z
LAST-MODIFIED:20240913T173047Z
UID:10011760-1727942400-1727946000@www.saintcatherineschool.org
SUMMARY:Mass - English
DESCRIPTION:
URL:https://www.saintcatherineschool.org/event/mass-english-21
LOCATION:Saint Catherine School\, 2515 W. 46th St.\, Tulsa\, OK\, 74107\, United States
CATEGORIES:Church of Saint Catherine,Saint Catherine School
ORGANIZER;CN="Sam Naab":MAILTO:snaab@saint-catherine.org
GEO:36.0981282;-96.0219361
X-APPLE-STRUCTURED-LOCATION;VALUE=URI;X-ADDRESS=Saint Catherine School 2515 W. 46th St. Tulsa OK 74107 United States;X-APPLE-RADIUS=500;X-TITLE=2515 W. 46th St.:geo:-96.0219361,36.0981282
END:VEVENT
BEGIN:VEVENT
DTSTART;TZID=America/Chicago:20241003T153000
DTEND;TZID=America/Chicago:20241003T170000
DTSTAMP:20260425T061814
CREATED:20240913T173909Z
LAST-MODIFIED:20240913T173909Z
UID:10011765-1727969400-1727974800@www.saintcatherineschool.org
SUMMARY:Lego Club
DESCRIPTION:
URL:https://www.saintcatherineschool.org/event/lego-club-7
LOCATION:Saint Catherine School\, 2515 W. 46th St.\, Tulsa\, OK\, 74107\, United States
CATEGORIES:Church of Saint Catherine,Saint Catherine School
ORGANIZER;CN="Andrea Warner":MAILTO:andrea.warner.mail@gmail.com
GEO:36.0981282;-96.0219361
X-APPLE-STRUCTURED-LOCATION;VALUE=URI;X-ADDRESS=Saint Catherine School 2515 W. 46th St. Tulsa OK 74107 United States;X-APPLE-RADIUS=500;X-TITLE=2515 W. 46th St.:geo:-96.0219361,36.0981282
END:VEVENT
BEGIN:VEVENT
DTSTART;TZID=America/Chicago:20241004T080000
DTEND;TZID=America/Chicago:20241004T090000
DTSTAMP:20260425T061814
CREATED:20240913T173529Z
LAST-MODIFIED:20240913T173529Z
UID:10011761-1728028800-1728032400@www.saintcatherineschool.org
SUMMARY:Mass - English
DESCRIPTION:
URL:https://www.saintcatherineschool.org/event/mass-english-22
LOCATION:Saint Catherine School\, 2515 W. 46th St.\, Tulsa\, OK\, 74107\, United States
CATEGORIES:Church of Saint Catherine,Saint Catherine School
ORGANIZER;CN="Fr. Robert Kim":MAILTO:fr.robert.kim@dioceseoftulsa.org
GEO:36.0981282;-96.0219361
X-APPLE-STRUCTURED-LOCATION;VALUE=URI;X-ADDRESS=Saint Catherine School 2515 W. 46th St. Tulsa OK 74107 United States;X-APPLE-RADIUS=500;X-TITLE=2515 W. 46th St.:geo:-96.0219361,36.0981282
END:VEVENT
BEGIN:VEVENT
DTSTART;TZID=America/Chicago:20241004T140000
DTEND;TZID=America/Chicago:20241004T150000
DTSTAMP:20260425T061814
CREATED:20240701T011131Z
LAST-MODIFIED:20240701T011131Z
UID:10011601-1728050400-1728054000@www.saintcatherineschool.org
SUMMARY:Adoration
DESCRIPTION:
URL:https://www.saintcatherineschool.org/event/adoration-23
LOCATION:Saint Catherine School\, 2515 W. 46th St.\, Tulsa\, OK\, 74107\, United States
CATEGORIES:Church of Saint Catherine,Saint Catherine School
ORGANIZER;CN="Michelle Anthamatten":MAILTO:manthamatten@saint-catherine.org
GEO:36.0981282;-96.0219361
X-APPLE-STRUCTURED-LOCATION;VALUE=URI;X-ADDRESS=Saint Catherine School 2515 W. 46th St. Tulsa OK 74107 United States;X-APPLE-RADIUS=500;X-TITLE=2515 W. 46th St.:geo:-96.0219361,36.0981282
END:VEVENT
BEGIN:VEVENT
DTSTART;TZID=America/Chicago:20241004T153000
DTEND;TZID=America/Chicago:20241004T163000
DTSTAMP:20260425T061814
CREATED:20240913T173816Z
LAST-MODIFIED:20240913T173816Z
UID:10011764-1728055800-1728059400@www.saintcatherineschool.org
SUMMARY:Red Practice
DESCRIPTION:
URL:https://www.saintcatherineschool.org/event/red-practice
LOCATION:Saint Catherine School\, 2515 W. 46th St.\, Tulsa\, OK\, 74107\, United States
CATEGORIES:Church of Saint Catherine,Saint Catherine School
ORGANIZER;CN="Sam Naab":MAILTO:snaab@saint-catherine.org
GEO:36.0981282;-96.0219361
X-APPLE-STRUCTURED-LOCATION;VALUE=URI;X-ADDRESS=Saint Catherine School 2515 W. 46th St. Tulsa OK 74107 United States;X-APPLE-RADIUS=500;X-TITLE=2515 W. 46th St.:geo:-96.0219361,36.0981282
END:VEVENT
END:VCALENDAR