BEGIN:VCALENDAR
VERSION:2.0
PRODID:-//Saint Catherine of Alexandria School - ECPv6.15.20//NONSGML v1.0//EN
CALSCALE:GREGORIAN
METHOD:PUBLISH
X-ORIGINAL-URL:https://www.saintcatherineschool.org
X-WR-CALDESC:Events for Saint Catherine of Alexandria School
REFRESH-INTERVAL;VALUE=DURATION:PT1H
X-Robots-Tag:noindex
X-PUBLISHED-TTL:PT1H
BEGIN:VTIMEZONE
TZID:America/Chicago
BEGIN:DAYLIGHT
TZOFFSETFROM:-0600
TZOFFSETTO:-0500
TZNAME:CDT
DTSTART:20230312T080000
END:DAYLIGHT
BEGIN:STANDARD
TZOFFSETFROM:-0500
TZOFFSETTO:-0600
TZNAME:CST
DTSTART:20231105T070000
END:STANDARD
BEGIN:DAYLIGHT
TZOFFSETFROM:-0600
TZOFFSETTO:-0500
TZNAME:CDT
DTSTART:20240310T080000
END:DAYLIGHT
BEGIN:STANDARD
TZOFFSETFROM:-0500
TZOFFSETTO:-0600
TZNAME:CST
DTSTART:20241103T070000
END:STANDARD
BEGIN:DAYLIGHT
TZOFFSETFROM:-0600
TZOFFSETTO:-0500
TZNAME:CDT
DTSTART:20250309T080000
END:DAYLIGHT
BEGIN:STANDARD
TZOFFSETFROM:-0500
TZOFFSETTO:-0600
TZNAME:CST
DTSTART:20251102T070000
END:STANDARD
END:VTIMEZONE
BEGIN:VEVENT
DTSTART;TZID=America/Chicago:20240602T130000
DTEND;TZID=America/Chicago:20240602T170000
DTSTAMP:20260425T113222
CREATED:20230709T022317Z
LAST-MODIFIED:20230709T022317Z
UID:10009823-1717333200-1717347600@www.saintcatherineschool.org
SUMMARY:First Communion - Tonu Maria
DESCRIPTION:
URL:https://www.saintcatherineschool.org/event/first-communion-tonu-maria-2
LOCATION:Saint Catherine of Alexandria\, 4532 S. 25th W. Ave.\, Tulsa\, OK\, 74107\, United States
CATEGORIES:Church of Saint Catherine,Saint Catherine School
ORGANIZER;CN="Fr. Robert Kim":MAILTO:fr.robert.kim@dioceseoftulsa.org
GEO:36.0981774;-96.0216659
X-APPLE-STRUCTURED-LOCATION;VALUE=URI;X-ADDRESS=Saint Catherine of Alexandria 4532 S. 25th W. Ave. Tulsa OK 74107 United States;X-APPLE-RADIUS=500;X-TITLE=4532 S. 25th W. Ave.:geo:-96.0216659,36.0981774
END:VEVENT
BEGIN:VEVENT
DTSTART;TZID=America/Chicago:20240604T081500
DTEND;TZID=America/Chicago:20240604T090000
DTSTAMP:20260425T113222
CREATED:20230718T183503Z
LAST-MODIFIED:20230718T183503Z
UID:10010244-1717488900-1717491600@www.saintcatherineschool.org
SUMMARY:Mass - Saint Cathrine
DESCRIPTION:This Mass is said in English.
URL:https://www.saintcatherineschool.org/event/mass-saint-cathrine/2024-06-04
LOCATION:OK
CATEGORIES:Church of Saint Catherine,Saint Catherine School
END:VEVENT
BEGIN:VEVENT
DTSTART;TZID=America/Chicago:20240606T081500
DTEND;TZID=America/Chicago:20240606T090000
DTSTAMP:20260425T113222
CREATED:20230718T183741Z
LAST-MODIFIED:20230718T183741Z
UID:10010269-1717661700-1717664400@www.saintcatherineschool.org
SUMMARY:Mass - Saint Catherine
DESCRIPTION:This Mass is said in English.
URL:https://www.saintcatherineschool.org/event/mass-saint-catherine-29/2024-06-06
LOCATION:OK
CATEGORIES:Church of Saint Catherine,Saint Catherine School
END:VEVENT
BEGIN:VEVENT
DTSTART;TZID=America/Chicago:20240607T081500
DTEND;TZID=America/Chicago:20240607T090000
DTSTAMP:20260425T113222
CREATED:20230718T184032Z
LAST-MODIFIED:20230718T184032Z
UID:10010294-1717748100-1717750800@www.saintcatherineschool.org
SUMMARY:Mass - Saint Catherine
DESCRIPTION:This Mass is said in English.
URL:https://www.saintcatherineschool.org/event/mass-saint-catherine-31/2024-06-07
LOCATION:OK
CATEGORIES:Church of Saint Catherine,Saint Catherine School
END:VEVENT
BEGIN:VEVENT
DTSTART;TZID=America/Chicago:20240608T153000
DTEND;TZID=America/Chicago:20240608T170000
DTSTAMP:20260425T113222
CREATED:20180123T023113Z
LAST-MODIFIED:20201202T201345Z
UID:10005913-1717860600-1717866000@www.saintcatherineschool.org
SUMMARY:Confessions
DESCRIPTION:Fr. Grant will hear confessions from 3:30-5:00.
URL:https://www.saintcatherineschool.org/event/confessions/2024-06-08
LOCATION:Saint Catherine of Alexandria\, 4532 S. 25th W. Ave.\, Tulsa\, OK\, 74107\, United States
CATEGORIES:Church of Saint Catherine,Saint Catherine School
GEO:36.0981774;-96.0216659
X-APPLE-STRUCTURED-LOCATION;VALUE=URI;X-ADDRESS=Saint Catherine of Alexandria 4532 S. 25th W. Ave. Tulsa OK 74107 United States;X-APPLE-RADIUS=500;X-TITLE=4532 S. 25th W. Ave.:geo:-96.0216659,36.0981774
END:VEVENT
END:VCALENDAR