BEGIN:VCALENDAR
VERSION:2.0
PRODID:-//Saint Catherine of Alexandria School - ECPv6.15.20//NONSGML v1.0//EN
CALSCALE:GREGORIAN
METHOD:PUBLISH
X-WR-CALNAME:Saint Catherine of Alexandria School
X-ORIGINAL-URL:https://www.saintcatherineschool.org
X-WR-CALDESC:Events for Saint Catherine of Alexandria School
REFRESH-INTERVAL;VALUE=DURATION:PT1H
X-Robots-Tag:noindex
X-PUBLISHED-TTL:PT1H
BEGIN:VTIMEZONE
TZID:America/Chicago
BEGIN:DAYLIGHT
TZOFFSETFROM:-0600
TZOFFSETTO:-0500
TZNAME:CDT
DTSTART:20230312T080000
END:DAYLIGHT
BEGIN:STANDARD
TZOFFSETFROM:-0500
TZOFFSETTO:-0600
TZNAME:CST
DTSTART:20231105T070000
END:STANDARD
BEGIN:DAYLIGHT
TZOFFSETFROM:-0600
TZOFFSETTO:-0500
TZNAME:CDT
DTSTART:20240310T080000
END:DAYLIGHT
BEGIN:STANDARD
TZOFFSETFROM:-0500
TZOFFSETTO:-0600
TZNAME:CST
DTSTART:20241103T070000
END:STANDARD
BEGIN:DAYLIGHT
TZOFFSETFROM:-0600
TZOFFSETTO:-0500
TZNAME:CDT
DTSTART:20250309T080000
END:DAYLIGHT
BEGIN:STANDARD
TZOFFSETFROM:-0500
TZOFFSETTO:-0600
TZNAME:CST
DTSTART:20251102T070000
END:STANDARD
END:VTIMEZONE
BEGIN:VEVENT
DTSTART;VALUE=DATE:20240909
DTEND;VALUE=DATE:20240910
DTSTAMP:20260425T071151
CREATED:20240701T005740Z
LAST-MODIFIED:20240701T005740Z
UID:10011591-1725840000-1725926399@www.saintcatherineschool.org
SUMMARY:Mary Birthday
DESCRIPTION:Mary’s birthday is on Sunday the 8th\, but the school will celebrate it on Monday by giving brownies to the school children.
URL:https://www.saintcatherineschool.org/event/mary-birthday
LOCATION:Saint Catherine School\, 2515 W. 46th St.\, Tulsa\, OK\, 74107\, United States
CATEGORIES:Church of Saint Catherine,Saint Catherine School
ORGANIZER;CN="Michelle Anthamatten":MAILTO:manthamatten@saint-catherine.org
GEO:36.0981282;-96.0219361
X-APPLE-STRUCTURED-LOCATION;VALUE=URI;X-ADDRESS=Saint Catherine School 2515 W. 46th St. Tulsa OK 74107 United States;X-APPLE-RADIUS=500;X-TITLE=2515 W. 46th St.:geo:-96.0219361,36.0981282
END:VEVENT
BEGIN:VEVENT
DTSTART;TZID=America/Chicago:20240913T073000
DTEND;TZID=America/Chicago:20240913T160000
DTSTAMP:20260425T071151
CREATED:20240701T005833Z
LAST-MODIFIED:20240701T005833Z
UID:10011592-1726212600-1726243200@www.saintcatherineschool.org
SUMMARY:Parent - Teacher Conferences
DESCRIPTION:
URL:https://www.saintcatherineschool.org/event/parent-teacher-conferences-5
LOCATION:Saint Catherine School\, 2515 W. 46th St.\, Tulsa\, OK\, 74107\, United States
CATEGORIES:Church of Saint Catherine,Saint Catherine School
ORGANIZER;CN="Michelle Anthamatten":MAILTO:manthamatten@saint-catherine.org
GEO:36.0981282;-96.0219361
X-APPLE-STRUCTURED-LOCATION;VALUE=URI;X-ADDRESS=Saint Catherine School 2515 W. 46th St. Tulsa OK 74107 United States;X-APPLE-RADIUS=500;X-TITLE=2515 W. 46th St.:geo:-96.0219361,36.0981282
END:VEVENT
BEGIN:VEVENT
DTSTART;TZID=America/Chicago:20240914T100000
DTEND;TZID=America/Chicago:20240914T110000
DTSTAMP:20260425T071151
CREATED:20240701T010010Z
LAST-MODIFIED:20240701T010010Z
UID:10011593-1726308000-1726311600@www.saintcatherineschool.org
SUMMARY:Soccer game
DESCRIPTION:
URL:https://www.saintcatherineschool.org/event/soccer-game
LOCATION:St. Augustine\, 1720 E Apache St\, Tulsa\, OK\, 74110\, United States
CATEGORIES:Church of Saint Catherine,Saint Catherine School
ORGANIZER;CN="Sam Naab":MAILTO:snaab@saint-catherine.org
GEO:36.1911097;-95.965663
X-APPLE-STRUCTURED-LOCATION;VALUE=URI;X-ADDRESS=St. Augustine 1720 E Apache St Tulsa OK 74110 United States;X-APPLE-RADIUS=500;X-TITLE=1720 E Apache St:geo:-95.965663,36.1911097
END:VEVENT
BEGIN:VEVENT
DTSTART;TZID=America/Chicago:20240914T153000
DTEND;TZID=America/Chicago:20240914T170000
DTSTAMP:20260425T071152
CREATED:20180123T023113Z
LAST-MODIFIED:20201202T201345Z
UID:10005927-1726327800-1726333200@www.saintcatherineschool.org
SUMMARY:Confessions
DESCRIPTION:Fr. Grant will hear confessions from 3:30-5:00.
URL:https://www.saintcatherineschool.org/event/confessions/2024-09-14
LOCATION:Saint Catherine of Alexandria\, 4532 S. 25th W. Ave.\, Tulsa\, OK\, 74107\, United States
CATEGORIES:Church of Saint Catherine,Saint Catherine School
GEO:36.0981774;-96.0216659
X-APPLE-STRUCTURED-LOCATION;VALUE=URI;X-ADDRESS=Saint Catherine of Alexandria 4532 S. 25th W. Ave. Tulsa OK 74107 United States;X-APPLE-RADIUS=500;X-TITLE=4532 S. 25th W. Ave.:geo:-96.0216659,36.0981774
END:VEVENT
END:VCALENDAR