BEGIN:VCALENDAR
VERSION:2.0
PRODID:-//Saint Catherine of Alexandria School - ECPv6.15.20//NONSGML v1.0//EN
CALSCALE:GREGORIAN
METHOD:PUBLISH
X-WR-CALNAME:Saint Catherine of Alexandria School
X-ORIGINAL-URL:https://www.saintcatherineschool.org
X-WR-CALDESC:Events for Saint Catherine of Alexandria School
REFRESH-INTERVAL;VALUE=DURATION:PT1H
X-Robots-Tag:noindex
X-PUBLISHED-TTL:PT1H
BEGIN:VTIMEZONE
TZID:America/Chicago
BEGIN:DAYLIGHT
TZOFFSETFROM:-0600
TZOFFSETTO:-0500
TZNAME:CDT
DTSTART:20220313T080000
END:DAYLIGHT
BEGIN:STANDARD
TZOFFSETFROM:-0500
TZOFFSETTO:-0600
TZNAME:CST
DTSTART:20221106T070000
END:STANDARD
BEGIN:DAYLIGHT
TZOFFSETFROM:-0600
TZOFFSETTO:-0500
TZNAME:CDT
DTSTART:20230312T080000
END:DAYLIGHT
BEGIN:STANDARD
TZOFFSETFROM:-0500
TZOFFSETTO:-0600
TZNAME:CST
DTSTART:20231105T070000
END:STANDARD
BEGIN:DAYLIGHT
TZOFFSETFROM:-0600
TZOFFSETTO:-0500
TZNAME:CDT
DTSTART:20240310T080000
END:DAYLIGHT
BEGIN:STANDARD
TZOFFSETFROM:-0500
TZOFFSETTO:-0600
TZNAME:CST
DTSTART:20241103T070000
END:STANDARD
END:VTIMEZONE
BEGIN:VEVENT
DTSTART;TZID=America/Chicago:20230518T081500
DTEND;TZID=America/Chicago:20230518T090000
DTSTAMP:20260425T225854
CREATED:20230120T172528Z
LAST-MODIFIED:20230120T172528Z
UID:10009672-1684397700-1684400400@www.saintcatherineschool.org
SUMMARY:Mass - Saint Catherine
DESCRIPTION:
URL:https://www.saintcatherineschool.org/event/mass-saint-catherine-20/2023-05-18
LOCATION:Saint Catherine of Alexandria\, 4532 S. 25th W. Ave.\, Tulsa\, OK\, 74107\, United States
CATEGORIES:Church of Saint Catherine,Saint Catherine School
ORGANIZER;CN="Fr. John Grant":MAILTO:fr.joh.grant@saint-catherine.org
GEO:36.0981774;-96.0216659
X-APPLE-STRUCTURED-LOCATION;VALUE=URI;X-ADDRESS=Saint Catherine of Alexandria 4532 S. 25th W. Ave. Tulsa OK 74107 United States;X-APPLE-RADIUS=500;X-TITLE=4532 S. 25th W. Ave.:geo:-96.0216659,36.0981774
END:VEVENT
BEGIN:VEVENT
DTSTART;TZID=America/Chicago:20230518T153000
DTEND;TZID=America/Chicago:20230518T163000
DTSTAMP:20260425T225855
CREATED:20230307T143621Z
LAST-MODIFIED:20230307T143621Z
UID:10009579-1684423800-1684427400@www.saintcatherineschool.org
SUMMARY:Track Practice
DESCRIPTION:
URL:https://www.saintcatherineschool.org/event/track-practice-12/2023-05-18
LOCATION:Saint Catherine School\, 2515 W. 46th St.\, Tulsa\, OK\, 74107\, United States
CATEGORIES:Church of Saint Catherine,Saint Catherine School
ORGANIZER;CN="Monique McAtee":MAILTO:mmcatee@saint-catherine.org
GEO:36.0981282;-96.0219361
X-APPLE-STRUCTURED-LOCATION;VALUE=URI;X-ADDRESS=Saint Catherine School 2515 W. 46th St. Tulsa OK 74107 United States;X-APPLE-RADIUS=500;X-TITLE=2515 W. 46th St.:geo:-96.0219361,36.0981282
END:VEVENT
BEGIN:VEVENT
DTSTART;TZID=America/Chicago:20230518T180000
DTEND;TZID=America/Chicago:20230518T200000
DTSTAMP:20260425T225855
CREATED:20230418T182201Z
LAST-MODIFIED:20230418T182201Z
UID:10009761-1684432800-1684440000@www.saintcatherineschool.org
SUMMARY:8th Grade Graduation
DESCRIPTION:
URL:https://www.saintcatherineschool.org/event/8th-grade-graduation-5
LOCATION:Saint Catherine School\, 2515 W. 46th St.\, Tulsa\, OK\, 74107\, United States
CATEGORIES:Church of Saint Catherine,Saint Catherine School
ORGANIZER;CN="Michelle Anthamatten":MAILTO:manthamatten@saint-catherine.org
GEO:36.0981282;-96.0219361
X-APPLE-STRUCTURED-LOCATION;VALUE=URI;X-ADDRESS=Saint Catherine School 2515 W. 46th St. Tulsa OK 74107 United States;X-APPLE-RADIUS=500;X-TITLE=2515 W. 46th St.:geo:-96.0219361,36.0981282
END:VEVENT
BEGIN:VEVENT
DTSTART;TZID=America/Chicago:20230519T081500
DTEND;TZID=America/Chicago:20230519T090000
DTSTAMP:20260425T225855
CREATED:20230120T172700Z
LAST-MODIFIED:20230120T172700Z
UID:10009662-1684484100-1684486800@www.saintcatherineschool.org
SUMMARY:Mass - Saint Catherine
DESCRIPTION:
URL:https://www.saintcatherineschool.org/event/mass-saint-catherine-21/2023-05-19
LOCATION:Saint Catherine of Alexandria\, 4532 S. 25th W. Ave.\, Tulsa\, OK\, 74107\, United States
CATEGORIES:Church of Saint Catherine,Saint Catherine School
ORGANIZER;CN="Fr. John Grant":MAILTO:fr.joh.grant@saint-catherine.org
GEO:36.0981774;-96.0216659
X-APPLE-STRUCTURED-LOCATION;VALUE=URI;X-ADDRESS=Saint Catherine of Alexandria 4532 S. 25th W. Ave. Tulsa OK 74107 United States;X-APPLE-RADIUS=500;X-TITLE=4532 S. 25th W. Ave.:geo:-96.0216659,36.0981774
END:VEVENT
BEGIN:VEVENT
DTSTART;TZID=America/Chicago:20230519T153000
DTEND;TZID=America/Chicago:20230519T163000
DTSTAMP:20260425T225855
CREATED:20230307T143621Z
LAST-MODIFIED:20230307T143621Z
UID:10009580-1684510200-1684513800@www.saintcatherineschool.org
SUMMARY:Track Practice
DESCRIPTION:
URL:https://www.saintcatherineschool.org/event/track-practice-12/2023-05-19
LOCATION:Saint Catherine School\, 2515 W. 46th St.\, Tulsa\, OK\, 74107\, United States
CATEGORIES:Church of Saint Catherine,Saint Catherine School
ORGANIZER;CN="Monique McAtee":MAILTO:mmcatee@saint-catherine.org
GEO:36.0981282;-96.0219361
X-APPLE-STRUCTURED-LOCATION;VALUE=URI;X-ADDRESS=Saint Catherine School 2515 W. 46th St. Tulsa OK 74107 United States;X-APPLE-RADIUS=500;X-TITLE=2515 W. 46th St.:geo:-96.0219361,36.0981282
END:VEVENT
BEGIN:VEVENT
DTSTART;TZID=America/Chicago:20230520T120000
DTEND;TZID=America/Chicago:20230520T130000
DTSTAMP:20260425T225855
CREATED:20180123T015350Z
LAST-MODIFIED:20180123T015350Z
UID:10007021-1684584000-1684587600@www.saintcatherineschool.org
SUMMARY:Mass
DESCRIPTION:Mass begins at 5pm in the Church.
URL:https://www.saintcatherineschool.org/event/mass-8/2023-05-20
LOCATION:OK
CATEGORIES:Church of Saint Catherine,Saint Catherine School
END:VEVENT
BEGIN:VEVENT
DTSTART;TZID=America/Chicago:20230520T153000
DTEND;TZID=America/Chicago:20230520T163000
DTSTAMP:20260425T225855
CREATED:20230307T143621Z
LAST-MODIFIED:20230307T143621Z
UID:10009581-1684596600-1684600200@www.saintcatherineschool.org
SUMMARY:Track Practice
DESCRIPTION:
URL:https://www.saintcatherineschool.org/event/track-practice-12/2023-05-20
LOCATION:Saint Catherine School\, 2515 W. 46th St.\, Tulsa\, OK\, 74107\, United States
CATEGORIES:Church of Saint Catherine,Saint Catherine School
ORGANIZER;CN="Monique McAtee":MAILTO:mmcatee@saint-catherine.org
GEO:36.0981282;-96.0219361
X-APPLE-STRUCTURED-LOCATION;VALUE=URI;X-ADDRESS=Saint Catherine School 2515 W. 46th St. Tulsa OK 74107 United States;X-APPLE-RADIUS=500;X-TITLE=2515 W. 46th St.:geo:-96.0219361,36.0981282
END:VEVENT
BEGIN:VEVENT
DTSTART;TZID=America/Chicago:20230520T153000
DTEND;TZID=America/Chicago:20230520T170000
DTSTAMP:20260425T225855
CREATED:20180123T023113Z
LAST-MODIFIED:20201202T201345Z
UID:10005858-1684596600-1684602000@www.saintcatherineschool.org
SUMMARY:Confessions
DESCRIPTION:Fr. Grant will hear confessions from 3:30-5:00.
URL:https://www.saintcatherineschool.org/event/confessions/2023-05-20
LOCATION:Saint Catherine of Alexandria\, 4532 S. 25th W. Ave.\, Tulsa\, OK\, 74107\, United States
CATEGORIES:Church of Saint Catherine,Saint Catherine School
GEO:36.0981774;-96.0216659
X-APPLE-STRUCTURED-LOCATION;VALUE=URI;X-ADDRESS=Saint Catherine of Alexandria 4532 S. 25th W. Ave. Tulsa OK 74107 United States;X-APPLE-RADIUS=500;X-TITLE=4532 S. 25th W. Ave.:geo:-96.0216659,36.0981774
END:VEVENT
BEGIN:VEVENT
DTSTART;TZID=America/Chicago:20230521T073000
DTEND;TZID=America/Chicago:20230521T080000
DTSTAMP:20260425T225855
CREATED:20221129T175640Z
LAST-MODIFIED:20230825T193319Z
UID:10011192-1684654200-1684656000@www.saintcatherineschool.org
SUMMARY:Confessions
DESCRIPTION:Confessions are directly after Mass at 12:00pm.
URL:https://www.saintcatherineschool.org/event/confessions-5/2023-05-21
LOCATION:Saint Catherine of Alexandria\, 4532 S. 25th W. Ave.\, Tulsa\, OK\, 74107\, United States
CATEGORIES:Church of Saint Catherine,Saint Catherine School
ORGANIZER;CN="Fr. John Grant":MAILTO:fr.joh.grant@saint-catherine.org
GEO:36.0981774;-96.0216659
X-APPLE-STRUCTURED-LOCATION;VALUE=URI;X-ADDRESS=Saint Catherine of Alexandria 4532 S. 25th W. Ave. Tulsa OK 74107 United States;X-APPLE-RADIUS=500;X-TITLE=4532 S. 25th W. Ave.:geo:-96.0216659,36.0981774
END:VEVENT
BEGIN:VEVENT
DTSTART;TZID=America/Chicago:20230521T110000
DTEND;TZID=America/Chicago:20230521T140000
DTSTAMP:20260425T225855
CREATED:20221129T193934Z
LAST-MODIFIED:20230825T193505Z
UID:10011242-1684666800-1684677600@www.saintcatherineschool.org
SUMMARY:Tonu Maria Mass
DESCRIPTION:
URL:https://www.saintcatherineschool.org/event/tonu-maria-mass-14/2023-05-21
LOCATION:Saint Catherine of Alexandria\, 4532 S. 25th W. Ave.\, Tulsa\, OK\, 74107\, United States
CATEGORIES:Church of Saint Catherine,Saint Catherine School
ORGANIZER;CN="Fr. Robert Kim":MAILTO:fr.robert.kim@dioceseoftulsa.org
GEO:36.0981774;-96.0216659
X-APPLE-STRUCTURED-LOCATION;VALUE=URI;X-ADDRESS=Saint Catherine of Alexandria 4532 S. 25th W. Ave. Tulsa OK 74107 United States;X-APPLE-RADIUS=500;X-TITLE=4532 S. 25th W. Ave.:geo:-96.0216659,36.0981774
END:VEVENT
BEGIN:VEVENT
DTSTART;TZID=America/Chicago:20230521T153000
DTEND;TZID=America/Chicago:20230521T163000
DTSTAMP:20260425T225855
CREATED:20230307T143621Z
LAST-MODIFIED:20230307T143621Z
UID:10009582-1684683000-1684686600@www.saintcatherineschool.org
SUMMARY:Track Practice
DESCRIPTION:
URL:https://www.saintcatherineschool.org/event/track-practice-12/2023-05-21
LOCATION:Saint Catherine School\, 2515 W. 46th St.\, Tulsa\, OK\, 74107\, United States
CATEGORIES:Church of Saint Catherine,Saint Catherine School
ORGANIZER;CN="Monique McAtee":MAILTO:mmcatee@saint-catherine.org
GEO:36.0981282;-96.0219361
X-APPLE-STRUCTURED-LOCATION;VALUE=URI;X-ADDRESS=Saint Catherine School 2515 W. 46th St. Tulsa OK 74107 United States;X-APPLE-RADIUS=500;X-TITLE=2515 W. 46th St.:geo:-96.0219361,36.0981282
END:VEVENT
BEGIN:VEVENT
DTSTART;TZID=America/Chicago:20230522T153000
DTEND;TZID=America/Chicago:20230522T163000
DTSTAMP:20260425T225855
CREATED:20230307T143621Z
LAST-MODIFIED:20230307T143621Z
UID:10009583-1684769400-1684773000@www.saintcatherineschool.org
SUMMARY:Track Practice
DESCRIPTION:
URL:https://www.saintcatherineschool.org/event/track-practice-12/2023-05-22
LOCATION:Saint Catherine School\, 2515 W. 46th St.\, Tulsa\, OK\, 74107\, United States
CATEGORIES:Church of Saint Catherine,Saint Catherine School
ORGANIZER;CN="Monique McAtee":MAILTO:mmcatee@saint-catherine.org
GEO:36.0981282;-96.0219361
X-APPLE-STRUCTURED-LOCATION;VALUE=URI;X-ADDRESS=Saint Catherine School 2515 W. 46th St. Tulsa OK 74107 United States;X-APPLE-RADIUS=500;X-TITLE=2515 W. 46th St.:geo:-96.0219361,36.0981282
END:VEVENT
BEGIN:VEVENT
DTSTART;TZID=America/Chicago:20230522T153000
DTEND;TZID=America/Chicago:20230522T170000
DTSTAMP:20260425T225855
CREATED:20230418T182001Z
LAST-MODIFIED:20230418T182001Z
UID:10009757-1684769400-1684774800@www.saintcatherineschool.org
SUMMARY:Volleyball Club
DESCRIPTION:
URL:https://www.saintcatherineschool.org/event/volleyball-club-6/2023-05-22
LOCATION:St. Catherine Activity Center\, 2515 West 46th Street\, Tulsa\, 74107-6629\, United States
CATEGORIES:Church of Saint Catherine,Saint Catherine School
ORGANIZER;CN="Kayley Anthamatten":MAILTO:kayleya@saint-catherine.org
GEO:36.0981282;-96.0219361
X-APPLE-STRUCTURED-LOCATION;VALUE=URI;X-ADDRESS=St. Catherine Activity Center 2515 West 46th Street Tulsa 74107-6629 United States;X-APPLE-RADIUS=500;X-TITLE=2515 West 46th Street:geo:-96.0219361,36.0981282
END:VEVENT
BEGIN:VEVENT
DTSTART;TZID=America/Chicago:20230523T081500
DTEND;TZID=America/Chicago:20230523T090000
DTSTAMP:20260425T225855
CREATED:20230120T172231Z
LAST-MODIFIED:20230120T172231Z
UID:10008182-1684829700-1684832400@www.saintcatherineschool.org
SUMMARY:Mass - Saint Catherine
DESCRIPTION:
URL:https://www.saintcatherineschool.org/event/mass-saint-catherine-19/2023-05-23
LOCATION:Saint Catherine of Alexandria\, 4532 S. 25th W. Ave.\, Tulsa\, OK\, 74107\, United States
CATEGORIES:Church of Saint Catherine,Saint Catherine School
ORGANIZER;CN="Fr. John Grant":MAILTO:fr.joh.grant@saint-catherine.org
GEO:36.0981774;-96.0216659
X-APPLE-STRUCTURED-LOCATION;VALUE=URI;X-ADDRESS=Saint Catherine of Alexandria 4532 S. 25th W. Ave. Tulsa OK 74107 United States;X-APPLE-RADIUS=500;X-TITLE=4532 S. 25th W. Ave.:geo:-96.0216659,36.0981774
END:VEVENT
BEGIN:VEVENT
DTSTART;TZID=America/Chicago:20230523T153000
DTEND;TZID=America/Chicago:20230523T163000
DTSTAMP:20260425T225855
CREATED:20230307T143621Z
LAST-MODIFIED:20230307T143621Z
UID:10009584-1684855800-1684859400@www.saintcatherineschool.org
SUMMARY:Track Practice
DESCRIPTION:
URL:https://www.saintcatherineschool.org/event/track-practice-12/2023-05-23
LOCATION:Saint Catherine School\, 2515 W. 46th St.\, Tulsa\, OK\, 74107\, United States
CATEGORIES:Church of Saint Catherine,Saint Catherine School
ORGANIZER;CN="Monique McAtee":MAILTO:mmcatee@saint-catherine.org
GEO:36.0981282;-96.0219361
X-APPLE-STRUCTURED-LOCATION;VALUE=URI;X-ADDRESS=Saint Catherine School 2515 W. 46th St. Tulsa OK 74107 United States;X-APPLE-RADIUS=500;X-TITLE=2515 W. 46th St.:geo:-96.0219361,36.0981282
END:VEVENT
BEGIN:VEVENT
DTSTART;TZID=America/Chicago:20230524T080000
DTEND;TZID=America/Chicago:20230524T090000
DTSTAMP:20260425T225855
CREATED:20230120T172320Z
LAST-MODIFIED:20230120T172407Z
UID:10009652-1684915200-1684918800@www.saintcatherineschool.org
SUMMARY:Mass - Tonu Maria
DESCRIPTION:
URL:https://www.saintcatherineschool.org/event/mass-tonu-maria-11/2023-05-24
LOCATION:Saint Catherine of Alexandria\, 4532 S. 25th W. Ave.\, Tulsa\, OK\, 74107\, United States
CATEGORIES:Church of Saint Catherine,Saint Catherine School
ORGANIZER;CN="Fr. Robert Kim":MAILTO:fr.robert.kim@dioceseoftulsa.org
GEO:36.0981774;-96.0216659
X-APPLE-STRUCTURED-LOCATION;VALUE=URI;X-ADDRESS=Saint Catherine of Alexandria 4532 S. 25th W. Ave. Tulsa OK 74107 United States;X-APPLE-RADIUS=500;X-TITLE=4532 S. 25th W. Ave.:geo:-96.0216659,36.0981774
END:VEVENT
BEGIN:VEVENT
DTSTART;TZID=America/Chicago:20230524T153000
DTEND;TZID=America/Chicago:20230524T163000
DTSTAMP:20260425T225855
CREATED:20230307T143621Z
LAST-MODIFIED:20230307T143621Z
UID:10009585-1684942200-1684945800@www.saintcatherineschool.org
SUMMARY:Track Practice
DESCRIPTION:
URL:https://www.saintcatherineschool.org/event/track-practice-12/2023-05-24
LOCATION:Saint Catherine School\, 2515 W. 46th St.\, Tulsa\, OK\, 74107\, United States
CATEGORIES:Church of Saint Catherine,Saint Catherine School
ORGANIZER;CN="Monique McAtee":MAILTO:mmcatee@saint-catherine.org
GEO:36.0981282;-96.0219361
X-APPLE-STRUCTURED-LOCATION;VALUE=URI;X-ADDRESS=Saint Catherine School 2515 W. 46th St. Tulsa OK 74107 United States;X-APPLE-RADIUS=500;X-TITLE=2515 W. 46th St.:geo:-96.0219361,36.0981282
END:VEVENT
BEGIN:VEVENT
DTSTART;TZID=America/Chicago:20230525T080000
DTEND;TZID=America/Chicago:20230525T130000
DTSTAMP:20260425T225855
CREATED:20220728T202614Z
LAST-MODIFIED:20220728T202614Z
UID:10009218-1685001600-1685019600@www.saintcatherineschool.org
SUMMARY:Last Day of School
DESCRIPTION:Today is the last day of school.  Dismissal is at 1:00 and there is no aftercare.
URL:https://www.saintcatherineschool.org/event/last-day-of-school-6
LOCATION:Saint Catherine School\, 2515 W. 46th St.\, Tulsa\, OK\, 74107\, United States
CATEGORIES:Church of Saint Catherine,Saint Catherine School
ORGANIZER;CN="Michelle Anthamatten":MAILTO:manthamatten@saint-catherine.org
GEO:36.0981282;-96.0219361
X-APPLE-STRUCTURED-LOCATION;VALUE=URI;X-ADDRESS=Saint Catherine School 2515 W. 46th St. Tulsa OK 74107 United States;X-APPLE-RADIUS=500;X-TITLE=2515 W. 46th St.:geo:-96.0219361,36.0981282
END:VEVENT
BEGIN:VEVENT
DTSTART;TZID=America/Chicago:20230525T081500
DTEND;TZID=America/Chicago:20230525T090000
DTSTAMP:20260425T225855
CREATED:20230120T172528Z
LAST-MODIFIED:20230120T172528Z
UID:10009673-1685002500-1685005200@www.saintcatherineschool.org
SUMMARY:Mass - Saint Catherine
DESCRIPTION:
URL:https://www.saintcatherineschool.org/event/mass-saint-catherine-20/2023-05-25
LOCATION:Saint Catherine of Alexandria\, 4532 S. 25th W. Ave.\, Tulsa\, OK\, 74107\, United States
CATEGORIES:Church of Saint Catherine,Saint Catherine School
ORGANIZER;CN="Fr. John Grant":MAILTO:fr.joh.grant@saint-catherine.org
GEO:36.0981774;-96.0216659
X-APPLE-STRUCTURED-LOCATION;VALUE=URI;X-ADDRESS=Saint Catherine of Alexandria 4532 S. 25th W. Ave. Tulsa OK 74107 United States;X-APPLE-RADIUS=500;X-TITLE=4532 S. 25th W. Ave.:geo:-96.0216659,36.0981774
END:VEVENT
BEGIN:VEVENT
DTSTART;TZID=America/Chicago:20230525T153000
DTEND;TZID=America/Chicago:20230525T163000
DTSTAMP:20260425T225855
CREATED:20230307T143621Z
LAST-MODIFIED:20230307T143621Z
UID:10009586-1685028600-1685032200@www.saintcatherineschool.org
SUMMARY:Track Practice
DESCRIPTION:
URL:https://www.saintcatherineschool.org/event/track-practice-12/2023-05-25
LOCATION:Saint Catherine School\, 2515 W. 46th St.\, Tulsa\, OK\, 74107\, United States
CATEGORIES:Church of Saint Catherine,Saint Catherine School
ORGANIZER;CN="Monique McAtee":MAILTO:mmcatee@saint-catherine.org
GEO:36.0981282;-96.0219361
X-APPLE-STRUCTURED-LOCATION;VALUE=URI;X-ADDRESS=Saint Catherine School 2515 W. 46th St. Tulsa OK 74107 United States;X-APPLE-RADIUS=500;X-TITLE=2515 W. 46th St.:geo:-96.0219361,36.0981282
END:VEVENT
BEGIN:VEVENT
DTSTART;TZID=America/Chicago:20230526T153000
DTEND;TZID=America/Chicago:20230526T163000
DTSTAMP:20260425T225855
CREATED:20230307T143621Z
LAST-MODIFIED:20230307T143621Z
UID:10009587-1685115000-1685118600@www.saintcatherineschool.org
SUMMARY:Track Practice
DESCRIPTION:
URL:https://www.saintcatherineschool.org/event/track-practice-12/2023-05-26
LOCATION:Saint Catherine School\, 2515 W. 46th St.\, Tulsa\, OK\, 74107\, United States
CATEGORIES:Church of Saint Catherine,Saint Catherine School
ORGANIZER;CN="Monique McAtee":MAILTO:mmcatee@saint-catherine.org
GEO:36.0981282;-96.0219361
X-APPLE-STRUCTURED-LOCATION;VALUE=URI;X-ADDRESS=Saint Catherine School 2515 W. 46th St. Tulsa OK 74107 United States;X-APPLE-RADIUS=500;X-TITLE=2515 W. 46th St.:geo:-96.0219361,36.0981282
END:VEVENT
BEGIN:VEVENT
DTSTART;TZID=America/Chicago:20230527T120000
DTEND;TZID=America/Chicago:20230527T130000
DTSTAMP:20260425T225855
CREATED:20180123T015350Z
LAST-MODIFIED:20180123T015350Z
UID:10007022-1685188800-1685192400@www.saintcatherineschool.org
SUMMARY:Mass
DESCRIPTION:Mass begins at 5pm in the Church.
URL:https://www.saintcatherineschool.org/event/mass-8/2023-05-27
LOCATION:OK
CATEGORIES:Church of Saint Catherine,Saint Catherine School
END:VEVENT
BEGIN:VEVENT
DTSTART;TZID=America/Chicago:20230527T153000
DTEND;TZID=America/Chicago:20230527T163000
DTSTAMP:20260425T225855
CREATED:20180816T212032Z
LAST-MODIFIED:20180816T212032Z
UID:10007871-1685201400-1685205000@www.saintcatherineschool.org
SUMMARY:Faculty Meeting
DESCRIPTION:The faculty of Saint Catherine will have their monthly faculty meeting today after school at 3:30 in Mrs. Reid’s room.
URL:https://www.saintcatherineschool.org/event/faculty-meeting-6/2023-05-27
LOCATION:Mrs. Reid’s classroom
CATEGORIES:Church of Saint Catherine,Saint Catherine School
ORGANIZER;CN="Michelle Anthamatten":MAILTO:manthamatten@saint-catherine.org
END:VEVENT
BEGIN:VEVENT
DTSTART;TZID=America/Chicago:20230527T153000
DTEND;TZID=America/Chicago:20230527T163000
DTSTAMP:20260425T225855
CREATED:20230307T143621Z
LAST-MODIFIED:20230307T143621Z
UID:10009588-1685201400-1685205000@www.saintcatherineschool.org
SUMMARY:Track Practice
DESCRIPTION:
URL:https://www.saintcatherineschool.org/event/track-practice-12/2023-05-27
LOCATION:Saint Catherine School\, 2515 W. 46th St.\, Tulsa\, OK\, 74107\, United States
CATEGORIES:Church of Saint Catherine,Saint Catherine School
ORGANIZER;CN="Monique McAtee":MAILTO:mmcatee@saint-catherine.org
GEO:36.0981282;-96.0219361
X-APPLE-STRUCTURED-LOCATION;VALUE=URI;X-ADDRESS=Saint Catherine School 2515 W. 46th St. Tulsa OK 74107 United States;X-APPLE-RADIUS=500;X-TITLE=2515 W. 46th St.:geo:-96.0219361,36.0981282
END:VEVENT
BEGIN:VEVENT
DTSTART;TZID=America/Chicago:20230527T153000
DTEND;TZID=America/Chicago:20230527T170000
DTSTAMP:20260425T225855
CREATED:20180123T023113Z
LAST-MODIFIED:20201202T201345Z
UID:10005859-1685201400-1685206800@www.saintcatherineschool.org
SUMMARY:Confessions
DESCRIPTION:Fr. Grant will hear confessions from 3:30-5:00.
URL:https://www.saintcatherineschool.org/event/confessions/2023-05-27
LOCATION:Saint Catherine of Alexandria\, 4532 S. 25th W. Ave.\, Tulsa\, OK\, 74107\, United States
CATEGORIES:Church of Saint Catherine,Saint Catherine School
GEO:36.0981774;-96.0216659
X-APPLE-STRUCTURED-LOCATION;VALUE=URI;X-ADDRESS=Saint Catherine of Alexandria 4532 S. 25th W. Ave. Tulsa OK 74107 United States;X-APPLE-RADIUS=500;X-TITLE=4532 S. 25th W. Ave.:geo:-96.0216659,36.0981774
END:VEVENT
BEGIN:VEVENT
DTSTART;TZID=America/Chicago:20230528T073000
DTEND;TZID=America/Chicago:20230528T080000
DTSTAMP:20260425T225855
CREATED:20221129T175640Z
LAST-MODIFIED:20230825T193319Z
UID:10011193-1685259000-1685260800@www.saintcatherineschool.org
SUMMARY:Confessions
DESCRIPTION:Confessions are directly after Mass at 12:00pm.
URL:https://www.saintcatherineschool.org/event/confessions-5/2023-05-28
LOCATION:Saint Catherine of Alexandria\, 4532 S. 25th W. Ave.\, Tulsa\, OK\, 74107\, United States
CATEGORIES:Church of Saint Catherine,Saint Catherine School
ORGANIZER;CN="Fr. John Grant":MAILTO:fr.joh.grant@saint-catherine.org
GEO:36.0981774;-96.0216659
X-APPLE-STRUCTURED-LOCATION;VALUE=URI;X-ADDRESS=Saint Catherine of Alexandria 4532 S. 25th W. Ave. Tulsa OK 74107 United States;X-APPLE-RADIUS=500;X-TITLE=4532 S. 25th W. Ave.:geo:-96.0216659,36.0981774
END:VEVENT
BEGIN:VEVENT
DTSTART;TZID=America/Chicago:20230528T110000
DTEND;TZID=America/Chicago:20230528T140000
DTSTAMP:20260425T225855
CREATED:20221129T193934Z
LAST-MODIFIED:20230825T193505Z
UID:10011243-1685271600-1685282400@www.saintcatherineschool.org
SUMMARY:Tonu Maria Mass
DESCRIPTION:
URL:https://www.saintcatherineschool.org/event/tonu-maria-mass-14/2023-05-28
LOCATION:Saint Catherine of Alexandria\, 4532 S. 25th W. Ave.\, Tulsa\, OK\, 74107\, United States
CATEGORIES:Church of Saint Catherine,Saint Catherine School
ORGANIZER;CN="Fr. Robert Kim":MAILTO:fr.robert.kim@dioceseoftulsa.org
GEO:36.0981774;-96.0216659
X-APPLE-STRUCTURED-LOCATION;VALUE=URI;X-ADDRESS=Saint Catherine of Alexandria 4532 S. 25th W. Ave. Tulsa OK 74107 United States;X-APPLE-RADIUS=500;X-TITLE=4532 S. 25th W. Ave.:geo:-96.0216659,36.0981774
END:VEVENT
BEGIN:VEVENT
DTSTART;TZID=America/Chicago:20230528T130000
DTEND;TZID=America/Chicago:20230528T170000
DTSTAMP:20260425T225855
CREATED:20230418T182603Z
LAST-MODIFIED:20230418T182603Z
UID:10009674-1685278800-1685293200@www.saintcatherineschool.org
SUMMARY:Confirmation - Tonu Maria
DESCRIPTION:
URL:https://www.saintcatherineschool.org/event/confirmation-tonu-maria
LOCATION:Saint Catherine of Alexandria\, 4532 S. 25th W. Ave.\, Tulsa\, OK\, 74107\, United States
CATEGORIES:Church of Saint Catherine,Saint Catherine School
ORGANIZER;CN="Fr. Robert Kim":MAILTO:fr.robert.kim@dioceseoftulsa.org
GEO:36.0981774;-96.0216659
X-APPLE-STRUCTURED-LOCATION;VALUE=URI;X-ADDRESS=Saint Catherine of Alexandria 4532 S. 25th W. Ave. Tulsa OK 74107 United States;X-APPLE-RADIUS=500;X-TITLE=4532 S. 25th W. Ave.:geo:-96.0216659,36.0981774
END:VEVENT
BEGIN:VEVENT
DTSTART;TZID=America/Chicago:20230528T153000
DTEND;TZID=America/Chicago:20230528T163000
DTSTAMP:20260425T225855
CREATED:20230307T143621Z
LAST-MODIFIED:20230307T143621Z
UID:10009589-1685287800-1685291400@www.saintcatherineschool.org
SUMMARY:Track Practice
DESCRIPTION:
URL:https://www.saintcatherineschool.org/event/track-practice-12/2023-05-28
LOCATION:Saint Catherine School\, 2515 W. 46th St.\, Tulsa\, OK\, 74107\, United States
CATEGORIES:Church of Saint Catherine,Saint Catherine School
ORGANIZER;CN="Monique McAtee":MAILTO:mmcatee@saint-catherine.org
GEO:36.0981282;-96.0219361
X-APPLE-STRUCTURED-LOCATION;VALUE=URI;X-ADDRESS=Saint Catherine School 2515 W. 46th St. Tulsa OK 74107 United States;X-APPLE-RADIUS=500;X-TITLE=2515 W. 46th St.:geo:-96.0219361,36.0981282
END:VEVENT
BEGIN:VEVENT
DTSTART;TZID=America/Chicago:20230529T153000
DTEND;TZID=America/Chicago:20230529T163000
DTSTAMP:20260425T225855
CREATED:20230307T143621Z
LAST-MODIFIED:20230307T143621Z
UID:10009590-1685374200-1685377800@www.saintcatherineschool.org
SUMMARY:Track Practice
DESCRIPTION:
URL:https://www.saintcatherineschool.org/event/track-practice-12/2023-05-29
LOCATION:Saint Catherine School\, 2515 W. 46th St.\, Tulsa\, OK\, 74107\, United States
CATEGORIES:Church of Saint Catherine,Saint Catherine School
ORGANIZER;CN="Monique McAtee":MAILTO:mmcatee@saint-catherine.org
GEO:36.0981282;-96.0219361
X-APPLE-STRUCTURED-LOCATION;VALUE=URI;X-ADDRESS=Saint Catherine School 2515 W. 46th St. Tulsa OK 74107 United States;X-APPLE-RADIUS=500;X-TITLE=2515 W. 46th St.:geo:-96.0219361,36.0981282
END:VEVENT
END:VCALENDAR