BEGIN:VCALENDAR
VERSION:2.0
PRODID:-//Saint Catherine of Alexandria School - ECPv6.15.20//NONSGML v1.0//EN
CALSCALE:GREGORIAN
METHOD:PUBLISH
X-WR-CALNAME:Saint Catherine of Alexandria School
X-ORIGINAL-URL:https://www.saintcatherineschool.org
X-WR-CALDESC:Events for Saint Catherine of Alexandria School
REFRESH-INTERVAL;VALUE=DURATION:PT1H
X-Robots-Tag:noindex
X-PUBLISHED-TTL:PT1H
BEGIN:VTIMEZONE
TZID:America/Chicago
BEGIN:DAYLIGHT
TZOFFSETFROM:-0600
TZOFFSETTO:-0500
TZNAME:CDT
DTSTART:20240310T080000
END:DAYLIGHT
BEGIN:STANDARD
TZOFFSETFROM:-0500
TZOFFSETTO:-0600
TZNAME:CST
DTSTART:20241103T070000
END:STANDARD
BEGIN:DAYLIGHT
TZOFFSETFROM:-0600
TZOFFSETTO:-0500
TZNAME:CDT
DTSTART:20250309T080000
END:DAYLIGHT
BEGIN:STANDARD
TZOFFSETFROM:-0500
TZOFFSETTO:-0600
TZNAME:CST
DTSTART:20251102T070000
END:STANDARD
BEGIN:DAYLIGHT
TZOFFSETFROM:-0600
TZOFFSETTO:-0500
TZNAME:CDT
DTSTART:20260308T080000
END:DAYLIGHT
BEGIN:STANDARD
TZOFFSETFROM:-0500
TZOFFSETTO:-0600
TZNAME:CST
DTSTART:20261101T070000
END:STANDARD
END:VTIMEZONE
BEGIN:VEVENT
DTSTART;TZID=America/Chicago:20250504T080000
DTEND;TZID=America/Chicago:20250504T090000
DTSTAMP:20260425T061641
CREATED:20250411T155001Z
LAST-MODIFIED:20250411T155001Z
UID:10012371-1746345600-1746349200@www.saintcatherineschool.org
SUMMARY:Mass - English
DESCRIPTION:
URL:https://www.saintcatherineschool.org/event/mass-english-46/2025-05-04
LOCATION:Saint Catherine of Alexandria\, 4532 S. 25th W. Ave.\, Tulsa\, OK\, 74107\, United States
CATEGORIES:Church of Saint Catherine,Saint Catherine School
ORGANIZER;CN="Fr. Robert Kim":MAILTO:fr.robert.kim@dioceseoftulsa.org
GEO:36.0981774;-96.0216659
X-APPLE-STRUCTURED-LOCATION;VALUE=URI;X-ADDRESS=Saint Catherine of Alexandria 4532 S. 25th W. Ave. Tulsa OK 74107 United States;X-APPLE-RADIUS=500;X-TITLE=4532 S. 25th W. Ave.:geo:-96.0216659,36.0981774
END:VEVENT
BEGIN:VEVENT
DTSTART;TZID=America/Chicago:20250504T073000
DTEND;TZID=America/Chicago:20250504T080000
DTSTAMP:20260425T061641
CREATED:20250411T155427Z
LAST-MODIFIED:20250411T155427Z
UID:10012399-1746343800-1746345600@www.saintcatherineschool.org
SUMMARY:Confession
DESCRIPTION:
URL:https://www.saintcatherineschool.org/event/confession-15/2025-05-04
LOCATION:Saint Catherine of Alexandria\, 4532 S. 25th W. Ave.\, Tulsa\, OK\, 74107\, United States
CATEGORIES:Church of Saint Catherine,Saint Catherine School
ORGANIZER;CN="Fr. Robert Kim":MAILTO:fr.robert.kim@dioceseoftulsa.org
GEO:36.0981774;-96.0216659
X-APPLE-STRUCTURED-LOCATION;VALUE=URI;X-ADDRESS=Saint Catherine of Alexandria 4532 S. 25th W. Ave. Tulsa OK 74107 United States;X-APPLE-RADIUS=500;X-TITLE=4532 S. 25th W. Ave.:geo:-96.0216659,36.0981774
END:VEVENT
BEGIN:VEVENT
DTSTART;TZID=America/Chicago:20250503T170000
DTEND;TZID=America/Chicago:20250503T180000
DTSTAMP:20260425T061641
CREATED:20250411T162142Z
LAST-MODIFIED:20250411T162142Z
UID:10012644-1746291600-1746295200@www.saintcatherineschool.org
SUMMARY:Mass - English
DESCRIPTION:
URL:https://www.saintcatherineschool.org/event/mass-english-50/2025-05-03
LOCATION:Saint Catherine of Alexandria\, 4532 S. 25th W. Ave.\, Tulsa\, OK\, 74107\, United States
CATEGORIES:Church of Saint Catherine,Saint Catherine School
ORGANIZER;CN="Fr. Robert Kim":MAILTO:fr.robert.kim@dioceseoftulsa.org
GEO:36.0981774;-96.0216659
X-APPLE-STRUCTURED-LOCATION;VALUE=URI;X-ADDRESS=Saint Catherine of Alexandria 4532 S. 25th W. Ave. Tulsa OK 74107 United States;X-APPLE-RADIUS=500;X-TITLE=4532 S. 25th W. Ave.:geo:-96.0216659,36.0981774
END:VEVENT
BEGIN:VEVENT
DTSTART;TZID=America/Chicago:20250503T153000
DTEND;TZID=America/Chicago:20250503T170000
DTSTAMP:20260425T061641
CREATED:20180123T023113Z
LAST-MODIFIED:20201202T201345Z
UID:10005960-1746286200-1746291600@www.saintcatherineschool.org
SUMMARY:Confessions
DESCRIPTION:Fr. Grant will hear confessions from 3:30-5:00.
URL:https://www.saintcatherineschool.org/event/confessions/2025-05-03
LOCATION:Saint Catherine of Alexandria\, 4532 S. 25th W. Ave.\, Tulsa\, OK\, 74107\, United States
CATEGORIES:Church of Saint Catherine,Saint Catherine School
GEO:36.0981774;-96.0216659
X-APPLE-STRUCTURED-LOCATION;VALUE=URI;X-ADDRESS=Saint Catherine of Alexandria 4532 S. 25th W. Ave. Tulsa OK 74107 United States;X-APPLE-RADIUS=500;X-TITLE=4532 S. 25th W. Ave.:geo:-96.0216659,36.0981774
END:VEVENT
BEGIN:VEVENT
DTSTART;TZID=America/Chicago:20250503T100000
DTEND;TZID=America/Chicago:20250503T110000
DTSTAMP:20260425T061641
CREATED:20250411T154826Z
LAST-MODIFIED:20250411T154826Z
UID:10012368-1746266400-1746270000@www.saintcatherineschool.org
SUMMARY:Blue and Red Soccer Games
DESCRIPTION:
URL:https://www.saintcatherineschool.org/event/blue-and-red-soccer-games/2025-05-03
LOCATION:St. Augustine\, 1720 E Apache St\, Tulsa\, OK\, 74110\, United States
CATEGORIES:Church of Saint Catherine,Saint Catherine School
ORGANIZER;CN="Sam Naab":MAILTO:snaab@saint-catherine.org
GEO:36.1911097;-95.965663
X-APPLE-STRUCTURED-LOCATION;VALUE=URI;X-ADDRESS=St. Augustine 1720 E Apache St Tulsa OK 74110 United States;X-APPLE-RADIUS=500;X-TITLE=1720 E Apache St:geo:-95.965663,36.1911097
END:VEVENT
BEGIN:VEVENT
DTSTART;TZID=America/Chicago:20250502T140000
DTEND;TZID=America/Chicago:20250502T150000
DTSTAMP:20260425T061641
CREATED:20240701T025415Z
LAST-MODIFIED:20240701T025415Z
UID:10011706-1746194400-1746198000@www.saintcatherineschool.org
SUMMARY:Adoration
DESCRIPTION:
URL:https://www.saintcatherineschool.org/event/adoration-29
LOCATION:Saint Catherine of Alexandria\, 4532 S. 25th W. Ave.\, Tulsa\, OK\, 74107\, United States
CATEGORIES:Church of Saint Catherine,Saint Catherine School
ORGANIZER;CN="Fr. Robert Kim":MAILTO:fr.robert.kim@dioceseoftulsa.org
GEO:36.0981774;-96.0216659
X-APPLE-STRUCTURED-LOCATION;VALUE=URI;X-ADDRESS=Saint Catherine of Alexandria 4532 S. 25th W. Ave. Tulsa OK 74107 United States;X-APPLE-RADIUS=500;X-TITLE=4532 S. 25th W. Ave.:geo:-96.0216659,36.0981774
END:VEVENT
BEGIN:VEVENT
DTSTART;TZID=America/Chicago:20250502T080000
DTEND;TZID=America/Chicago:20250502T090000
DTSTAMP:20260425T061641
CREATED:20250411T161914Z
LAST-MODIFIED:20250411T161914Z
UID:10012639-1746172800-1746176400@www.saintcatherineschool.org
SUMMARY:Mass - English
DESCRIPTION:
URL:https://www.saintcatherineschool.org/event/mass-english-49/2025-05-02
LOCATION:Saint Catherine of Alexandria\, 4532 S. 25th W. Ave.\, Tulsa\, OK\, 74107\, United States
CATEGORIES:Church of Saint Catherine,Saint Catherine School
ORGANIZER;CN="Fr. Robert Kim":MAILTO:fr.robert.kim@dioceseoftulsa.org
GEO:36.0981774;-96.0216659
X-APPLE-STRUCTURED-LOCATION;VALUE=URI;X-ADDRESS=Saint Catherine of Alexandria 4532 S. 25th W. Ave. Tulsa OK 74107 United States;X-APPLE-RADIUS=500;X-TITLE=4532 S. 25th W. Ave.:geo:-96.0216659,36.0981774
END:VEVENT
BEGIN:VEVENT
DTSTART;TZID=America/Chicago:20250501T153000
DTEND;TZID=America/Chicago:20250501T163000
DTSTAMP:20260425T061641
CREATED:20250411T175910Z
LAST-MODIFIED:20250411T175910Z
UID:10012714-1746113400-1746117000@www.saintcatherineschool.org
SUMMARY:Volleyball Club
DESCRIPTION:
URL:https://www.saintcatherineschool.org/event/volleyball-club-14
LOCATION:Saint Catherine School\, 2515 W. 46th St.\, Tulsa\, OK\, 74107\, United States
CATEGORIES:Church of Saint Catherine,Saint Catherine School
ORGANIZER;CN="Fr. Robert Kim":MAILTO:fr.robert.kim@dioceseoftulsa.org
GEO:36.0981282;-96.0219361
X-APPLE-STRUCTURED-LOCATION;VALUE=URI;X-ADDRESS=Saint Catherine School 2515 W. 46th St. Tulsa OK 74107 United States;X-APPLE-RADIUS=500;X-TITLE=2515 W. 46th St.:geo:-96.0219361,36.0981282
END:VEVENT
BEGIN:VEVENT
DTSTART;TZID=America/Chicago:20250501T080000
DTEND;TZID=America/Chicago:20250501T090000
DTSTAMP:20260425T061641
CREATED:20240701T025447Z
LAST-MODIFIED:20240701T025447Z
UID:10011707-1746086400-1746090000@www.saintcatherineschool.org
SUMMARY:Mass - May Crowning
DESCRIPTION:
URL:https://www.saintcatherineschool.org/event/mass-may-crowning
LOCATION:Saint Catherine of Alexandria\, 4532 S. 25th W. Ave.\, Tulsa\, OK\, 74107\, United States
CATEGORIES:Church of Saint Catherine,Saint Catherine School
ORGANIZER;CN="Fr. Robert Kim":MAILTO:fr.robert.kim@dioceseoftulsa.org
GEO:36.0981774;-96.0216659
X-APPLE-STRUCTURED-LOCATION;VALUE=URI;X-ADDRESS=Saint Catherine of Alexandria 4532 S. 25th W. Ave. Tulsa OK 74107 United States;X-APPLE-RADIUS=500;X-TITLE=4532 S. 25th W. Ave.:geo:-96.0216659,36.0981774
END:VEVENT
BEGIN:VEVENT
DTSTART;TZID=America/Chicago:20250430T163000
DTEND;TZID=America/Chicago:20250430T173000
DTSTAMP:20260425T061641
CREATED:20250411T145829Z
LAST-MODIFIED:20250411T145829Z
UID:10012099-1746030600-1746034200@www.saintcatherineschool.org
SUMMARY:Red Soccer Practice
DESCRIPTION:
URL:https://www.saintcatherineschool.org/event/red-soccer-practice-8
LOCATION:Saint Catherine School\, 2515 W. 46th St.\, Tulsa\, OK\, 74107\, United States
CATEGORIES:Church of Saint Catherine,Saint Catherine School
ORGANIZER;CN="Sam Naab":MAILTO:snaab@saint-catherine.org
GEO:36.0981282;-96.0219361
X-APPLE-STRUCTURED-LOCATION;VALUE=URI;X-ADDRESS=Saint Catherine School 2515 W. 46th St. Tulsa OK 74107 United States;X-APPLE-RADIUS=500;X-TITLE=2515 W. 46th St.:geo:-96.0219361,36.0981282
END:VEVENT
BEGIN:VEVENT
DTSTART;TZID=America/Chicago:20250430T153000
DTEND;TZID=America/Chicago:20250430T163000
DTSTAMP:20260425T061641
CREATED:20250411T162507Z
LAST-MODIFIED:20250425T161149Z
UID:10012659-1746027000-1746030600@www.saintcatherineschool.org
SUMMARY:Little Flowers 1st and 2nd
DESCRIPTION:
URL:https://www.saintcatherineschool.org/event/little-flowers-1st-and-2nd-3
LOCATION:Saint Catherine School\, 2515 W. 46th St.\, Tulsa\, OK\, 74107\, United States
CATEGORIES:Church of Saint Catherine,Saint Catherine School
ORGANIZER;CN="Fr. Robert Kim":MAILTO:fr.robert.kim@dioceseoftulsa.org
GEO:36.0981282;-96.0219361
X-APPLE-STRUCTURED-LOCATION;VALUE=URI;X-ADDRESS=Saint Catherine School 2515 W. 46th St. Tulsa OK 74107 United States;X-APPLE-RADIUS=500;X-TITLE=2515 W. 46th St.:geo:-96.0219361,36.0981282
END:VEVENT
BEGIN:VEVENT
DTSTART;TZID=America/Chicago:20250430T153000
DTEND;TZID=America/Chicago:20250430T163000
DTSTAMP:20260425T061641
CREATED:20250411T145800Z
LAST-MODIFIED:20250411T145800Z
UID:10012098-1746027000-1746030600@www.saintcatherineschool.org
SUMMARY:Blue Soccer Practice
DESCRIPTION:
URL:https://www.saintcatherineschool.org/event/blue-soccer-practice-4
LOCATION:Saint Catherine School\, 2515 W. 46th St.\, Tulsa\, OK\, 74107\, United States
CATEGORIES:Church of Saint Catherine,Saint Catherine School
ORGANIZER;CN="Sam Naab":MAILTO:snaab@saint-catherine.org
GEO:36.0981282;-96.0219361
X-APPLE-STRUCTURED-LOCATION;VALUE=URI;X-ADDRESS=Saint Catherine School 2515 W. 46th St. Tulsa OK 74107 United States;X-APPLE-RADIUS=500;X-TITLE=2515 W. 46th St.:geo:-96.0219361,36.0981282
END:VEVENT
BEGIN:VEVENT
DTSTART;TZID=America/Chicago:20250430T090000
DTEND;TZID=America/Chicago:20250430T130000
DTSTAMP:20260425T061641
CREATED:20250411T150131Z
LAST-MODIFIED:20250411T150131Z
UID:10012100-1746003600-1746018000@www.saintcatherineschool.org
SUMMARY:4th Grade Field Trip - Philbrook Museum
DESCRIPTION:The students may wear spiritwear or their uniforms.  They are to bring a cold lunch that day.
URL:https://www.saintcatherineschool.org/event/4th-grade-field-trip-philbrook-museum
LOCATION:OK
CATEGORIES:Church of Saint Catherine,Saint Catherine School
END:VEVENT
BEGIN:VEVENT
DTSTART;TZID=America/Chicago:20250430T080000
DTEND;TZID=America/Chicago:20250430T090000
DTSTAMP:20260425T061641
CREATED:20250306T190643Z
LAST-MODIFIED:20250306T190643Z
UID:10012045-1746000000-1746003600@www.saintcatherineschool.org
SUMMARY:Mass - Zomi
DESCRIPTION:
URL:https://www.saintcatherineschool.org/event/mass-zomi-18/2025-04-30
LOCATION:Saint Catherine of Alexandria\, 4532 S. 25th W. Ave.\, Tulsa\, OK\, 74107\, United States
CATEGORIES:Church of Saint Catherine,Saint Catherine School
ORGANIZER;CN="Fr. Robert Kim":MAILTO:fr.robert.kim@dioceseoftulsa.org
GEO:36.0981774;-96.0216659
X-APPLE-STRUCTURED-LOCATION;VALUE=URI;X-ADDRESS=Saint Catherine of Alexandria 4532 S. 25th W. Ave. Tulsa OK 74107 United States;X-APPLE-RADIUS=500;X-TITLE=4532 S. 25th W. Ave.:geo:-96.0216659,36.0981774
END:VEVENT
BEGIN:VEVENT
DTSTART;TZID=America/Chicago:20250429T153000
DTEND;TZID=America/Chicago:20250429T170000
DTSTAMP:20260425T061641
CREATED:20250306T194847Z
LAST-MODIFIED:20250306T194847Z
UID:10012067-1745940600-1745946000@www.saintcatherineschool.org
SUMMARY:Soccer Practice
DESCRIPTION:
URL:https://www.saintcatherineschool.org/event/soccer-practice-6/2025-04-29
LOCATION:Saint Catherine School\, 2515 W. 46th St.\, Tulsa\, OK\, 74107\, United States
CATEGORIES:Church of Saint Catherine,Saint Catherine School
ORGANIZER;CN="Sam Naab":MAILTO:snaab@saint-catherine.org
GEO:36.0981282;-96.0219361
X-APPLE-STRUCTURED-LOCATION;VALUE=URI;X-ADDRESS=Saint Catherine School 2515 W. 46th St. Tulsa OK 74107 United States;X-APPLE-RADIUS=500;X-TITLE=2515 W. 46th St.:geo:-96.0219361,36.0981282
END:VEVENT
BEGIN:VEVENT
DTSTART;TZID=America/Chicago:20250429T080000
DTEND;TZID=America/Chicago:20250429T090000
DTSTAMP:20260425T061641
CREATED:20250306T184604Z
LAST-MODIFIED:20250306T184604Z
UID:10012016-1745913600-1745917200@www.saintcatherineschool.org
SUMMARY:Mass - English
DESCRIPTION:
URL:https://www.saintcatherineschool.org/event/mass-english-41/2025-04-29
LOCATION:Saint Catherine of Alexandria\, 4532 S. 25th W. Ave.\, Tulsa\, OK\, 74107\, United States
CATEGORIES:Church of Saint Catherine,Saint Catherine School
ORGANIZER;CN="Fr. Robert Kim":MAILTO:fr.robert.kim@dioceseoftulsa.org
GEO:36.0981774;-96.0216659
X-APPLE-STRUCTURED-LOCATION;VALUE=URI;X-ADDRESS=Saint Catherine of Alexandria 4532 S. 25th W. Ave. Tulsa OK 74107 United States;X-APPLE-RADIUS=500;X-TITLE=4532 S. 25th W. Ave.:geo:-96.0216659,36.0981774
END:VEVENT
BEGIN:VEVENT
DTSTART;TZID=America/Chicago:20250428T163000
DTEND;TZID=America/Chicago:20250428T173000
DTSTAMP:20260425T061641
CREATED:20250411T145012Z
LAST-MODIFIED:20250411T145012Z
UID:10012097-1745857800-1745861400@www.saintcatherineschool.org
SUMMARY:Red Soccer Practice
DESCRIPTION:
URL:https://www.saintcatherineschool.org/event/red-soccer-practice-7
LOCATION:Saint Catherine School\, 2515 W. 46th St.\, Tulsa\, OK\, 74107\, United States
CATEGORIES:Church of Saint Catherine,Saint Catherine School
ORGANIZER;CN="Sam Naab":MAILTO:snaab@saint-catherine.org
GEO:36.0981282;-96.0219361
X-APPLE-STRUCTURED-LOCATION;VALUE=URI;X-ADDRESS=Saint Catherine School 2515 W. 46th St. Tulsa OK 74107 United States;X-APPLE-RADIUS=500;X-TITLE=2515 W. 46th St.:geo:-96.0219361,36.0981282
END:VEVENT
BEGIN:VEVENT
DTSTART;TZID=America/Chicago:20250428T153000
DTEND;TZID=America/Chicago:20250428T163000
DTSTAMP:20260425T061641
CREATED:20240701T025151Z
LAST-MODIFIED:20240701T025151Z
UID:10011703-1745854200-1745857800@www.saintcatherineschool.org
SUMMARY:Faculty Meeting
DESCRIPTION:
URL:https://www.saintcatherineschool.org/event/faculty-meeting-58
LOCATION:Saint Catherine School\, 2515 W. 46th St.\, Tulsa\, OK\, 74107\, United States
CATEGORIES:Church of Saint Catherine,Saint Catherine School
ORGANIZER;CN="Michelle Anthamatten":MAILTO:manthamatten@saint-catherine.org
GEO:36.0981282;-96.0219361
X-APPLE-STRUCTURED-LOCATION;VALUE=URI;X-ADDRESS=Saint Catherine School 2515 W. 46th St. Tulsa OK 74107 United States;X-APPLE-RADIUS=500;X-TITLE=2515 W. 46th St.:geo:-96.0219361,36.0981282
END:VEVENT
BEGIN:VEVENT
DTSTART;TZID=America/Chicago:20250427T110000
DTEND;TZID=America/Chicago:20250427T120000
DTSTAMP:20260425T061641
CREATED:20250411T155209Z
LAST-MODIFIED:20250411T155209Z
UID:10012384-1745751600-1745755200@www.saintcatherineschool.org
SUMMARY:Mass - Zomi
DESCRIPTION:
URL:https://www.saintcatherineschool.org/event/mass-zomi-19/2025-04-27
LOCATION:Saint Catherine of Alexandria\, 4532 S. 25th W. Ave.\, Tulsa\, OK\, 74107\, United States
CATEGORIES:Church of Saint Catherine,Saint Catherine School
ORGANIZER;CN="Fr. Robert Kim":MAILTO:fr.robert.kim@dioceseoftulsa.org
GEO:36.0981774;-96.0216659
X-APPLE-STRUCTURED-LOCATION;VALUE=URI;X-ADDRESS=Saint Catherine of Alexandria 4532 S. 25th W. Ave. Tulsa OK 74107 United States;X-APPLE-RADIUS=500;X-TITLE=4532 S. 25th W. Ave.:geo:-96.0216659,36.0981774
END:VEVENT
BEGIN:VEVENT
DTSTART;TZID=America/Chicago:20250427T080000
DTEND;TZID=America/Chicago:20250427T090000
DTSTAMP:20260425T061641
CREATED:20250411T155001Z
LAST-MODIFIED:20250411T155001Z
UID:10012370-1745740800-1745744400@www.saintcatherineschool.org
SUMMARY:Mass - English
DESCRIPTION:
URL:https://www.saintcatherineschool.org/event/mass-english-46/2025-04-27
LOCATION:Saint Catherine of Alexandria\, 4532 S. 25th W. Ave.\, Tulsa\, OK\, 74107\, United States
CATEGORIES:Church of Saint Catherine,Saint Catherine School
ORGANIZER;CN="Fr. Robert Kim":MAILTO:fr.robert.kim@dioceseoftulsa.org
GEO:36.0981774;-96.0216659
X-APPLE-STRUCTURED-LOCATION;VALUE=URI;X-ADDRESS=Saint Catherine of Alexandria 4532 S. 25th W. Ave. Tulsa OK 74107 United States;X-APPLE-RADIUS=500;X-TITLE=4532 S. 25th W. Ave.:geo:-96.0216659,36.0981774
END:VEVENT
BEGIN:VEVENT
DTSTART;TZID=America/Chicago:20250427T073000
DTEND;TZID=America/Chicago:20250427T080000
DTSTAMP:20260425T061641
CREATED:20250411T155427Z
LAST-MODIFIED:20250411T155427Z
UID:10012398-1745739000-1745740800@www.saintcatherineschool.org
SUMMARY:Confession
DESCRIPTION:
URL:https://www.saintcatherineschool.org/event/confession-15/2025-04-27
LOCATION:Saint Catherine of Alexandria\, 4532 S. 25th W. Ave.\, Tulsa\, OK\, 74107\, United States
CATEGORIES:Church of Saint Catherine,Saint Catherine School
ORGANIZER;CN="Fr. Robert Kim":MAILTO:fr.robert.kim@dioceseoftulsa.org
GEO:36.0981774;-96.0216659
X-APPLE-STRUCTURED-LOCATION;VALUE=URI;X-ADDRESS=Saint Catherine of Alexandria 4532 S. 25th W. Ave. Tulsa OK 74107 United States;X-APPLE-RADIUS=500;X-TITLE=4532 S. 25th W. Ave.:geo:-96.0216659,36.0981774
END:VEVENT
BEGIN:VEVENT
DTSTART;TZID=America/Chicago:20250426T180000
DTEND;TZID=America/Chicago:20250426T200000
DTSTAMP:20260425T061641
CREATED:20250411T155509Z
LAST-MODIFIED:20250411T155509Z
UID:10012412-1745690400-1745697600@www.saintcatherineschool.org
SUMMARY:Volunteer Appreciation Dinner
DESCRIPTION:
URL:https://www.saintcatherineschool.org/event/volunteer-appreciation-dinner-3
LOCATION:Saint Catherine of Alexandria\, 4532 S. 25th W. Ave.\, Tulsa\, OK\, 74107\, United States
ORGANIZER;CN="Fr. Robert Kim":MAILTO:fr.robert.kim@dioceseoftulsa.org
GEO:36.0981774;-96.0216659
X-APPLE-STRUCTURED-LOCATION;VALUE=URI;X-ADDRESS=Saint Catherine of Alexandria 4532 S. 25th W. Ave. Tulsa OK 74107 United States;X-APPLE-RADIUS=500;X-TITLE=4532 S. 25th W. Ave.:geo:-96.0216659,36.0981774
END:VEVENT
BEGIN:VEVENT
DTSTART;TZID=America/Chicago:20250426T153000
DTEND;TZID=America/Chicago:20250426T170000
DTSTAMP:20260425T061641
CREATED:20180123T023113Z
LAST-MODIFIED:20201202T201345Z
UID:10005959-1745681400-1745686800@www.saintcatherineschool.org
SUMMARY:Confessions
DESCRIPTION:Fr. Grant will hear confessions from 3:30-5:00.
URL:https://www.saintcatherineschool.org/event/confessions/2025-04-26
LOCATION:Saint Catherine of Alexandria\, 4532 S. 25th W. Ave.\, Tulsa\, OK\, 74107\, United States
CATEGORIES:Church of Saint Catherine,Saint Catherine School
GEO:36.0981774;-96.0216659
X-APPLE-STRUCTURED-LOCATION;VALUE=URI;X-ADDRESS=Saint Catherine of Alexandria 4532 S. 25th W. Ave. Tulsa OK 74107 United States;X-APPLE-RADIUS=500;X-TITLE=4532 S. 25th W. Ave.:geo:-96.0216659,36.0981774
END:VEVENT
BEGIN:VEVENT
DTSTART;TZID=America/Chicago:20250426T100000
DTEND;TZID=America/Chicago:20250426T110000
DTSTAMP:20260425T061641
CREATED:20250411T154826Z
LAST-MODIFIED:20250411T154826Z
UID:10012367-1745661600-1745665200@www.saintcatherineschool.org
SUMMARY:Blue and Red Soccer Games
DESCRIPTION:
URL:https://www.saintcatherineschool.org/event/blue-and-red-soccer-games/2025-04-26
LOCATION:St. Augustine\, 1720 E Apache St\, Tulsa\, OK\, 74110\, United States
CATEGORIES:Church of Saint Catherine,Saint Catherine School
ORGANIZER;CN="Sam Naab":MAILTO:snaab@saint-catherine.org
GEO:36.1911097;-95.965663
X-APPLE-STRUCTURED-LOCATION;VALUE=URI;X-ADDRESS=St. Augustine 1720 E Apache St Tulsa OK 74110 United States;X-APPLE-RADIUS=500;X-TITLE=1720 E Apache St:geo:-95.965663,36.1911097
END:VEVENT
BEGIN:VEVENT
DTSTART;TZID=America/Chicago:20250425T153000
DTEND;TZID=America/Chicago:20250425T170000
DTSTAMP:20260425T061641
CREATED:20250411T143453Z
LAST-MODIFIED:20250411T143453Z
UID:10012096-1745595000-1745600400@www.saintcatherineschool.org
SUMMARY:Soccer Practice - Middle School
DESCRIPTION:
URL:https://www.saintcatherineschool.org/event/soccer-practice-middle-school
LOCATION:Saint Catherine School\, 2515 W. 46th St.\, Tulsa\, OK\, 74107\, United States
CATEGORIES:Church of Saint Catherine,Saint Catherine School
ORGANIZER;CN="Sam Naab":MAILTO:snaab@saint-catherine.org
GEO:36.0981282;-96.0219361
X-APPLE-STRUCTURED-LOCATION;VALUE=URI;X-ADDRESS=Saint Catherine School 2515 W. 46th St. Tulsa OK 74107 United States;X-APPLE-RADIUS=500;X-TITLE=2515 W. 46th St.:geo:-96.0219361,36.0981282
END:VEVENT
BEGIN:VEVENT
DTSTART;TZID=America/Chicago:20250425T080000
DTEND;TZID=America/Chicago:20250425T090000
DTSTAMP:20260425T061641
CREATED:20250411T143247Z
LAST-MODIFIED:20250411T143247Z
UID:10012094-1745568000-1745571600@www.saintcatherineschool.org
SUMMARY:Mass - English
DESCRIPTION:
URL:https://www.saintcatherineschool.org/event/mass-english-45
LOCATION:Saint Catherine of Alexandria\, 4532 S. 25th W. Ave.\, Tulsa\, OK\, 74107\, United States
CATEGORIES:Church of Saint Catherine,Saint Catherine School
ORGANIZER;CN="Fr. Robert Kim":MAILTO:fr.robert.kim@dioceseoftulsa.org
GEO:36.0981774;-96.0216659
X-APPLE-STRUCTURED-LOCATION;VALUE=URI;X-ADDRESS=Saint Catherine of Alexandria 4532 S. 25th W. Ave. Tulsa OK 74107 United States;X-APPLE-RADIUS=500;X-TITLE=4532 S. 25th W. Ave.:geo:-96.0216659,36.0981774
END:VEVENT
BEGIN:VEVENT
DTSTART;TZID=America/Chicago:20250424T153000
DTEND;TZID=America/Chicago:20250424T173000
DTSTAMP:20260425T061641
CREATED:20250411T143140Z
LAST-MODIFIED:20250411T143140Z
UID:10012092-1745508600-1745515800@www.saintcatherineschool.org
SUMMARY:8th Grade Movie Night
DESCRIPTION:Movie watching and eating Charlie’s Chicken.
URL:https://www.saintcatherineschool.org/event/8th-grade-movie-night
LOCATION:Saint Catherine School\, 2515 W. 46th St.\, Tulsa\, OK\, 74107\, United States
CATEGORIES:Church of Saint Catherine,Saint Catherine School
ORGANIZER;CN="Sam Naab":MAILTO:snaab@saint-catherine.org
GEO:36.0981282;-96.0219361
X-APPLE-STRUCTURED-LOCATION;VALUE=URI;X-ADDRESS=Saint Catherine School 2515 W. 46th St. Tulsa OK 74107 United States;X-APPLE-RADIUS=500;X-TITLE=2515 W. 46th St.:geo:-96.0219361,36.0981282
END:VEVENT
BEGIN:VEVENT
DTSTART;TZID=America/Chicago:20250424T080000
DTEND;TZID=America/Chicago:20250424T090000
DTSTAMP:20260425T061641
CREATED:20250411T143233Z
LAST-MODIFIED:20250411T143233Z
UID:10012093-1745481600-1745485200@www.saintcatherineschool.org
SUMMARY:Mass - English
DESCRIPTION:
URL:https://www.saintcatherineschool.org/event/mass-english-44
LOCATION:Saint Catherine of Alexandria\, 4532 S. 25th W. Ave.\, Tulsa\, OK\, 74107\, United States
CATEGORIES:Church of Saint Catherine,Saint Catherine School
ORGANIZER;CN="Fr. Robert Kim":MAILTO:fr.robert.kim@dioceseoftulsa.org
GEO:36.0981774;-96.0216659
X-APPLE-STRUCTURED-LOCATION;VALUE=URI;X-ADDRESS=Saint Catherine of Alexandria 4532 S. 25th W. Ave. Tulsa OK 74107 United States;X-APPLE-RADIUS=500;X-TITLE=4532 S. 25th W. Ave.:geo:-96.0216659,36.0981774
END:VEVENT
BEGIN:VEVENT
DTSTART;TZID=America/Chicago:20250423T184500
DTEND;TZID=America/Chicago:20250423T200000
DTSTAMP:20260425T061641
CREATED:20250411T143359Z
LAST-MODIFIED:20250411T143359Z
UID:10012095-1745433900-1745438400@www.saintcatherineschool.org
SUMMARY:Middle School Soccer Game vs. St. Pius
DESCRIPTION:
URL:https://www.saintcatherineschool.org/event/middle-school-soccer-game-vs-st-pius
LOCATION:Riverfield\, 2433 W 61st St\, Tulsa\, 74132\, United States
CATEGORIES:Church of Saint Catherine,Saint Catherine School
ORGANIZER;CN="Sam Naab":MAILTO:snaab@saint-catherine.org
GEO:36.0775959;-96.0196213
X-APPLE-STRUCTURED-LOCATION;VALUE=URI;X-ADDRESS=Riverfield 2433 W 61st St Tulsa 74132 United States;X-APPLE-RADIUS=500;X-TITLE=2433 W 61st St:geo:-96.0196213,36.0775959
END:VEVENT
BEGIN:VEVENT
DTSTART;TZID=America/Chicago:20250423T163000
DTEND;TZID=America/Chicago:20250423T173000
DTSTAMP:20260425T061641
CREATED:20250411T142658Z
LAST-MODIFIED:20250411T142658Z
UID:10012091-1745425800-1745429400@www.saintcatherineschool.org
SUMMARY:Red Soccer Practice
DESCRIPTION:
URL:https://www.saintcatherineschool.org/event/red-soccer-practice-6
LOCATION:Saint Catherine School\, 2515 W. 46th St.\, Tulsa\, OK\, 74107\, United States
CATEGORIES:Church of Saint Catherine,Saint Catherine School
ORGANIZER;CN="Sam Naab":MAILTO:snaab@saint-catherine.org
GEO:36.0981282;-96.0219361
X-APPLE-STRUCTURED-LOCATION;VALUE=URI;X-ADDRESS=Saint Catherine School 2515 W. 46th St. Tulsa OK 74107 United States;X-APPLE-RADIUS=500;X-TITLE=2515 W. 46th St.:geo:-96.0219361,36.0981282
END:VEVENT
END:VCALENDAR