BEGIN:VCALENDAR
VERSION:2.0
PRODID:-//Saint Catherine of Alexandria School - ECPv6.15.20//NONSGML v1.0//EN
CALSCALE:GREGORIAN
METHOD:PUBLISH
X-WR-CALNAME:Saint Catherine of Alexandria School
X-ORIGINAL-URL:https://www.saintcatherineschool.org
X-WR-CALDESC:Events for Saint Catherine of Alexandria School
REFRESH-INTERVAL;VALUE=DURATION:PT1H
X-Robots-Tag:noindex
X-PUBLISHED-TTL:PT1H
BEGIN:VTIMEZONE
TZID:America/Chicago
BEGIN:DAYLIGHT
TZOFFSETFROM:-0600
TZOFFSETTO:-0500
TZNAME:CDT
DTSTART:20230312T080000
END:DAYLIGHT
BEGIN:STANDARD
TZOFFSETFROM:-0500
TZOFFSETTO:-0600
TZNAME:CST
DTSTART:20231105T070000
END:STANDARD
BEGIN:DAYLIGHT
TZOFFSETFROM:-0600
TZOFFSETTO:-0500
TZNAME:CDT
DTSTART:20240310T080000
END:DAYLIGHT
BEGIN:STANDARD
TZOFFSETFROM:-0500
TZOFFSETTO:-0600
TZNAME:CST
DTSTART:20241103T070000
END:STANDARD
BEGIN:DAYLIGHT
TZOFFSETFROM:-0600
TZOFFSETTO:-0500
TZNAME:CDT
DTSTART:20250309T080000
END:DAYLIGHT
BEGIN:STANDARD
TZOFFSETFROM:-0500
TZOFFSETTO:-0600
TZNAME:CST
DTSTART:20251102T070000
END:STANDARD
END:VTIMEZONE
BEGIN:VEVENT
DTSTART;TZID=America/Chicago:20240522T080000
DTEND;TZID=America/Chicago:20240522T090000
DTSTAMP:20260425T055640
CREATED:20240509T152334Z
LAST-MODIFIED:20240509T152334Z
UID:10011559-1716364800-1716368400@www.saintcatherineschool.org
SUMMARY:Mass - Tonu Maria
DESCRIPTION:This Mass is in Zomi.
URL:https://www.saintcatherineschool.org/event/mass-tonu-maria-30
LOCATION:Saint Catherine of Alexandria\, 4532 S. 25th W. Ave.\, Tulsa\, OK\, 74107\, United States
CATEGORIES:Church of Saint Catherine,Saint Catherine School
ORGANIZER;CN="Fr. Robert Kim":MAILTO:fr.robert.kim@dioceseoftulsa.org
GEO:36.0981774;-96.0216659
X-APPLE-STRUCTURED-LOCATION;VALUE=URI;X-ADDRESS=Saint Catherine of Alexandria 4532 S. 25th W. Ave. Tulsa OK 74107 United States;X-APPLE-RADIUS=500;X-TITLE=4532 S. 25th W. Ave.:geo:-96.0216659,36.0981774
END:VEVENT
BEGIN:VEVENT
DTSTART;TZID=America/Chicago:20240523T080000
DTEND;TZID=America/Chicago:20240523T130000
DTSTAMP:20260425T055640
CREATED:20230709T021902Z
LAST-MODIFIED:20230709T021902Z
UID:10009830-1716451200-1716469200@www.saintcatherineschool.org
SUMMARY:Last Day of School
DESCRIPTION:Early Dismissal at 1pm
URL:https://www.saintcatherineschool.org/event/last-day-of-school-7
LOCATION:Saint Catherine School\, 2515 W. 46th St.\, Tulsa\, OK\, 74107\, United States
CATEGORIES:Church of Saint Catherine,Saint Catherine School
ORGANIZER;CN="Michelle Anthamatten":MAILTO:manthamatten@saint-catherine.org
GEO:36.0981282;-96.0219361
X-APPLE-STRUCTURED-LOCATION;VALUE=URI;X-ADDRESS=Saint Catherine School 2515 W. 46th St. Tulsa OK 74107 United States;X-APPLE-RADIUS=500;X-TITLE=2515 W. 46th St.:geo:-96.0219361,36.0981282
END:VEVENT
BEGIN:VEVENT
DTSTART;TZID=America/Chicago:20240523T081500
DTEND;TZID=America/Chicago:20240523T090000
DTSTAMP:20260425T055640
CREATED:20230718T183741Z
LAST-MODIFIED:20230718T183741Z
UID:10010267-1716452100-1716454800@www.saintcatherineschool.org
SUMMARY:Mass - Saint Catherine
DESCRIPTION:This Mass is said in English.
URL:https://www.saintcatherineschool.org/event/mass-saint-catherine-29/2024-05-23
LOCATION:OK
CATEGORIES:Church of Saint Catherine,Saint Catherine School
END:VEVENT
BEGIN:VEVENT
DTSTART;TZID=America/Chicago:20240523T081500
DTEND;TZID=America/Chicago:20240523T090000
DTSTAMP:20260425T055640
CREATED:20240509T151213Z
LAST-MODIFIED:20240509T151213Z
UID:10011552-1716452100-1716454800@www.saintcatherineschool.org
SUMMARY:Mass - Saint Catherine
DESCRIPTION:This Mass is in English.
URL:https://www.saintcatherineschool.org/event/mass-saint-catherine-68
LOCATION:Saint Catherine of Alexandria\, 4532 S. 25th W. Ave.\, Tulsa\, OK\, 74107\, United States
CATEGORIES:Church of Saint Catherine,Saint Catherine School
ORGANIZER;CN="Fr. John Grant":MAILTO:fr.joh.grant@saint-catherine.org
GEO:36.0981774;-96.0216659
X-APPLE-STRUCTURED-LOCATION;VALUE=URI;X-ADDRESS=Saint Catherine of Alexandria 4532 S. 25th W. Ave. Tulsa OK 74107 United States;X-APPLE-RADIUS=500;X-TITLE=4532 S. 25th W. Ave.:geo:-96.0216659,36.0981774
END:VEVENT
BEGIN:VEVENT
DTSTART;TZID=America/Chicago:20240524T081500
DTEND;TZID=America/Chicago:20240524T090000
DTSTAMP:20260425T055640
CREATED:20230718T184032Z
LAST-MODIFIED:20230718T184032Z
UID:10010292-1716538500-1716541200@www.saintcatherineschool.org
SUMMARY:Mass - Saint Catherine
DESCRIPTION:This Mass is said in English.
URL:https://www.saintcatherineschool.org/event/mass-saint-catherine-31/2024-05-24
LOCATION:OK
CATEGORIES:Church of Saint Catherine,Saint Catherine School
END:VEVENT
BEGIN:VEVENT
DTSTART;TZID=America/Chicago:20240524T081500
DTEND;TZID=America/Chicago:20240524T090000
DTSTAMP:20260425T055640
CREATED:20240509T151258Z
LAST-MODIFIED:20240509T151258Z
UID:10011553-1716538500-1716541200@www.saintcatherineschool.org
SUMMARY:Mass - Saint Catherine
DESCRIPTION:
URL:https://www.saintcatherineschool.org/event/mass-saint-catherine-69
LOCATION:Saint Catherine of Alexandria\, 4532 S. 25th W. Ave.\, Tulsa\, OK\, 74107\, United States
CATEGORIES:Church of Saint Catherine,Saint Catherine School
ORGANIZER;CN="Fr. John Grant":MAILTO:fr.joh.grant@saint-catherine.org
GEO:36.0981774;-96.0216659
X-APPLE-STRUCTURED-LOCATION;VALUE=URI;X-ADDRESS=Saint Catherine of Alexandria 4532 S. 25th W. Ave. Tulsa OK 74107 United States;X-APPLE-RADIUS=500;X-TITLE=4532 S. 25th W. Ave.:geo:-96.0216659,36.0981774
END:VEVENT
BEGIN:VEVENT
DTSTART;TZID=America/Chicago:20240525T080000
DTEND;TZID=America/Chicago:20240525T170000
DTSTAMP:20260425T055640
CREATED:20230709T021931Z
LAST-MODIFIED:20230709T021931Z
UID:10009829-1716624000-1716656400@www.saintcatherineschool.org
SUMMARY:Ave Maria Cup
DESCRIPTION:
URL:https://www.saintcatherineschool.org/event/ave-maria-cup
LOCATION:Saint Catherine of Alexandria\, 4532 S. 25th W. Ave.\, Tulsa\, OK\, 74107\, United States
CATEGORIES:Church of Saint Catherine,Saint Catherine School
ORGANIZER;CN="Fr. Robert Kim":MAILTO:fr.robert.kim@dioceseoftulsa.org
GEO:36.0981774;-96.0216659
X-APPLE-STRUCTURED-LOCATION;VALUE=URI;X-ADDRESS=Saint Catherine of Alexandria 4532 S. 25th W. Ave. Tulsa OK 74107 United States;X-APPLE-RADIUS=500;X-TITLE=4532 S. 25th W. Ave.:geo:-96.0216659,36.0981774
END:VEVENT
BEGIN:VEVENT
DTSTART;TZID=America/Chicago:20240525T153000
DTEND;TZID=America/Chicago:20240525T170000
DTSTAMP:20260425T055640
CREATED:20180123T023113Z
LAST-MODIFIED:20201202T201345Z
UID:10005911-1716651000-1716656400@www.saintcatherineschool.org
SUMMARY:Confessions
DESCRIPTION:Fr. Grant will hear confessions from 3:30-5:00.
URL:https://www.saintcatherineschool.org/event/confessions/2024-05-25
LOCATION:Saint Catherine of Alexandria\, 4532 S. 25th W. Ave.\, Tulsa\, OK\, 74107\, United States
CATEGORIES:Church of Saint Catherine,Saint Catherine School
GEO:36.0981774;-96.0216659
X-APPLE-STRUCTURED-LOCATION;VALUE=URI;X-ADDRESS=Saint Catherine of Alexandria 4532 S. 25th W. Ave. Tulsa OK 74107 United States;X-APPLE-RADIUS=500;X-TITLE=4532 S. 25th W. Ave.:geo:-96.0216659,36.0981774
END:VEVENT
BEGIN:VEVENT
DTSTART;TZID=America/Chicago:20240527T080000
DTEND;TZID=America/Chicago:20240527T150000
DTSTAMP:20260425T055640
CREATED:20230709T022004Z
LAST-MODIFIED:20230709T022004Z
UID:10009827-1716796800-1716822000@www.saintcatherineschool.org
SUMMARY:Ave Maria Cup
DESCRIPTION:
URL:https://www.saintcatherineschool.org/event/ave-maria-cup-2
LOCATION:Saint Catherine of Alexandria\, 4532 S. 25th W. Ave.\, Tulsa\, OK\, 74107\, United States
CATEGORIES:Church of Saint Catherine,Saint Catherine School
ORGANIZER;CN="Fr. Robert Kim":MAILTO:fr.robert.kim@dioceseoftulsa.org
GEO:36.0981774;-96.0216659
X-APPLE-STRUCTURED-LOCATION;VALUE=URI;X-ADDRESS=Saint Catherine of Alexandria 4532 S. 25th W. Ave. Tulsa OK 74107 United States;X-APPLE-RADIUS=500;X-TITLE=4532 S. 25th W. Ave.:geo:-96.0216659,36.0981774
END:VEVENT
BEGIN:VEVENT
DTSTART;TZID=America/Chicago:20240528T081500
DTEND;TZID=America/Chicago:20240528T090000
DTSTAMP:20260425T055640
CREATED:20230718T183503Z
LAST-MODIFIED:20230718T183503Z
UID:10010243-1716884100-1716886800@www.saintcatherineschool.org
SUMMARY:Mass - Saint Cathrine
DESCRIPTION:This Mass is said in English.
URL:https://www.saintcatherineschool.org/event/mass-saint-cathrine/2024-05-28
LOCATION:OK
CATEGORIES:Church of Saint Catherine,Saint Catherine School
END:VEVENT
BEGIN:VEVENT
DTSTART;TZID=America/Chicago:20240528T081500
DTEND;TZID=America/Chicago:20240528T090000
DTSTAMP:20260425T055640
CREATED:20240509T151358Z
LAST-MODIFIED:20240509T151358Z
UID:10011554-1716884100-1716886800@www.saintcatherineschool.org
SUMMARY:Mass - Saint Catherine
DESCRIPTION:This Mass is in English.
URL:https://www.saintcatherineschool.org/event/mass-saint-catherine-70
LOCATION:Saint Catherine of Alexandria\, 4532 S. 25th W. Ave.\, Tulsa\, OK\, 74107\, United States
CATEGORIES:Church of Saint Catherine,Saint Catherine School
ORGANIZER;CN="Fr. John Grant":MAILTO:fr.joh.grant@saint-catherine.org
GEO:36.0981774;-96.0216659
X-APPLE-STRUCTURED-LOCATION;VALUE=URI;X-ADDRESS=Saint Catherine of Alexandria 4532 S. 25th W. Ave. Tulsa OK 74107 United States;X-APPLE-RADIUS=500;X-TITLE=4532 S. 25th W. Ave.:geo:-96.0216659,36.0981774
END:VEVENT
BEGIN:VEVENT
DTSTART;TZID=America/Chicago:20240529T080000
DTEND;TZID=America/Chicago:20240529T090000
DTSTAMP:20260425T055640
CREATED:20240509T152405Z
LAST-MODIFIED:20240509T152405Z
UID:10011560-1716969600-1716973200@www.saintcatherineschool.org
SUMMARY:Mass - Tonu Maria
DESCRIPTION:This Mass is in Zomi.
URL:https://www.saintcatherineschool.org/event/mass-tonu-maria-31
LOCATION:Saint Catherine of Alexandria\, 4532 S. 25th W. Ave.\, Tulsa\, OK\, 74107\, United States
CATEGORIES:Church of Saint Catherine,Saint Catherine School
ORGANIZER;CN="Fr. Robert Kim":MAILTO:fr.robert.kim@dioceseoftulsa.org
GEO:36.0981774;-96.0216659
X-APPLE-STRUCTURED-LOCATION;VALUE=URI;X-ADDRESS=Saint Catherine of Alexandria 4532 S. 25th W. Ave. Tulsa OK 74107 United States;X-APPLE-RADIUS=500;X-TITLE=4532 S. 25th W. Ave.:geo:-96.0216659,36.0981774
END:VEVENT
BEGIN:VEVENT
DTSTART;TZID=America/Chicago:20240530T081500
DTEND;TZID=America/Chicago:20240530T090000
DTSTAMP:20260425T055640
CREATED:20230718T183741Z
LAST-MODIFIED:20230718T183741Z
UID:10010268-1717056900-1717059600@www.saintcatherineschool.org
SUMMARY:Mass - Saint Catherine
DESCRIPTION:This Mass is said in English.
URL:https://www.saintcatherineschool.org/event/mass-saint-catherine-29/2024-05-30
LOCATION:OK
CATEGORIES:Church of Saint Catherine,Saint Catherine School
END:VEVENT
BEGIN:VEVENT
DTSTART;TZID=America/Chicago:20240530T081500
DTEND;TZID=America/Chicago:20240530T090000
DTSTAMP:20260425T055640
CREATED:20240509T151437Z
LAST-MODIFIED:20240509T151437Z
UID:10011555-1717056900-1717059600@www.saintcatherineschool.org
SUMMARY:Mass - Saint Catherine
DESCRIPTION:This Mass is in English.
URL:https://www.saintcatherineschool.org/event/mass-saint-catherine-71
LOCATION:Saint Catherine of Alexandria\, 4532 S. 25th W. Ave.\, Tulsa\, OK\, 74107\, United States
CATEGORIES:Church of Saint Catherine,Saint Catherine School
ORGANIZER;CN="Fr. John Grant":MAILTO:fr.joh.grant@saint-catherine.org
GEO:36.0981774;-96.0216659
X-APPLE-STRUCTURED-LOCATION;VALUE=URI;X-ADDRESS=Saint Catherine of Alexandria 4532 S. 25th W. Ave. Tulsa OK 74107 United States;X-APPLE-RADIUS=500;X-TITLE=4532 S. 25th W. Ave.:geo:-96.0216659,36.0981774
END:VEVENT
BEGIN:VEVENT
DTSTART;TZID=America/Chicago:20240531T081500
DTEND;TZID=America/Chicago:20240531T090000
DTSTAMP:20260425T055640
CREATED:20230718T184032Z
LAST-MODIFIED:20230718T184032Z
UID:10010293-1717143300-1717146000@www.saintcatherineschool.org
SUMMARY:Mass - Saint Catherine
DESCRIPTION:This Mass is said in English.
URL:https://www.saintcatherineschool.org/event/mass-saint-catherine-31/2024-05-31
LOCATION:OK
CATEGORIES:Church of Saint Catherine,Saint Catherine School
END:VEVENT
BEGIN:VEVENT
DTSTART;TZID=America/Chicago:20240531T081500
DTEND;TZID=America/Chicago:20240531T090000
DTSTAMP:20260425T055640
CREATED:20240509T151531Z
LAST-MODIFIED:20240509T151531Z
UID:10011556-1717143300-1717146000@www.saintcatherineschool.org
SUMMARY:Mass - Saint Catherine
DESCRIPTION:This Mass is in English.
URL:https://www.saintcatherineschool.org/event/mass-saint-catherine-72
LOCATION:Saint Catherine of Alexandria\, 4532 S. 25th W. Ave.\, Tulsa\, OK\, 74107\, United States
CATEGORIES:Church of Saint Catherine,Saint Catherine School
ORGANIZER;CN="Fr. John Grant":MAILTO:fr.joh.grant@saint-catherine.org
GEO:36.0981774;-96.0216659
X-APPLE-STRUCTURED-LOCATION;VALUE=URI;X-ADDRESS=Saint Catherine of Alexandria 4532 S. 25th W. Ave. Tulsa OK 74107 United States;X-APPLE-RADIUS=500;X-TITLE=4532 S. 25th W. Ave.:geo:-96.0216659,36.0981774
END:VEVENT
BEGIN:VEVENT
DTSTART;TZID=America/Chicago:20240601T153000
DTEND;TZID=America/Chicago:20240601T170000
DTSTAMP:20260425T055640
CREATED:20180123T023113Z
LAST-MODIFIED:20201202T201345Z
UID:10005912-1717255800-1717261200@www.saintcatherineschool.org
SUMMARY:Confessions
DESCRIPTION:Fr. Grant will hear confessions from 3:30-5:00.
URL:https://www.saintcatherineschool.org/event/confessions/2024-06-01
LOCATION:Saint Catherine of Alexandria\, 4532 S. 25th W. Ave.\, Tulsa\, OK\, 74107\, United States
CATEGORIES:Church of Saint Catherine,Saint Catherine School
GEO:36.0981774;-96.0216659
X-APPLE-STRUCTURED-LOCATION;VALUE=URI;X-ADDRESS=Saint Catherine of Alexandria 4532 S. 25th W. Ave. Tulsa OK 74107 United States;X-APPLE-RADIUS=500;X-TITLE=4532 S. 25th W. Ave.:geo:-96.0216659,36.0981774
END:VEVENT
BEGIN:VEVENT
DTSTART;TZID=America/Chicago:20240602T130000
DTEND;TZID=America/Chicago:20240602T170000
DTSTAMP:20260425T055640
CREATED:20230709T022317Z
LAST-MODIFIED:20230709T022317Z
UID:10009823-1717333200-1717347600@www.saintcatherineschool.org
SUMMARY:First Communion - Tonu Maria
DESCRIPTION:
URL:https://www.saintcatherineschool.org/event/first-communion-tonu-maria-2
LOCATION:Saint Catherine of Alexandria\, 4532 S. 25th W. Ave.\, Tulsa\, OK\, 74107\, United States
CATEGORIES:Church of Saint Catherine,Saint Catherine School
ORGANIZER;CN="Fr. Robert Kim":MAILTO:fr.robert.kim@dioceseoftulsa.org
GEO:36.0981774;-96.0216659
X-APPLE-STRUCTURED-LOCATION;VALUE=URI;X-ADDRESS=Saint Catherine of Alexandria 4532 S. 25th W. Ave. Tulsa OK 74107 United States;X-APPLE-RADIUS=500;X-TITLE=4532 S. 25th W. Ave.:geo:-96.0216659,36.0981774
END:VEVENT
BEGIN:VEVENT
DTSTART;TZID=America/Chicago:20240604T081500
DTEND;TZID=America/Chicago:20240604T090000
DTSTAMP:20260425T055640
CREATED:20230718T183503Z
LAST-MODIFIED:20230718T183503Z
UID:10010244-1717488900-1717491600@www.saintcatherineschool.org
SUMMARY:Mass - Saint Cathrine
DESCRIPTION:This Mass is said in English.
URL:https://www.saintcatherineschool.org/event/mass-saint-cathrine/2024-06-04
LOCATION:OK
CATEGORIES:Church of Saint Catherine,Saint Catherine School
END:VEVENT
BEGIN:VEVENT
DTSTART;TZID=America/Chicago:20240606T081500
DTEND;TZID=America/Chicago:20240606T090000
DTSTAMP:20260425T055640
CREATED:20230718T183741Z
LAST-MODIFIED:20230718T183741Z
UID:10010269-1717661700-1717664400@www.saintcatherineschool.org
SUMMARY:Mass - Saint Catherine
DESCRIPTION:This Mass is said in English.
URL:https://www.saintcatherineschool.org/event/mass-saint-catherine-29/2024-06-06
LOCATION:OK
CATEGORIES:Church of Saint Catherine,Saint Catherine School
END:VEVENT
BEGIN:VEVENT
DTSTART;TZID=America/Chicago:20240607T081500
DTEND;TZID=America/Chicago:20240607T090000
DTSTAMP:20260425T055640
CREATED:20230718T184032Z
LAST-MODIFIED:20230718T184032Z
UID:10010294-1717748100-1717750800@www.saintcatherineschool.org
SUMMARY:Mass - Saint Catherine
DESCRIPTION:This Mass is said in English.
URL:https://www.saintcatherineschool.org/event/mass-saint-catherine-31/2024-06-07
LOCATION:OK
CATEGORIES:Church of Saint Catherine,Saint Catherine School
END:VEVENT
BEGIN:VEVENT
DTSTART;TZID=America/Chicago:20240608T153000
DTEND;TZID=America/Chicago:20240608T170000
DTSTAMP:20260425T055640
CREATED:20180123T023113Z
LAST-MODIFIED:20201202T201345Z
UID:10005913-1717860600-1717866000@www.saintcatherineschool.org
SUMMARY:Confessions
DESCRIPTION:Fr. Grant will hear confessions from 3:30-5:00.
URL:https://www.saintcatherineschool.org/event/confessions/2024-06-08
LOCATION:Saint Catherine of Alexandria\, 4532 S. 25th W. Ave.\, Tulsa\, OK\, 74107\, United States
CATEGORIES:Church of Saint Catherine,Saint Catherine School
GEO:36.0981774;-96.0216659
X-APPLE-STRUCTURED-LOCATION;VALUE=URI;X-ADDRESS=Saint Catherine of Alexandria 4532 S. 25th W. Ave. Tulsa OK 74107 United States;X-APPLE-RADIUS=500;X-TITLE=4532 S. 25th W. Ave.:geo:-96.0216659,36.0981774
END:VEVENT
BEGIN:VEVENT
DTSTART;VALUE=DATE:20240610
DTEND;VALUE=DATE:20240615
DTSTAMP:20260425T055640
CREATED:20230709T022407Z
LAST-MODIFIED:20230709T022407Z
UID:10009821-1717977600-1718409599@www.saintcatherineschool.org
SUMMARY:Faith Formation - Tonu Maria
DESCRIPTION:
URL:https://www.saintcatherineschool.org/event/faith-formation-tonu-maria
LOCATION:Saint Catherine of Alexandria\, 4532 S. 25th W. Ave.\, Tulsa\, OK\, 74107\, United States
CATEGORIES:Church of Saint Catherine,Saint Catherine School
ORGANIZER;CN="Fr. Robert Kim":MAILTO:fr.robert.kim@dioceseoftulsa.org
GEO:36.0981774;-96.0216659
X-APPLE-STRUCTURED-LOCATION;VALUE=URI;X-ADDRESS=Saint Catherine of Alexandria 4532 S. 25th W. Ave. Tulsa OK 74107 United States;X-APPLE-RADIUS=500;X-TITLE=4532 S. 25th W. Ave.:geo:-96.0216659,36.0981774
END:VEVENT
BEGIN:VEVENT
DTSTART;TZID=America/Chicago:20240611T081500
DTEND;TZID=America/Chicago:20240611T090000
DTSTAMP:20260425T055640
CREATED:20230718T183503Z
LAST-MODIFIED:20230718T183503Z
UID:10010245-1718093700-1718096400@www.saintcatherineschool.org
SUMMARY:Mass - Saint Cathrine
DESCRIPTION:This Mass is said in English.
URL:https://www.saintcatherineschool.org/event/mass-saint-cathrine/2024-06-11
LOCATION:OK
CATEGORIES:Church of Saint Catherine,Saint Catherine School
END:VEVENT
BEGIN:VEVENT
DTSTART;TZID=America/Chicago:20240613T081500
DTEND;TZID=America/Chicago:20240613T090000
DTSTAMP:20260425T055640
CREATED:20230718T183741Z
LAST-MODIFIED:20230718T183741Z
UID:10010270-1718266500-1718269200@www.saintcatherineschool.org
SUMMARY:Mass - Saint Catherine
DESCRIPTION:This Mass is said in English.
URL:https://www.saintcatherineschool.org/event/mass-saint-catherine-29/2024-06-13
LOCATION:OK
CATEGORIES:Church of Saint Catherine,Saint Catherine School
END:VEVENT
BEGIN:VEVENT
DTSTART;TZID=America/Chicago:20240614T081500
DTEND;TZID=America/Chicago:20240614T090000
DTSTAMP:20260425T055640
CREATED:20230718T184032Z
LAST-MODIFIED:20230718T184032Z
UID:10010295-1718352900-1718355600@www.saintcatherineschool.org
SUMMARY:Mass - Saint Catherine
DESCRIPTION:This Mass is said in English.
URL:https://www.saintcatherineschool.org/event/mass-saint-catherine-31/2024-06-14
LOCATION:OK
CATEGORIES:Church of Saint Catherine,Saint Catherine School
END:VEVENT
BEGIN:VEVENT
DTSTART;TZID=America/Chicago:20240615T153000
DTEND;TZID=America/Chicago:20240615T170000
DTSTAMP:20260425T055640
CREATED:20180123T023113Z
LAST-MODIFIED:20201202T201345Z
UID:10005914-1718465400-1718470800@www.saintcatherineschool.org
SUMMARY:Confessions
DESCRIPTION:Fr. Grant will hear confessions from 3:30-5:00.
URL:https://www.saintcatherineschool.org/event/confessions/2024-06-15
LOCATION:Saint Catherine of Alexandria\, 4532 S. 25th W. Ave.\, Tulsa\, OK\, 74107\, United States
CATEGORIES:Church of Saint Catherine,Saint Catherine School
GEO:36.0981774;-96.0216659
X-APPLE-STRUCTURED-LOCATION;VALUE=URI;X-ADDRESS=Saint Catherine of Alexandria 4532 S. 25th W. Ave. Tulsa OK 74107 United States;X-APPLE-RADIUS=500;X-TITLE=4532 S. 25th W. Ave.:geo:-96.0216659,36.0981774
END:VEVENT
BEGIN:VEVENT
DTSTART;TZID=America/Chicago:20240618T080000
DTEND;TZID=America/Chicago:20240618T160000
DTSTAMP:20260425T055640
CREATED:20230709T022513Z
LAST-MODIFIED:20230709T022513Z
UID:10008331-1718697600-1718726400@www.saintcatherineschool.org
SUMMARY:Staff Corporate Retreat
DESCRIPTION:
URL:https://www.saintcatherineschool.org/event/staff-corporate-retreat
LOCATION:Saint Catherine of Alexandria\, 4532 S. 25th W. Ave.\, Tulsa\, OK\, 74107\, United States
CATEGORIES:Church of Saint Catherine,Saint Catherine School
ORGANIZER;CN="Fr. John Grant":MAILTO:fr.joh.grant@saint-catherine.org
GEO:36.0981774;-96.0216659
X-APPLE-STRUCTURED-LOCATION;VALUE=URI;X-ADDRESS=Saint Catherine of Alexandria 4532 S. 25th W. Ave. Tulsa OK 74107 United States;X-APPLE-RADIUS=500;X-TITLE=4532 S. 25th W. Ave.:geo:-96.0216659,36.0981774
END:VEVENT
BEGIN:VEVENT
DTSTART;TZID=America/Chicago:20240618T081500
DTEND;TZID=America/Chicago:20240618T090000
DTSTAMP:20260425T055640
CREATED:20230718T183503Z
LAST-MODIFIED:20230718T183503Z
UID:10010246-1718698500-1718701200@www.saintcatherineschool.org
SUMMARY:Mass - Saint Cathrine
DESCRIPTION:This Mass is said in English.
URL:https://www.saintcatherineschool.org/event/mass-saint-cathrine/2024-06-18
LOCATION:OK
CATEGORIES:Church of Saint Catherine,Saint Catherine School
END:VEVENT
BEGIN:VEVENT
DTSTART;TZID=America/Chicago:20240620T081500
DTEND;TZID=America/Chicago:20240620T090000
DTSTAMP:20260425T055640
CREATED:20230718T183741Z
LAST-MODIFIED:20230718T183741Z
UID:10010271-1718871300-1718874000@www.saintcatherineschool.org
SUMMARY:Mass - Saint Catherine
DESCRIPTION:This Mass is said in English.
URL:https://www.saintcatherineschool.org/event/mass-saint-catherine-29/2024-06-20
LOCATION:OK
CATEGORIES:Church of Saint Catherine,Saint Catherine School
END:VEVENT
END:VCALENDAR