BEGIN:VCALENDAR
VERSION:2.0
PRODID:-//Saint Catherine of Alexandria School - ECPv6.15.20//NONSGML v1.0//EN
CALSCALE:GREGORIAN
METHOD:PUBLISH
X-ORIGINAL-URL:https://www.saintcatherineschool.org
X-WR-CALDESC:Events for Saint Catherine of Alexandria School
REFRESH-INTERVAL;VALUE=DURATION:PT1H
X-Robots-Tag:noindex
X-PUBLISHED-TTL:PT1H
BEGIN:VTIMEZONE
TZID:America/Chicago
BEGIN:DAYLIGHT
TZOFFSETFROM:-0600
TZOFFSETTO:-0500
TZNAME:CDT
DTSTART:20220313T080000
END:DAYLIGHT
BEGIN:STANDARD
TZOFFSETFROM:-0500
TZOFFSETTO:-0600
TZNAME:CST
DTSTART:20221106T070000
END:STANDARD
BEGIN:DAYLIGHT
TZOFFSETFROM:-0600
TZOFFSETTO:-0500
TZNAME:CDT
DTSTART:20230312T080000
END:DAYLIGHT
BEGIN:STANDARD
TZOFFSETFROM:-0500
TZOFFSETTO:-0600
TZNAME:CST
DTSTART:20231105T070000
END:STANDARD
BEGIN:DAYLIGHT
TZOFFSETFROM:-0600
TZOFFSETTO:-0500
TZNAME:CDT
DTSTART:20240310T080000
END:DAYLIGHT
BEGIN:STANDARD
TZOFFSETFROM:-0500
TZOFFSETTO:-0600
TZNAME:CST
DTSTART:20241103T070000
END:STANDARD
END:VTIMEZONE
BEGIN:VEVENT
DTSTART;TZID=America/Chicago:20230906T080000
DTEND;TZID=America/Chicago:20230906T090000
DTSTAMP:20260425T200731
CREATED:20230829T193040Z
LAST-MODIFIED:20230829T193040Z
UID:10011302-1693987200-1693990800@www.saintcatherineschool.org
SUMMARY:Mass - Tonu Maria
DESCRIPTION:This Mass is said in Zomi.
URL:https://www.saintcatherineschool.org/event/mass-tonu-maria-12/2023-09-06
LOCATION:Saint Catherine of Alexandria\, 4532 S. 25th W. Ave.\, Tulsa\, OK\, 74107\, United States
CATEGORIES:Church of Saint Catherine,Saint Catherine School
ORGANIZER;CN="Fr. Robert Kim":MAILTO:fr.robert.kim@dioceseoftulsa.org
GEO:36.0981774;-96.0216659
X-APPLE-STRUCTURED-LOCATION;VALUE=URI;X-ADDRESS=Saint Catherine of Alexandria 4532 S. 25th W. Ave. Tulsa OK 74107 United States;X-APPLE-RADIUS=500;X-TITLE=4532 S. 25th W. Ave.:geo:-96.0216659,36.0981774
END:VEVENT
BEGIN:VEVENT
DTSTART;TZID=America/Chicago:20230906T153000
DTEND;TZID=America/Chicago:20230906T163000
DTSTAMP:20260425T200731
CREATED:20230804T201158Z
LAST-MODIFIED:20230804T201158Z
UID:10010301-1694014200-1694017800@www.saintcatherineschool.org
SUMMARY:Little Flowers
DESCRIPTION:
URL:https://www.saintcatherineschool.org/event/little-flowers-48
LOCATION:Saint Catherine School\, 2515 W. 46th St.\, Tulsa\, OK\, 74107\, United States
CATEGORIES:Church of Saint Catherine,Saint Catherine School
GEO:36.0981282;-96.0219361
X-APPLE-STRUCTURED-LOCATION;VALUE=URI;X-ADDRESS=Saint Catherine School 2515 W. 46th St. Tulsa OK 74107 United States;X-APPLE-RADIUS=500;X-TITLE=2515 W. 46th St.:geo:-96.0219361,36.0981282
END:VEVENT
BEGIN:VEVENT
DTSTART;TZID=America/Chicago:20230907T081500
DTEND;TZID=America/Chicago:20230907T090000
DTSTAMP:20260425T200731
CREATED:20230718T180334Z
LAST-MODIFIED:20230718T183152Z
UID:10009982-1694074500-1694077200@www.saintcatherineschool.org
SUMMARY:Mass - Saint Catherine
DESCRIPTION:This Mass is said in English.
URL:https://www.saintcatherineschool.org/event/mass-saint-catherine-26/2023-09-07
LOCATION:Saint Catherine of Alexandria\, 4532 S. 25th W. Ave.\, Tulsa\, OK\, 74107\, United States
CATEGORIES:Church of Saint Catherine,Saint Catherine School
ORGANIZER;CN="Fr. John Grant":MAILTO:fr.joh.grant@saint-catherine.org
GEO:36.0981774;-96.0216659
X-APPLE-STRUCTURED-LOCATION;VALUE=URI;X-ADDRESS=Saint Catherine of Alexandria 4532 S. 25th W. Ave. Tulsa OK 74107 United States;X-APPLE-RADIUS=500;X-TITLE=4532 S. 25th W. Ave.:geo:-96.0216659,36.0981774
END:VEVENT
BEGIN:VEVENT
DTSTART;TZID=America/Chicago:20230907T151500
DTEND;TZID=America/Chicago:20230907T163000
DTSTAMP:20260425T200731
CREATED:20230825T194324Z
LAST-MODIFIED:20230825T194324Z
UID:10011275-1694099700-1694104200@www.saintcatherineschool.org
SUMMARY:7th Grade Volleyball Practice
DESCRIPTION:
URL:https://www.saintcatherineschool.org/event/7th-grade-volleyball-practice-4
LOCATION:Saint Catherine School\, 2515 W. 46th St.\, Tulsa\, OK\, 74107\, United States
ORGANIZER;CN="Caroline O'Connor":MAILTO:coconnor@saint-catherine.org
GEO:36.0981282;-96.0219361
X-APPLE-STRUCTURED-LOCATION;VALUE=URI;X-ADDRESS=Saint Catherine School 2515 W. 46th St. Tulsa OK 74107 United States;X-APPLE-RADIUS=500;X-TITLE=2515 W. 46th St.:geo:-96.0219361,36.0981282
END:VEVENT
BEGIN:VEVENT
DTSTART;TZID=America/Chicago:20230907T151500
DTEND;TZID=America/Chicago:20230907T163000
DTSTAMP:20260425T200731
CREATED:20230825T194511Z
LAST-MODIFIED:20230825T194511Z
UID:10011276-1694099700-1694104200@www.saintcatherineschool.org
SUMMARY:7th Grade Volleyball Practice
DESCRIPTION:
URL:https://www.saintcatherineschool.org/event/7th-grade-volleyball-practice-5
LOCATION:Saint Catherine School\, 2515 W. 46th St.\, Tulsa\, OK\, 74107\, United States
CATEGORIES:Church of Saint Catherine,Saint Catherine School
ORGANIZER;CN="Caroline O'Connor":MAILTO:coconnor@saint-catherine.org
GEO:36.0981282;-96.0219361
X-APPLE-STRUCTURED-LOCATION;VALUE=URI;X-ADDRESS=Saint Catherine School 2515 W. 46th St. Tulsa OK 74107 United States;X-APPLE-RADIUS=500;X-TITLE=2515 W. 46th St.:geo:-96.0219361,36.0981282
END:VEVENT
BEGIN:VEVENT
DTSTART;TZID=America/Chicago:20230908T080000
DTEND;TZID=America/Chicago:20230908T151500
DTSTAMP:20260425T200731
CREATED:20230708T233918Z
LAST-MODIFIED:20230708T234037Z
UID:10009776-1694160000-1694186100@www.saintcatherineschool.org
SUMMARY:Celebration of Mary's Birthday
DESCRIPTION:We will celebrate with the school students with brownies.
URL:https://www.saintcatherineschool.org/event/celebration-of-marys-birthday
LOCATION:Saint Catherine School\, 2515 W. 46th St.\, Tulsa\, OK\, 74107\, United States
CATEGORIES:Church of Saint Catherine,Saint Catherine School
ORGANIZER;CN="Fr. John Grant":MAILTO:fr.joh.grant@saint-catherine.org
GEO:36.0981282;-96.0219361
X-APPLE-STRUCTURED-LOCATION;VALUE=URI;X-ADDRESS=Saint Catherine School 2515 W. 46th St. Tulsa OK 74107 United States;X-APPLE-RADIUS=500;X-TITLE=2515 W. 46th St.:geo:-96.0219361,36.0981282
END:VEVENT
BEGIN:VEVENT
DTSTART;TZID=America/Chicago:20230908T081500
DTEND;TZID=America/Chicago:20230908T090000
DTSTAMP:20260425T200731
CREATED:20230718T180507Z
LAST-MODIFIED:20230718T183057Z
UID:10010052-1694160900-1694163600@www.saintcatherineschool.org
SUMMARY:Mass - Saint Catherine
DESCRIPTION:This Mass is said in English.
URL:https://www.saintcatherineschool.org/event/mass-saint-catherine-27/2023-09-08
LOCATION:OK
CATEGORIES:Church of Saint Catherine,Saint Catherine School
END:VEVENT
BEGIN:VEVENT
DTSTART;TZID=America/Chicago:20230908T151500
DTEND;TZID=America/Chicago:20230908T163000
DTSTAMP:20260425T200731
CREATED:20230825T191607Z
LAST-MODIFIED:20230825T191855Z
UID:10010321-1694186100-1694190600@www.saintcatherineschool.org
SUMMARY:8th Grade Volleyball Practice
DESCRIPTION:
URL:https://www.saintcatherineschool.org/event/8th-grade-volleyball-practice
LOCATION:Saint Catherine School\, 2515 W. 46th St.\, Tulsa\, OK\, 74107\, United States
CATEGORIES:Church of Saint Catherine,Saint Catherine School
ORGANIZER;CN="Kayley Anthamatten":MAILTO:kayleya@saint-catherine.org
GEO:36.0981282;-96.0219361
X-APPLE-STRUCTURED-LOCATION;VALUE=URI;X-ADDRESS=Saint Catherine School 2515 W. 46th St. Tulsa OK 74107 United States;X-APPLE-RADIUS=500;X-TITLE=2515 W. 46th St.:geo:-96.0219361,36.0981282
END:VEVENT
BEGIN:VEVENT
DTSTART;TZID=America/Chicago:20230909T100000
DTEND;TZID=America/Chicago:20230909T120000
DTSTAMP:20260425T200731
CREATED:20230829T154110Z
LAST-MODIFIED:20230829T154110Z
UID:10011278-1694253600-1694260800@www.saintcatherineschool.org
SUMMARY:Soccer Uniform Pick Up
DESCRIPTION:Players will pick up their uniforms at St. Augustine today.
URL:https://www.saintcatherineschool.org/event/soccer-uniform-pick-up
LOCATION:St. Augustine\, 1720 E Apache St\, Tulsa\, OK\, 74110\, United States
CATEGORIES:Church of Saint Catherine,Saint Catherine School
ORGANIZER;CN="Sam Naab":MAILTO:snaab@saint-catherine.org
GEO:36.1911097;-95.965663
X-APPLE-STRUCTURED-LOCATION;VALUE=URI;X-ADDRESS=St. Augustine 1720 E Apache St Tulsa OK 74110 United States;X-APPLE-RADIUS=500;X-TITLE=1720 E Apache St:geo:-95.965663,36.1911097
END:VEVENT
BEGIN:VEVENT
DTSTART;TZID=America/Chicago:20230909T153000
DTEND;TZID=America/Chicago:20230909T170000
DTSTAMP:20260425T200731
CREATED:20180123T023113Z
LAST-MODIFIED:20201202T201345Z
UID:10005874-1694273400-1694278800@www.saintcatherineschool.org
SUMMARY:Confessions
DESCRIPTION:Fr. Grant will hear confessions from 3:30-5:00.
URL:https://www.saintcatherineschool.org/event/confessions/2023-09-09
LOCATION:Saint Catherine of Alexandria\, 4532 S. 25th W. Ave.\, Tulsa\, OK\, 74107\, United States
CATEGORIES:Church of Saint Catherine,Saint Catherine School
GEO:36.0981774;-96.0216659
X-APPLE-STRUCTURED-LOCATION;VALUE=URI;X-ADDRESS=Saint Catherine of Alexandria 4532 S. 25th W. Ave. Tulsa OK 74107 United States;X-APPLE-RADIUS=500;X-TITLE=4532 S. 25th W. Ave.:geo:-96.0216659,36.0981774
END:VEVENT
BEGIN:VEVENT
DTSTART;TZID=America/Chicago:20230910T073000
DTEND;TZID=America/Chicago:20230910T080000
DTSTAMP:20260425T200731
CREATED:20221129T175640Z
LAST-MODIFIED:20230825T193319Z
UID:10011208-1694331000-1694332800@www.saintcatherineschool.org
SUMMARY:Confessions
DESCRIPTION:Confessions are directly after Mass at 12:00pm.
URL:https://www.saintcatherineschool.org/event/confessions-5/2023-09-10
LOCATION:Saint Catherine of Alexandria\, 4532 S. 25th W. Ave.\, Tulsa\, OK\, 74107\, United States
CATEGORIES:Church of Saint Catherine,Saint Catherine School
ORGANIZER;CN="Fr. John Grant":MAILTO:fr.joh.grant@saint-catherine.org
GEO:36.0981774;-96.0216659
X-APPLE-STRUCTURED-LOCATION;VALUE=URI;X-ADDRESS=Saint Catherine of Alexandria 4532 S. 25th W. Ave. Tulsa OK 74107 United States;X-APPLE-RADIUS=500;X-TITLE=4532 S. 25th W. Ave.:geo:-96.0216659,36.0981774
END:VEVENT
BEGIN:VEVENT
DTSTART;TZID=America/Chicago:20230910T110000
DTEND;TZID=America/Chicago:20230910T140000
DTSTAMP:20260425T200731
CREATED:20221129T193934Z
LAST-MODIFIED:20230825T193505Z
UID:10011258-1694343600-1694354400@www.saintcatherineschool.org
SUMMARY:Tonu Maria Mass
DESCRIPTION:
URL:https://www.saintcatherineschool.org/event/tonu-maria-mass-14/2023-09-10
LOCATION:Saint Catherine of Alexandria\, 4532 S. 25th W. Ave.\, Tulsa\, OK\, 74107\, United States
CATEGORIES:Church of Saint Catherine,Saint Catherine School
ORGANIZER;CN="Fr. Robert Kim":MAILTO:fr.robert.kim@dioceseoftulsa.org
GEO:36.0981774;-96.0216659
X-APPLE-STRUCTURED-LOCATION;VALUE=URI;X-ADDRESS=Saint Catherine of Alexandria 4532 S. 25th W. Ave. Tulsa OK 74107 United States;X-APPLE-RADIUS=500;X-TITLE=4532 S. 25th W. Ave.:geo:-96.0216659,36.0981774
END:VEVENT
BEGIN:VEVENT
DTSTART;TZID=America/Chicago:20230911T190000
DTEND;TZID=America/Chicago:20230911T200000
DTSTAMP:20260425T200731
CREATED:20230825T194825Z
LAST-MODIFIED:20230825T194825Z
UID:10011277-1694458800-1694462400@www.saintcatherineschool.org
SUMMARY:8th Grade Volleyball Game
DESCRIPTION:8th grade game at Sts. Peter and Paul
URL:https://www.saintcatherineschool.org/event/8th-grade-volleyball-game-2
LOCATION:Saint Catherine School\, 2515 W. 46th St.\, Tulsa\, OK\, 74107\, United States
CATEGORIES:Church of Saint Catherine,Saint Catherine School
ORGANIZER;CN="Kayley Anthamatten":MAILTO:kayleya@saint-catherine.org
GEO:36.0981282;-96.0219361
X-APPLE-STRUCTURED-LOCATION;VALUE=URI;X-ADDRESS=Saint Catherine School 2515 W. 46th St. Tulsa OK 74107 United States;X-APPLE-RADIUS=500;X-TITLE=2515 W. 46th St.:geo:-96.0219361,36.0981282
END:VEVENT
BEGIN:VEVENT
DTSTART;TZID=America/Chicago:20230912T081500
DTEND;TZID=America/Chicago:20230912T090000
DTSTAMP:20260425T200731
CREATED:20230718T180123Z
LAST-MODIFIED:20230718T183248Z
UID:10009915-1694506500-1694509200@www.saintcatherineschool.org
SUMMARY:Mass - Saint Catherine
DESCRIPTION:This Mass is said in English.
URL:https://www.saintcatherineschool.org/event/mass-saint-catherine-25/2023-09-12
LOCATION:Saint Catherine of Alexandria\, 4532 S. 25th W. Ave.\, Tulsa\, OK\, 74107\, United States
CATEGORIES:Church of Saint Catherine,Saint Catherine School
ORGANIZER;CN="Fr. John Grant":MAILTO:fr.joh.grant@saint-catherine.org
GEO:36.0981774;-96.0216659
X-APPLE-STRUCTURED-LOCATION;VALUE=URI;X-ADDRESS=Saint Catherine of Alexandria 4532 S. 25th W. Ave. Tulsa OK 74107 United States;X-APPLE-RADIUS=500;X-TITLE=4532 S. 25th W. Ave.:geo:-96.0216659,36.0981774
END:VEVENT
BEGIN:VEVENT
DTSTART;TZID=America/Chicago:20230912T151500
DTEND;TZID=America/Chicago:20230912T163000
DTSTAMP:20260425T200731
CREATED:20230829T154309Z
LAST-MODIFIED:20230829T154309Z
UID:10011279-1694531700-1694536200@www.saintcatherineschool.org
SUMMARY:7th Grade Volleyball Practice
DESCRIPTION:
URL:https://www.saintcatherineschool.org/event/7th-grade-volleyball-practice-6/2023-09-12
LOCATION:Saint Catherine School\, 2515 W. 46th St.\, Tulsa\, OK\, 74107\, United States
CATEGORIES:Church of Saint Catherine,Saint Catherine School
ORGANIZER;CN="Caroline O'Connor":MAILTO:coconnor@saint-catherine.org
GEO:36.0981282;-96.0219361
X-APPLE-STRUCTURED-LOCATION;VALUE=URI;X-ADDRESS=Saint Catherine School 2515 W. 46th St. Tulsa OK 74107 United States;X-APPLE-RADIUS=500;X-TITLE=2515 W. 46th St.:geo:-96.0219361,36.0981282
END:VEVENT
BEGIN:VEVENT
DTSTART;TZID=America/Chicago:20230913T080000
DTEND;TZID=America/Chicago:20230913T090000
DTSTAMP:20260425T200731
CREATED:20230829T193040Z
LAST-MODIFIED:20230829T193040Z
UID:10011303-1694592000-1694595600@www.saintcatherineschool.org
SUMMARY:Mass - Tonu Maria
DESCRIPTION:This Mass is said in Zomi.
URL:https://www.saintcatherineschool.org/event/mass-tonu-maria-12/2023-09-13
LOCATION:Saint Catherine of Alexandria\, 4532 S. 25th W. Ave.\, Tulsa\, OK\, 74107\, United States
CATEGORIES:Church of Saint Catherine,Saint Catherine School
ORGANIZER;CN="Fr. Robert Kim":MAILTO:fr.robert.kim@dioceseoftulsa.org
GEO:36.0981774;-96.0216659
X-APPLE-STRUCTURED-LOCATION;VALUE=URI;X-ADDRESS=Saint Catherine of Alexandria 4532 S. 25th W. Ave. Tulsa OK 74107 United States;X-APPLE-RADIUS=500;X-TITLE=4532 S. 25th W. Ave.:geo:-96.0216659,36.0981774
END:VEVENT
BEGIN:VEVENT
DTSTART;TZID=America/Chicago:20230914T081500
DTEND;TZID=America/Chicago:20230914T090000
DTSTAMP:20260425T200731
CREATED:20230718T180334Z
LAST-MODIFIED:20230718T183152Z
UID:10009983-1694679300-1694682000@www.saintcatherineschool.org
SUMMARY:Mass - Saint Catherine
DESCRIPTION:This Mass is said in English.
URL:https://www.saintcatherineschool.org/event/mass-saint-catherine-26/2023-09-14
LOCATION:Saint Catherine of Alexandria\, 4532 S. 25th W. Ave.\, Tulsa\, OK\, 74107\, United States
CATEGORIES:Church of Saint Catherine,Saint Catherine School
ORGANIZER;CN="Fr. John Grant":MAILTO:fr.joh.grant@saint-catherine.org
GEO:36.0981774;-96.0216659
X-APPLE-STRUCTURED-LOCATION;VALUE=URI;X-ADDRESS=Saint Catherine of Alexandria 4532 S. 25th W. Ave. Tulsa OK 74107 United States;X-APPLE-RADIUS=500;X-TITLE=4532 S. 25th W. Ave.:geo:-96.0216659,36.0981774
END:VEVENT
BEGIN:VEVENT
DTSTART;TZID=America/Chicago:20230914T090000
DTEND;TZID=America/Chicago:20230914T130000
DTSTAMP:20260425T200731
CREATED:20230829T154543Z
LAST-MODIFIED:20230829T154543Z
UID:10011283-1694682000-1694696400@www.saintcatherineschool.org
SUMMARY:8th Grade Class Visits Cascia Hall
DESCRIPTION:
URL:https://www.saintcatherineschool.org/event/8th-grade-class-visits-cascia-hall
LOCATION:Cascia Hall\, 2520 S. Yorktown Ave.\, Tulsa\, OK\, 74114\, United States
CATEGORIES:Church of Saint Catherine,Saint Catherine School
ORGANIZER;CN="Michelle Anthamatten":MAILTO:manthamatten@saint-catherine.org
GEO:36.127873;-95.964799
X-APPLE-STRUCTURED-LOCATION;VALUE=URI;X-ADDRESS=Cascia Hall 2520 S. Yorktown Ave. Tulsa OK 74114 United States;X-APPLE-RADIUS=500;X-TITLE=2520 S. Yorktown Ave.:geo:-95.964799,36.127873
END:VEVENT
BEGIN:VEVENT
DTSTART;TZID=America/Chicago:20230914T151500
DTEND;TZID=America/Chicago:20230914T163000
DTSTAMP:20260425T200731
CREATED:20230829T154456Z
LAST-MODIFIED:20230829T154456Z
UID:10011282-1694704500-1694709000@www.saintcatherineschool.org
SUMMARY:7th Grade Volleyball Practice
DESCRIPTION:
URL:https://www.saintcatherineschool.org/event/7th-grade-volleyball-practice-7
LOCATION:Saint Catherine School\, 2515 W. 46th St.\, Tulsa\, OK\, 74107\, United States
CATEGORIES:Church of Saint Catherine,Saint Catherine School
ORGANIZER;CN="Caroline O'Connor":MAILTO:coconnor@saint-catherine.org
GEO:36.0981282;-96.0219361
X-APPLE-STRUCTURED-LOCATION;VALUE=URI;X-ADDRESS=Saint Catherine School 2515 W. 46th St. Tulsa OK 74107 United States;X-APPLE-RADIUS=500;X-TITLE=2515 W. 46th St.:geo:-96.0219361,36.0981282
END:VEVENT
BEGIN:VEVENT
DTSTART;TZID=America/Chicago:20230915T073000
DTEND;TZID=America/Chicago:20230915T163000
DTSTAMP:20260425T200731
CREATED:20230708T212128Z
LAST-MODIFIED:20230708T212235Z
UID:10008253-1694763000-1694795400@www.saintcatherineschool.org
SUMMARY:Parent-Teacher Conferences - NO School
DESCRIPTION:
URL:https://www.saintcatherineschool.org/event/parent-teacher-conferences-4
LOCATION:Saint Catherine School\, 2515 W. 46th St.\, Tulsa\, OK\, 74107\, United States
CATEGORIES:Church of Saint Catherine,Saint Catherine School
ORGANIZER;CN="Michelle Anthamatten":MAILTO:manthamatten@saint-catherine.org
GEO:36.0981282;-96.0219361
X-APPLE-STRUCTURED-LOCATION;VALUE=URI;X-ADDRESS=Saint Catherine School 2515 W. 46th St. Tulsa OK 74107 United States;X-APPLE-RADIUS=500;X-TITLE=2515 W. 46th St.:geo:-96.0219361,36.0981282
END:VEVENT
BEGIN:VEVENT
DTSTART;TZID=America/Chicago:20230915T081500
DTEND;TZID=America/Chicago:20230915T090000
DTSTAMP:20260425T200731
CREATED:20230718T180507Z
LAST-MODIFIED:20230718T183057Z
UID:10010053-1694765700-1694768400@www.saintcatherineschool.org
SUMMARY:Mass - Saint Catherine
DESCRIPTION:This Mass is said in English.
URL:https://www.saintcatherineschool.org/event/mass-saint-catherine-27/2023-09-15
LOCATION:OK
CATEGORIES:Church of Saint Catherine,Saint Catherine School
END:VEVENT
BEGIN:VEVENT
DTSTART;TZID=America/Chicago:20230915T151500
DTEND;TZID=America/Chicago:20230915T163000
DTSTAMP:20260425T200731
CREATED:20230829T154716Z
LAST-MODIFIED:20230829T154716Z
UID:10011284-1694790900-1694795400@www.saintcatherineschool.org
SUMMARY:8th Grade Volleyball Practice
DESCRIPTION:
URL:https://www.saintcatherineschool.org/event/8th-grade-volleyball-practice-2
LOCATION:Saint Catherine School\, 2515 W. 46th St.\, Tulsa\, OK\, 74107\, United States
CATEGORIES:Church of Saint Catherine,Saint Catherine School
ORGANIZER;CN="Kayley Anthamatten":MAILTO:kayleya@saint-catherine.org
GEO:36.0981282;-96.0219361
X-APPLE-STRUCTURED-LOCATION;VALUE=URI;X-ADDRESS=Saint Catherine School 2515 W. 46th St. Tulsa OK 74107 United States;X-APPLE-RADIUS=500;X-TITLE=2515 W. 46th St.:geo:-96.0219361,36.0981282
END:VEVENT
BEGIN:VEVENT
DTSTART;TZID=America/Chicago:20230915T153000
DTEND;TZID=America/Chicago:20230915T163000
DTSTAMP:20260425T200731
CREATED:20230829T154933Z
LAST-MODIFIED:20230829T154933Z
UID:10011285-1694791800-1694795400@www.saintcatherineschool.org
SUMMARY:3rd and 4th Soccer Practice
DESCRIPTION:
URL:https://www.saintcatherineschool.org/event/3rd-and-4th-soccer-practice-3
LOCATION:Saint Catherine School\, 2515 W. 46th St.\, Tulsa\, OK\, 74107\, United States
CATEGORIES:Church of Saint Catherine,Saint Catherine School
ORGANIZER;CN="Sam Naab":MAILTO:snaab@saint-catherine.org
GEO:36.0981282;-96.0219361
X-APPLE-STRUCTURED-LOCATION;VALUE=URI;X-ADDRESS=Saint Catherine School 2515 W. 46th St. Tulsa OK 74107 United States;X-APPLE-RADIUS=500;X-TITLE=2515 W. 46th St.:geo:-96.0219361,36.0981282
END:VEVENT
BEGIN:VEVENT
DTSTART;TZID=America/Chicago:20230916T100000
DTEND;TZID=America/Chicago:20230916T113000
DTSTAMP:20260425T200731
CREATED:20230907T174553Z
LAST-MODIFIED:20230928T161059Z
UID:10011305-1694858400-1694863800@www.saintcatherineschool.org
SUMMARY:1st-4th Grade Soccer Game
DESCRIPTION:
URL:https://www.saintcatherineschool.org/event/1s-4th-grade-soccer-game/2023-09-16
LOCATION:St. Augustine\, 1720 E Apache St\, Tulsa\, OK\, 74110\, United States
CATEGORIES:Church of Saint Catherine,Saint Catherine School
ORGANIZER;CN="Sam Naab":MAILTO:snaab@saint-catherine.org
GEO:36.1911097;-95.965663
X-APPLE-STRUCTURED-LOCATION;VALUE=URI;X-ADDRESS=St. Augustine 1720 E Apache St Tulsa OK 74110 United States;X-APPLE-RADIUS=500;X-TITLE=1720 E Apache St:geo:-95.965663,36.1911097
END:VEVENT
BEGIN:VEVENT
DTSTART;TZID=America/Chicago:20230916T130000
DTEND;TZID=America/Chicago:20230916T140000
DTSTAMP:20260425T200731
CREATED:20230829T155707Z
LAST-MODIFIED:20230829T155707Z
UID:10011287-1694869200-1694872800@www.saintcatherineschool.org
SUMMARY:8th Grade Volleyball Game
DESCRIPTION:
URL:https://www.saintcatherineschool.org/event/8th-grade-volleyball-game-3
LOCATION:St. Mary’s\, 1347 E 49th Pl\, Tulsa\, OK\, 74105\, United States
CATEGORIES:Church of Saint Catherine,Saint Catherine School
ORGANIZER;CN="Kayley Anthamatten":MAILTO:kayleya@saint-catherine.org
GEO:36.0925549;-95.9735246
X-APPLE-STRUCTURED-LOCATION;VALUE=URI;X-ADDRESS=St. Mary’s 1347 E 49th Pl Tulsa OK 74105 United States;X-APPLE-RADIUS=500;X-TITLE=1347 E 49th Pl:geo:-95.9735246,36.0925549
END:VEVENT
BEGIN:VEVENT
DTSTART;TZID=America/Chicago:20230916T153000
DTEND;TZID=America/Chicago:20230916T170000
DTSTAMP:20260425T200731
CREATED:20180123T023113Z
LAST-MODIFIED:20201202T201345Z
UID:10005875-1694878200-1694883600@www.saintcatherineschool.org
SUMMARY:Confessions
DESCRIPTION:Fr. Grant will hear confessions from 3:30-5:00.
URL:https://www.saintcatherineschool.org/event/confessions/2023-09-16
LOCATION:Saint Catherine of Alexandria\, 4532 S. 25th W. Ave.\, Tulsa\, OK\, 74107\, United States
CATEGORIES:Church of Saint Catherine,Saint Catherine School
GEO:36.0981774;-96.0216659
X-APPLE-STRUCTURED-LOCATION;VALUE=URI;X-ADDRESS=Saint Catherine of Alexandria 4532 S. 25th W. Ave. Tulsa OK 74107 United States;X-APPLE-RADIUS=500;X-TITLE=4532 S. 25th W. Ave.:geo:-96.0216659,36.0981774
END:VEVENT
BEGIN:VEVENT
DTSTART;TZID=America/Chicago:20230917T073000
DTEND;TZID=America/Chicago:20230917T080000
DTSTAMP:20260425T200731
CREATED:20221129T175640Z
LAST-MODIFIED:20230825T193319Z
UID:10011209-1694935800-1694937600@www.saintcatherineschool.org
SUMMARY:Confessions
DESCRIPTION:Confessions are directly after Mass at 12:00pm.
URL:https://www.saintcatherineschool.org/event/confessions-5/2023-09-17
LOCATION:Saint Catherine of Alexandria\, 4532 S. 25th W. Ave.\, Tulsa\, OK\, 74107\, United States
CATEGORIES:Church of Saint Catherine,Saint Catherine School
ORGANIZER;CN="Fr. John Grant":MAILTO:fr.joh.grant@saint-catherine.org
GEO:36.0981774;-96.0216659
X-APPLE-STRUCTURED-LOCATION;VALUE=URI;X-ADDRESS=Saint Catherine of Alexandria 4532 S. 25th W. Ave. Tulsa OK 74107 United States;X-APPLE-RADIUS=500;X-TITLE=4532 S. 25th W. Ave.:geo:-96.0216659,36.0981774
END:VEVENT
BEGIN:VEVENT
DTSTART;TZID=America/Chicago:20230917T110000
DTEND;TZID=America/Chicago:20230917T140000
DTSTAMP:20260425T200731
CREATED:20221129T193934Z
LAST-MODIFIED:20230825T193505Z
UID:10011259-1694948400-1694959200@www.saintcatherineschool.org
SUMMARY:Tonu Maria Mass
DESCRIPTION:
URL:https://www.saintcatherineschool.org/event/tonu-maria-mass-14/2023-09-17
LOCATION:Saint Catherine of Alexandria\, 4532 S. 25th W. Ave.\, Tulsa\, OK\, 74107\, United States
CATEGORIES:Church of Saint Catherine,Saint Catherine School
ORGANIZER;CN="Fr. Robert Kim":MAILTO:fr.robert.kim@dioceseoftulsa.org
GEO:36.0981774;-96.0216659
X-APPLE-STRUCTURED-LOCATION;VALUE=URI;X-ADDRESS=Saint Catherine of Alexandria 4532 S. 25th W. Ave. Tulsa OK 74107 United States;X-APPLE-RADIUS=500;X-TITLE=4532 S. 25th W. Ave.:geo:-96.0216659,36.0981774
END:VEVENT
BEGIN:VEVENT
DTSTART;TZID=America/Chicago:20230918T151500
DTEND;TZID=America/Chicago:20230918T163000
DTSTAMP:20260425T200731
CREATED:20230829T155951Z
LAST-MODIFIED:20230829T155951Z
UID:10011288-1695050100-1695054600@www.saintcatherineschool.org
SUMMARY:8th Grade Volleyball Practice
DESCRIPTION:
URL:https://www.saintcatherineschool.org/event/8th-grade-volleyball-practice-3
LOCATION:Saint Catherine School\, 2515 W. 46th St.\, Tulsa\, OK\, 74107\, United States
CATEGORIES:Church of Saint Catherine,Saint Catherine School
ORGANIZER;CN="Kayley Anthamatten":MAILTO:kayleya@saint-catherine.org
GEO:36.0981282;-96.0219361
X-APPLE-STRUCTURED-LOCATION;VALUE=URI;X-ADDRESS=Saint Catherine School 2515 W. 46th St. Tulsa OK 74107 United States;X-APPLE-RADIUS=500;X-TITLE=2515 W. 46th St.:geo:-96.0219361,36.0981282
END:VEVENT
BEGIN:VEVENT
DTSTART;TZID=America/Chicago:20230918T190000
DTEND;TZID=America/Chicago:20230918T200000
DTSTAMP:20260425T200731
CREATED:20230829T160946Z
LAST-MODIFIED:20230829T160946Z
UID:10011289-1695063600-1695067200@www.saintcatherineschool.org
SUMMARY:7th Grade Volleyball Game
DESCRIPTION:
URL:https://www.saintcatherineschool.org/event/7th-grade-volleyball-game-7
LOCATION:All Saints\, 299 S. 9th St.\, Broken Arrow\, OK\, 74012\, United States
CATEGORIES:Church of Saint Catherine,Saint Catherine School
ORGANIZER;CN="Caroline O'Connor":MAILTO:coconnor@saint-catherine.org
GEO:36.0507831;-95.7789131
X-APPLE-STRUCTURED-LOCATION;VALUE=URI;X-ADDRESS=All Saints 299 S. 9th St. Broken Arrow OK 74012 United States;X-APPLE-RADIUS=500;X-TITLE=299 S. 9th St.:geo:-95.7789131,36.0507831
END:VEVENT
END:VCALENDAR