BEGIN:VCALENDAR
VERSION:2.0
PRODID:-//Saint Catherine of Alexandria School - ECPv6.15.20//NONSGML v1.0//EN
CALSCALE:GREGORIAN
METHOD:PUBLISH
X-ORIGINAL-URL:https://www.saintcatherineschool.org
X-WR-CALDESC:Events for Saint Catherine of Alexandria School
REFRESH-INTERVAL;VALUE=DURATION:PT1H
X-Robots-Tag:noindex
X-PUBLISHED-TTL:PT1H
BEGIN:VTIMEZONE
TZID:America/Chicago
BEGIN:DAYLIGHT
TZOFFSETFROM:-0600
TZOFFSETTO:-0500
TZNAME:CDT
DTSTART:20240310T080000
END:DAYLIGHT
BEGIN:STANDARD
TZOFFSETFROM:-0500
TZOFFSETTO:-0600
TZNAME:CST
DTSTART:20241103T070000
END:STANDARD
BEGIN:DAYLIGHT
TZOFFSETFROM:-0600
TZOFFSETTO:-0500
TZNAME:CDT
DTSTART:20250309T080000
END:DAYLIGHT
BEGIN:STANDARD
TZOFFSETFROM:-0500
TZOFFSETTO:-0600
TZNAME:CST
DTSTART:20251102T070000
END:STANDARD
BEGIN:DAYLIGHT
TZOFFSETFROM:-0600
TZOFFSETTO:-0500
TZNAME:CDT
DTSTART:20260308T080000
END:DAYLIGHT
BEGIN:STANDARD
TZOFFSETFROM:-0500
TZOFFSETTO:-0600
TZNAME:CST
DTSTART:20261101T070000
END:STANDARD
BEGIN:DAYLIGHT
TZOFFSETFROM:-0600
TZOFFSETTO:-0500
TZNAME:CDT
DTSTART:20270314T080000
END:DAYLIGHT
BEGIN:STANDARD
TZOFFSETFROM:-0500
TZOFFSETTO:-0600
TZNAME:CST
DTSTART:20271107T070000
END:STANDARD
END:VTIMEZONE
BEGIN:VEVENT
DTSTART;TZID=America/Chicago:20251225T110000
DTEND;TZID=America/Chicago:20251225T130000
DTSTAMP:20260423T184642
CREATED:20251121T185438Z
LAST-MODIFIED:20251121T185438Z
UID:10013599-1766660400-1766667600@www.saintcatherineschool.org
SUMMARY:Mass - Zomi
DESCRIPTION:
URL:https://www.saintcatherineschool.org/event/mass-zomi-45
LOCATION:Saint Catherine of Alexandria\, 4532 S. 25th W. Ave.\, Tulsa\, OK\, 74107\, United States
CATEGORIES:Church of Saint Catherine,Saint Catherine School
ORGANIZER;CN="Fr. Robert Kim":MAILTO:fr.robert.kim@dioceseoftulsa.org
GEO:36.0981774;-96.0216659
X-APPLE-STRUCTURED-LOCATION;VALUE=URI;X-ADDRESS=Saint Catherine of Alexandria 4532 S. 25th W. Ave. Tulsa OK 74107 United States;X-APPLE-RADIUS=500;X-TITLE=4532 S. 25th W. Ave.:geo:-96.0216659,36.0981774
END:VEVENT
BEGIN:VEVENT
DTSTART;TZID=America/Chicago:20251226T080000
DTEND;TZID=America/Chicago:20251226T151500
DTSTAMP:20260423T184642
CREATED:20251121T182806Z
LAST-MODIFIED:20251121T182806Z
UID:10013590-1766736000-1766762100@www.saintcatherineschool.org
SUMMARY:Christmas Break - NO School
DESCRIPTION:
URL:https://www.saintcatherineschool.org/event/christmas-break-no-school-25
LOCATION:Saint Catherine School\, 2515 W. 46th St.\, Tulsa\, OK\, 74107\, United States
CATEGORIES:Church of Saint Catherine,Saint Catherine School
ORGANIZER;CN="Michelle Anthamatten":MAILTO:manthamatten@saint-catherine.org
GEO:36.0981282;-96.0219361
X-APPLE-STRUCTURED-LOCATION;VALUE=URI;X-ADDRESS=Saint Catherine School 2515 W. 46th St. Tulsa OK 74107 United States;X-APPLE-RADIUS=500;X-TITLE=2515 W. 46th St.:geo:-96.0219361,36.0981282
END:VEVENT
BEGIN:VEVENT
DTSTART;TZID=America/Chicago:20251226T100000
DTEND;TZID=America/Chicago:20251226T110000
DTSTAMP:20260423T184642
CREATED:20251121T182725Z
LAST-MODIFIED:20251121T182725Z
UID:10013589-1766743200-1766746800@www.saintcatherineschool.org
SUMMARY:Mass - Zomi
DESCRIPTION:
URL:https://www.saintcatherineschool.org/event/mass-zomi-44
LOCATION:Saint Catherine of Alexandria\, 4532 S. 25th W. Ave.\, Tulsa\, OK\, 74107\, United States
CATEGORIES:Church of Saint Catherine,Saint Catherine School
ORGANIZER;CN="Fr. Robert Kim":MAILTO:fr.robert.kim@dioceseoftulsa.org
GEO:36.0981774;-96.0216659
X-APPLE-STRUCTURED-LOCATION;VALUE=URI;X-ADDRESS=Saint Catherine of Alexandria 4532 S. 25th W. Ave. Tulsa OK 74107 United States;X-APPLE-RADIUS=500;X-TITLE=4532 S. 25th W. Ave.:geo:-96.0216659,36.0981774
END:VEVENT
BEGIN:VEVENT
DTSTART;TZID=America/Chicago:20251227T100000
DTEND;TZID=America/Chicago:20251227T110000
DTSTAMP:20260423T184642
CREATED:20251121T191116Z
LAST-MODIFIED:20251121T191116Z
UID:10013602-1766829600-1766833200@www.saintcatherineschool.org
SUMMARY:Mass - Zomi
DESCRIPTION:
URL:https://www.saintcatherineschool.org/event/mass-zomi-47
LOCATION:Saint Catherine of Alexandria\, 4532 S. 25th W. Ave.\, Tulsa\, OK\, 74107\, United States
CATEGORIES:Church of Saint Catherine,Saint Catherine School
ORGANIZER;CN="Fr. Robert Kim":MAILTO:fr.robert.kim@dioceseoftulsa.org
GEO:36.0981774;-96.0216659
X-APPLE-STRUCTURED-LOCATION;VALUE=URI;X-ADDRESS=Saint Catherine of Alexandria 4532 S. 25th W. Ave. Tulsa OK 74107 United States;X-APPLE-RADIUS=500;X-TITLE=4532 S. 25th W. Ave.:geo:-96.0216659,36.0981774
END:VEVENT
BEGIN:VEVENT
DTSTART;TZID=America/Chicago:20251227T153000
DTEND;TZID=America/Chicago:20251227T163000
DTSTAMP:20260423T184642
CREATED:20251121T182839Z
LAST-MODIFIED:20251121T182839Z
UID:10013591-1766849400-1766853000@www.saintcatherineschool.org
SUMMARY:Adoration and Confession
DESCRIPTION:
URL:https://www.saintcatherineschool.org/event/adoration-and-confession-6
LOCATION:Saint Catherine of Alexandria\, 4532 S. 25th W. Ave.\, Tulsa\, OK\, 74107\, United States
CATEGORIES:Church of Saint Catherine,Saint Catherine School
ORGANIZER;CN="Fr. Robert Kim":MAILTO:fr.robert.kim@dioceseoftulsa.org
GEO:36.0981774;-96.0216659
X-APPLE-STRUCTURED-LOCATION;VALUE=URI;X-ADDRESS=Saint Catherine of Alexandria 4532 S. 25th W. Ave. Tulsa OK 74107 United States;X-APPLE-RADIUS=500;X-TITLE=4532 S. 25th W. Ave.:geo:-96.0216659,36.0981774
END:VEVENT
BEGIN:VEVENT
DTSTART;TZID=America/Chicago:20251227T170000
DTEND;TZID=America/Chicago:20251227T180000
DTSTAMP:20260423T184642
CREATED:20251121T182907Z
LAST-MODIFIED:20251121T182907Z
UID:10013592-1766854800-1766858400@www.saintcatherineschool.org
SUMMARY:Mass - English
DESCRIPTION:
URL:https://www.saintcatherineschool.org/event/mass-english-91
LOCATION:Saint Catherine of Alexandria\, 4532 S. 25th W. Ave.\, Tulsa\, OK\, 74107\, United States
CATEGORIES:Church of Saint Catherine,Saint Catherine School
ORGANIZER;CN="Fr. Robert Kim":MAILTO:fr.robert.kim@dioceseoftulsa.org
GEO:36.0981774;-96.0216659
X-APPLE-STRUCTURED-LOCATION;VALUE=URI;X-ADDRESS=Saint Catherine of Alexandria 4532 S. 25th W. Ave. Tulsa OK 74107 United States;X-APPLE-RADIUS=500;X-TITLE=4532 S. 25th W. Ave.:geo:-96.0216659,36.0981774
END:VEVENT
BEGIN:VEVENT
DTSTART;TZID=America/Chicago:20251228T110000
DTEND;TZID=America/Chicago:20251228T130000
DTSTAMP:20260423T184642
CREATED:20251121T190053Z
LAST-MODIFIED:20251121T190053Z
UID:10013601-1766919600-1766926800@www.saintcatherineschool.org
SUMMARY:Mass - Zomi
DESCRIPTION:
URL:https://www.saintcatherineschool.org/event/mass-zomi-46
LOCATION:Saint Catherine of Alexandria\, 4532 S. 25th W. Ave.\, Tulsa\, OK\, 74107\, United States
CATEGORIES:Church of Saint Catherine,Saint Catherine School
ORGANIZER;CN="Fr. Robert Kim":MAILTO:fr.robert.kim@dioceseoftulsa.org
GEO:36.0981774;-96.0216659
X-APPLE-STRUCTURED-LOCATION;VALUE=URI;X-ADDRESS=Saint Catherine of Alexandria 4532 S. 25th W. Ave. Tulsa OK 74107 United States;X-APPLE-RADIUS=500;X-TITLE=4532 S. 25th W. Ave.:geo:-96.0216659,36.0981774
END:VEVENT
BEGIN:VEVENT
DTSTART;TZID=America/Chicago:20251229T080000
DTEND;TZID=America/Chicago:20251229T151500
DTSTAMP:20260423T184642
CREATED:20250825T171417Z
LAST-MODIFIED:20250825T171607Z
UID:10013300-1766995200-1767021300@www.saintcatherineschool.org
SUMMARY:Christmas Break - NO School
DESCRIPTION:
URL:https://www.saintcatherineschool.org/event/christmas-break-no-school-32
LOCATION:Saint Catherine School\, 2515 W. 46th St.\, Tulsa\, OK\, 74107\, United States
CATEGORIES:Church of Saint Catherine,Saint Catherine School
ORGANIZER;CN="Michelle Anthamatten":MAILTO:manthamatten@saint-catherine.org
GEO:36.0981282;-96.0219361
X-APPLE-STRUCTURED-LOCATION;VALUE=URI;X-ADDRESS=Saint Catherine School 2515 W. 46th St. Tulsa OK 74107 United States;X-APPLE-RADIUS=500;X-TITLE=2515 W. 46th St.:geo:-96.0219361,36.0981282
END:VEVENT
BEGIN:VEVENT
DTSTART;TZID=America/Chicago:20251229T100000
DTEND;TZID=America/Chicago:20251229T110000
DTSTAMP:20260423T184642
CREATED:20251121T191150Z
LAST-MODIFIED:20251121T191150Z
UID:10013603-1767002400-1767006000@www.saintcatherineschool.org
SUMMARY:Mass - Zomi
DESCRIPTION:
URL:https://www.saintcatherineschool.org/event/mass-zomi-48
LOCATION:Saint Catherine of Alexandria\, 4532 S. 25th W. Ave.\, Tulsa\, OK\, 74107\, United States
CATEGORIES:Church of Saint Catherine,Saint Catherine School
ORGANIZER;CN="Fr. Robert Kim":MAILTO:fr.robert.kim@dioceseoftulsa.org
GEO:36.0981774;-96.0216659
X-APPLE-STRUCTURED-LOCATION;VALUE=URI;X-ADDRESS=Saint Catherine of Alexandria 4532 S. 25th W. Ave. Tulsa OK 74107 United States;X-APPLE-RADIUS=500;X-TITLE=4532 S. 25th W. Ave.:geo:-96.0216659,36.0981774
END:VEVENT
BEGIN:VEVENT
DTSTART;TZID=America/Chicago:20251230T080000
DTEND;TZID=America/Chicago:20251230T151500
DTSTAMP:20260423T184642
CREATED:20250825T171440Z
LAST-MODIFIED:20250825T171604Z
UID:10013301-1767081600-1767107700@www.saintcatherineschool.org
SUMMARY:Christmas Break - NO School
DESCRIPTION:
URL:https://www.saintcatherineschool.org/event/christmas-break-no-school-33
LOCATION:Saint Catherine School\, 2515 W. 46th St.\, Tulsa\, OK\, 74107\, United States
ORGANIZER;CN="Michelle Anthamatten":MAILTO:manthamatten@saint-catherine.org
GEO:36.0981282;-96.0219361
X-APPLE-STRUCTURED-LOCATION;VALUE=URI;X-ADDRESS=Saint Catherine School 2515 W. 46th St. Tulsa OK 74107 United States;X-APPLE-RADIUS=500;X-TITLE=2515 W. 46th St.:geo:-96.0219361,36.0981282
END:VEVENT
BEGIN:VEVENT
DTSTART;TZID=America/Chicago:20251230T080000
DTEND;TZID=America/Chicago:20251230T151500
DTSTAMP:20260423T184642
CREATED:20250825T171720Z
LAST-MODIFIED:20250825T171720Z
UID:10013302-1767081600-1767107700@www.saintcatherineschool.org
SUMMARY:Christmas Break - NO School
DESCRIPTION:
URL:https://www.saintcatherineschool.org/event/christmas-break-no-school-34
LOCATION:Saint Catherine School\, 2515 W. 46th St.\, Tulsa\, OK\, 74107\, United States
CATEGORIES:Church of Saint Catherine,Saint Catherine School
ORGANIZER;CN="Michelle Anthamatten":MAILTO:manthamatten@saint-catherine.org
GEO:36.0981282;-96.0219361
X-APPLE-STRUCTURED-LOCATION;VALUE=URI;X-ADDRESS=Saint Catherine School 2515 W. 46th St. Tulsa OK 74107 United States;X-APPLE-RADIUS=500;X-TITLE=2515 W. 46th St.:geo:-96.0219361,36.0981282
END:VEVENT
BEGIN:VEVENT
DTSTART;TZID=America/Chicago:20251230T100000
DTEND;TZID=America/Chicago:20251230T110000
DTSTAMP:20260423T184642
CREATED:20251121T191227Z
LAST-MODIFIED:20251121T191227Z
UID:10013604-1767088800-1767092400@www.saintcatherineschool.org
SUMMARY:Mass - Zomi
DESCRIPTION:
URL:https://www.saintcatherineschool.org/event/mass-zomi-49
LOCATION:Saint Catherine of Alexandria\, 4532 S. 25th W. Ave.\, Tulsa\, OK\, 74107\, United States
CATEGORIES:Church of Saint Catherine,Saint Catherine School
ORGANIZER;CN="Fr. Robert Kim":MAILTO:fr.robert.kim@dioceseoftulsa.org
GEO:36.0981774;-96.0216659
X-APPLE-STRUCTURED-LOCATION;VALUE=URI;X-ADDRESS=Saint Catherine of Alexandria 4532 S. 25th W. Ave. Tulsa OK 74107 United States;X-APPLE-RADIUS=500;X-TITLE=4532 S. 25th W. Ave.:geo:-96.0216659,36.0981774
END:VEVENT
BEGIN:VEVENT
DTSTART;TZID=America/Chicago:20251231T080000
DTEND;TZID=America/Chicago:20251231T151500
DTSTAMP:20260423T184642
CREATED:20250825T171752Z
LAST-MODIFIED:20250825T171752Z
UID:10013303-1767168000-1767194100@www.saintcatherineschool.org
SUMMARY:Christmas Break - NO School
DESCRIPTION:
URL:https://www.saintcatherineschool.org/event/christmas-break-no-school-35
LOCATION:Saint Catherine School\, 2515 W. 46th St.\, Tulsa\, OK\, 74107\, United States
CATEGORIES:Church of Saint Catherine,Saint Catherine School
ORGANIZER;CN="Michelle Anthamatten":MAILTO:manthamatten@saint-catherine.org
GEO:36.0981282;-96.0219361
X-APPLE-STRUCTURED-LOCATION;VALUE=URI;X-ADDRESS=Saint Catherine School 2515 W. 46th St. Tulsa OK 74107 United States;X-APPLE-RADIUS=500;X-TITLE=2515 W. 46th St.:geo:-96.0219361,36.0981282
END:VEVENT
BEGIN:VEVENT
DTSTART;TZID=America/Chicago:20251231T170000
DTEND;TZID=America/Chicago:20251231T180000
DTSTAMP:20260423T184642
CREATED:20251121T191314Z
LAST-MODIFIED:20251121T191314Z
UID:10013605-1767200400-1767204000@www.saintcatherineschool.org
SUMMARY:Mass - English
DESCRIPTION:
URL:https://www.saintcatherineschool.org/event/mass-english-92
LOCATION:Saint Catherine of Alexandria\, 4532 S. 25th W. Ave.\, Tulsa\, OK\, 74107\, United States
CATEGORIES:Church of Saint Catherine,Saint Catherine School
ORGANIZER;CN="Fr. Robert Kim":MAILTO:fr.robert.kim@dioceseoftulsa.org
GEO:36.0981774;-96.0216659
X-APPLE-STRUCTURED-LOCATION;VALUE=URI;X-ADDRESS=Saint Catherine of Alexandria 4532 S. 25th W. Ave. Tulsa OK 74107 United States;X-APPLE-RADIUS=500;X-TITLE=4532 S. 25th W. Ave.:geo:-96.0216659,36.0981774
END:VEVENT
BEGIN:VEVENT
DTSTART;TZID=America/Chicago:20251231T220000
DTEND;TZID=America/Chicago:20251231T230000
DTSTAMP:20260423T184642
CREATED:20251121T191351Z
LAST-MODIFIED:20251121T191351Z
UID:10013606-1767218400-1767222000@www.saintcatherineschool.org
SUMMARY:Adoration
DESCRIPTION:
URL:https://www.saintcatherineschool.org/event/adoration-32
LOCATION:Saint Catherine of Alexandria\, 4532 S. 25th W. Ave.\, Tulsa\, OK\, 74107\, United States
CATEGORIES:Church of Saint Catherine,Saint Catherine School
ORGANIZER;CN="Fr. Robert Kim":MAILTO:fr.robert.kim@dioceseoftulsa.org
GEO:36.0981774;-96.0216659
X-APPLE-STRUCTURED-LOCATION;VALUE=URI;X-ADDRESS=Saint Catherine of Alexandria 4532 S. 25th W. Ave. Tulsa OK 74107 United States;X-APPLE-RADIUS=500;X-TITLE=4532 S. 25th W. Ave.:geo:-96.0216659,36.0981774
END:VEVENT
BEGIN:VEVENT
DTSTART;TZID=America/Chicago:20260101T080000
DTEND;TZID=America/Chicago:20260101T151500
DTSTAMP:20260423T184642
CREATED:20251121T191534Z
LAST-MODIFIED:20251121T191534Z
UID:10013607-1767254400-1767280500@www.saintcatherineschool.org
SUMMARY:Christmas Break - NO School
DESCRIPTION:
URL:https://www.saintcatherineschool.org/event/christmas-break-no-school-26/2026-01-01
LOCATION:Saint Catherine School\, 2515 W. 46th St.\, Tulsa\, OK\, 74107\, United States
CATEGORIES:Church of Saint Catherine,Saint Catherine School
ORGANIZER;CN="Michelle Anthamatten":MAILTO:manthamatten@saint-catherine.org
GEO:36.0981282;-96.0219361
X-APPLE-STRUCTURED-LOCATION;VALUE=URI;X-ADDRESS=Saint Catherine School 2515 W. 46th St. Tulsa OK 74107 United States;X-APPLE-RADIUS=500;X-TITLE=2515 W. 46th St.:geo:-96.0219361,36.0981282
END:VEVENT
BEGIN:VEVENT
DTSTART;TZID=America/Chicago:20260101T110000
DTEND;TZID=America/Chicago:20260101T130000
DTSTAMP:20260423T184642
CREATED:20251121T191613Z
LAST-MODIFIED:20251121T191613Z
UID:10013609-1767265200-1767272400@www.saintcatherineschool.org
SUMMARY:Mass - Zomi
DESCRIPTION:
URL:https://www.saintcatherineschool.org/event/mass-zomi-50
LOCATION:Saint Catherine of Alexandria\, 4532 S. 25th W. Ave.\, Tulsa\, OK\, 74107\, United States
CATEGORIES:Church of Saint Catherine,Saint Catherine School
ORGANIZER;CN="Fr. Robert Kim":MAILTO:fr.robert.kim@dioceseoftulsa.org
GEO:36.0981774;-96.0216659
X-APPLE-STRUCTURED-LOCATION;VALUE=URI;X-ADDRESS=Saint Catherine of Alexandria 4532 S. 25th W. Ave. Tulsa OK 74107 United States;X-APPLE-RADIUS=500;X-TITLE=4532 S. 25th W. Ave.:geo:-96.0216659,36.0981774
END:VEVENT
BEGIN:VEVENT
DTSTART;TZID=America/Chicago:20260102T080000
DTEND;TZID=America/Chicago:20260102T151500
DTSTAMP:20260423T184642
CREATED:20251121T191534Z
LAST-MODIFIED:20251121T191534Z
UID:10013608-1767340800-1767366900@www.saintcatherineschool.org
SUMMARY:Christmas Break - NO School
DESCRIPTION:
URL:https://www.saintcatherineschool.org/event/christmas-break-no-school-26/2026-01-02
LOCATION:Saint Catherine School\, 2515 W. 46th St.\, Tulsa\, OK\, 74107\, United States
CATEGORIES:Church of Saint Catherine,Saint Catherine School
ORGANIZER;CN="Michelle Anthamatten":MAILTO:manthamatten@saint-catherine.org
GEO:36.0981282;-96.0219361
X-APPLE-STRUCTURED-LOCATION;VALUE=URI;X-ADDRESS=Saint Catherine School 2515 W. 46th St. Tulsa OK 74107 United States;X-APPLE-RADIUS=500;X-TITLE=2515 W. 46th St.:geo:-96.0219361,36.0981282
END:VEVENT
BEGIN:VEVENT
DTSTART;TZID=America/Chicago:20260103T153000
DTEND;TZID=America/Chicago:20260103T163000
DTSTAMP:20260423T184642
CREATED:20251121T192820Z
LAST-MODIFIED:20251121T192820Z
UID:10013610-1767454200-1767457800@www.saintcatherineschool.org
SUMMARY:Adoration and Confession
DESCRIPTION:
URL:https://www.saintcatherineschool.org/event/adoration-and-confession-7
LOCATION:Saint Catherine of Alexandria\, 4532 S. 25th W. Ave.\, Tulsa\, OK\, 74107\, United States
CATEGORIES:Church of Saint Catherine,Saint Catherine School
ORGANIZER;CN="Fr. Robert Kim":MAILTO:fr.robert.kim@dioceseoftulsa.org
GEO:36.0981774;-96.0216659
X-APPLE-STRUCTURED-LOCATION;VALUE=URI;X-ADDRESS=Saint Catherine of Alexandria 4532 S. 25th W. Ave. Tulsa OK 74107 United States;X-APPLE-RADIUS=500;X-TITLE=4532 S. 25th W. Ave.:geo:-96.0216659,36.0981774
END:VEVENT
BEGIN:VEVENT
DTSTART;TZID=America/Chicago:20260103T170000
DTEND;TZID=America/Chicago:20260103T180000
DTSTAMP:20260423T184642
CREATED:20251121T192845Z
LAST-MODIFIED:20251121T192845Z
UID:10013611-1767459600-1767463200@www.saintcatherineschool.org
SUMMARY:Mass - English
DESCRIPTION:
URL:https://www.saintcatherineschool.org/event/mass-english-93
LOCATION:Saint Catherine of Alexandria\, 4532 S. 25th W. Ave.\, Tulsa\, OK\, 74107\, United States
CATEGORIES:Church of Saint Catherine,Saint Catherine School
ORGANIZER;CN="Fr. Robert Kim":MAILTO:fr.robert.kim@dioceseoftulsa.org
GEO:36.0981774;-96.0216659
X-APPLE-STRUCTURED-LOCATION;VALUE=URI;X-ADDRESS=Saint Catherine of Alexandria 4532 S. 25th W. Ave. Tulsa OK 74107 United States;X-APPLE-RADIUS=500;X-TITLE=4532 S. 25th W. Ave.:geo:-96.0216659,36.0981774
END:VEVENT
BEGIN:VEVENT
DTSTART;TZID=America/Chicago:20260103T170000
DTEND;TZID=America/Chicago:20260103T180000
DTSTAMP:20260423T184642
CREATED:20251215T193452Z
LAST-MODIFIED:20251215T193452Z
UID:10013625-1767459600-1767463200@www.saintcatherineschool.org
SUMMARY:Mass - English
DESCRIPTION:
URL:https://www.saintcatherineschool.org/event/mass-english-95/2026-01-03
LOCATION:Saint Catherine of Alexandria\, 4532 S. 25th W. Ave.\, Tulsa\, OK\, 74107\, United States
CATEGORIES:Church of Saint Catherine,Saint Catherine School
ORGANIZER;CN="Fr. Robert Kim":MAILTO:fr.robert.kim@dioceseoftulsa.org
GEO:36.0981774;-96.0216659
X-APPLE-STRUCTURED-LOCATION;VALUE=URI;X-ADDRESS=Saint Catherine of Alexandria 4532 S. 25th W. Ave. Tulsa OK 74107 United States;X-APPLE-RADIUS=500;X-TITLE=4532 S. 25th W. Ave.:geo:-96.0216659,36.0981774
END:VEVENT
BEGIN:VEVENT
DTSTART;TZID=America/Chicago:20260104T110000
DTEND;TZID=America/Chicago:20260104T130000
DTSTAMP:20260423T184642
CREATED:20251215T193216Z
LAST-MODIFIED:20251215T193216Z
UID:10013617-1767524400-1767531600@www.saintcatherineschool.org
SUMMARY:Mass - Zomi
DESCRIPTION:
URL:https://www.saintcatherineschool.org/event/mass-zomi-51/2026-01-04
LOCATION:Saint Catherine of Alexandria\, 4532 S. 25th W. Ave.\, Tulsa\, OK\, 74107\, United States
CATEGORIES:Church of Saint Catherine,Saint Catherine School
ORGANIZER;CN="Fr. Robert Kim":MAILTO:fr.robert.kim@dioceseoftulsa.org
GEO:36.0981774;-96.0216659
X-APPLE-STRUCTURED-LOCATION;VALUE=URI;X-ADDRESS=Saint Catherine of Alexandria 4532 S. 25th W. Ave. Tulsa OK 74107 United States;X-APPLE-RADIUS=500;X-TITLE=4532 S. 25th W. Ave.:geo:-96.0216659,36.0981774
END:VEVENT
BEGIN:VEVENT
DTSTART;TZID=America/Chicago:20260105T080000
DTEND;TZID=America/Chicago:20260105T153000
DTSTAMP:20260423T184642
CREATED:20251215T201815Z
LAST-MODIFIED:20251215T201815Z
UID:10013692-1767600000-1767627000@www.saintcatherineschool.org
SUMMARY:Classes Resume
DESCRIPTION:
URL:https://www.saintcatherineschool.org/event/classes-resume
LOCATION:Saint Catherine School\, 2515 W. 46th St.\, Tulsa\, OK\, 74107\, United States
CATEGORIES:Church of Saint Catherine,Saint Catherine School
ORGANIZER;CN="Michelle Anthamatten":MAILTO:manthamatten@saint-catherine.org
GEO:36.0981282;-96.0219361
X-APPLE-STRUCTURED-LOCATION;VALUE=URI;X-ADDRESS=Saint Catherine School 2515 W. 46th St. Tulsa OK 74107 United States;X-APPLE-RADIUS=500;X-TITLE=2515 W. 46th St.:geo:-96.0219361,36.0981282
END:VEVENT
BEGIN:VEVENT
DTSTART;TZID=America/Chicago:20260105T153000
DTEND;TZID=America/Chicago:20260105T163000
DTSTAMP:20260423T184642
CREATED:20251215T193744Z
LAST-MODIFIED:20251215T193744Z
UID:10013643-1767627000-1767630600@www.saintcatherineschool.org
SUMMARY:Choir Practice
DESCRIPTION:
URL:https://www.saintcatherineschool.org/event/choir-practice-18/2026-01-05
LOCATION:Saint Catherine School\, 2515 W. 46th St.\, Tulsa\, OK\, 74107\, United States
CATEGORIES:Church of Saint Catherine,Saint Catherine School
ORGANIZER;CN="Kaite Guglielmo":MAILTO:katiebug22302@gmail.com
GEO:36.0981282;-96.0219361
X-APPLE-STRUCTURED-LOCATION;VALUE=URI;X-ADDRESS=Saint Catherine School 2515 W. 46th St. Tulsa OK 74107 United States;X-APPLE-RADIUS=500;X-TITLE=2515 W. 46th St.:geo:-96.0219361,36.0981282
END:VEVENT
BEGIN:VEVENT
DTSTART;TZID=America/Chicago:20260106T080000
DTEND;TZID=America/Chicago:20260106T090000
DTSTAMP:20260423T184642
CREATED:20251215T193918Z
LAST-MODIFIED:20251215T193918Z
UID:10013646-1767686400-1767690000@www.saintcatherineschool.org
SUMMARY:Mass - English
DESCRIPTION:
URL:https://www.saintcatherineschool.org/event/mass-english-96/2026-01-06
LOCATION:Saint Catherine of Alexandria\, 4532 S. 25th W. Ave.\, Tulsa\, OK\, 74107\, United States
CATEGORIES:Church of Saint Catherine,Saint Catherine School
ORGANIZER;CN="Fr. Robert Kim":MAILTO:fr.robert.kim@dioceseoftulsa.org
GEO:36.0981774;-96.0216659
X-APPLE-STRUCTURED-LOCATION;VALUE=URI;X-ADDRESS=Saint Catherine of Alexandria 4532 S. 25th W. Ave. Tulsa OK 74107 United States;X-APPLE-RADIUS=500;X-TITLE=4532 S. 25th W. Ave.:geo:-96.0216659,36.0981774
END:VEVENT
BEGIN:VEVENT
DTSTART;TZID=America/Chicago:20260106T180000
DTEND;TZID=America/Chicago:20260106T193000
DTSTAMP:20260423T184642
CREATED:20251215T200518Z
LAST-MODIFIED:20251215T200518Z
UID:10013681-1767722400-1767727800@www.saintcatherineschool.org
SUMMARY:School Advisory Committee Meeting
DESCRIPTION:
URL:https://www.saintcatherineschool.org/event/school-advisory-committee-meeting-4
LOCATION:Saint Catherine School\, 2515 W. 46th St.\, Tulsa\, OK\, 74107\, United States
CATEGORIES:Church of Saint Catherine,Saint Catherine School
ORGANIZER;CN="Michelle Anthamatten":MAILTO:manthamatten@saint-catherine.org
GEO:36.0981282;-96.0219361
X-APPLE-STRUCTURED-LOCATION;VALUE=URI;X-ADDRESS=Saint Catherine School 2515 W. 46th St. Tulsa OK 74107 United States;X-APPLE-RADIUS=500;X-TITLE=2515 W. 46th St.:geo:-96.0219361,36.0981282
END:VEVENT
BEGIN:VEVENT
DTSTART;TZID=America/Chicago:20260107T080000
DTEND;TZID=America/Chicago:20260107T170000
DTSTAMP:20260423T184642
CREATED:20251215T195001Z
LAST-MODIFIED:20251215T195001Z
UID:10013654-1767772800-1767805200@www.saintcatherineschool.org
SUMMARY:Mass - Zomi
DESCRIPTION:
URL:https://www.saintcatherineschool.org/event/mass-zomi-52/2026-01-07
LOCATION:Saint Catherine of Alexandria\, 4532 S. 25th W. Ave.\, Tulsa\, OK\, 74107\, United States
CATEGORIES:Church of Saint Catherine,Saint Catherine School
ORGANIZER;CN="Fr. Robert Kim":MAILTO:fr.robert.kim@dioceseoftulsa.org
GEO:36.0981774;-96.0216659
X-APPLE-STRUCTURED-LOCATION;VALUE=URI;X-ADDRESS=Saint Catherine of Alexandria 4532 S. 25th W. Ave. Tulsa OK 74107 United States;X-APPLE-RADIUS=500;X-TITLE=4532 S. 25th W. Ave.:geo:-96.0216659,36.0981774
END:VEVENT
BEGIN:VEVENT
DTSTART;TZID=America/Chicago:20260107T153000
DTEND;TZID=America/Chicago:20260107T163000
DTSTAMP:20260423T184642
CREATED:20251215T200228Z
LAST-MODIFIED:20251215T200228Z
UID:10013678-1767799800-1767803400@www.saintcatherineschool.org
SUMMARY:Little Flowers 1st and 2nd Grade
DESCRIPTION:
URL:https://www.saintcatherineschool.org/event/little-flowers-1st-and-2nd-grade-4
LOCATION:Saint Catherine School\, 2515 W. 46th St.\, Tulsa\, OK\, 74107\, United States
CATEGORIES:Church of Saint Catherine,Saint Catherine School
GEO:36.0981282;-96.0219361
X-APPLE-STRUCTURED-LOCATION;VALUE=URI;X-ADDRESS=Saint Catherine School 2515 W. 46th St. Tulsa OK 74107 United States;X-APPLE-RADIUS=500;X-TITLE=2515 W. 46th St.:geo:-96.0219361,36.0981282
END:VEVENT
BEGIN:VEVENT
DTSTART;TZID=America/Chicago:20260108T080000
DTEND;TZID=America/Chicago:20260108T090000
DTSTAMP:20260423T184642
CREATED:20251215T195118Z
LAST-MODIFIED:20251215T195118Z
UID:10013662-1767859200-1767862800@www.saintcatherineschool.org
SUMMARY:Mass - English
DESCRIPTION:
URL:https://www.saintcatherineschool.org/event/mass-english-97/2026-01-08
LOCATION:Saint Catherine of Alexandria\, 4532 S. 25th W. Ave.\, Tulsa\, OK\, 74107\, United States
CATEGORIES:Church of Saint Catherine,Saint Catherine School
ORGANIZER;CN="Fr. Robert Kim":MAILTO:fr.robert.kim@dioceseoftulsa.org
GEO:36.0981774;-96.0216659
X-APPLE-STRUCTURED-LOCATION;VALUE=URI;X-ADDRESS=Saint Catherine of Alexandria 4532 S. 25th W. Ave. Tulsa OK 74107 United States;X-APPLE-RADIUS=500;X-TITLE=4532 S. 25th W. Ave.:geo:-96.0216659,36.0981774
END:VEVENT
BEGIN:VEVENT
DTSTART;TZID=America/Chicago:20260109T080000
DTEND;TZID=America/Chicago:20260109T090000
DTSTAMP:20260423T184642
CREATED:20251215T200125Z
LAST-MODIFIED:20251215T200125Z
UID:10013670-1767945600-1767949200@www.saintcatherineschool.org
SUMMARY:Mass - English
DESCRIPTION:
URL:https://www.saintcatherineschool.org/event/mass-english-98/2026-01-09
LOCATION:Saint Catherine of Alexandria\, 4532 S. 25th W. Ave.\, Tulsa\, OK\, 74107\, United States
CATEGORIES:Church of Saint Catherine,Saint Catherine School
ORGANIZER;CN="Fr. Robert Kim":MAILTO:fr.robert.kim@dioceseoftulsa.org
GEO:36.0981774;-96.0216659
X-APPLE-STRUCTURED-LOCATION;VALUE=URI;X-ADDRESS=Saint Catherine of Alexandria 4532 S. 25th W. Ave. Tulsa OK 74107 United States;X-APPLE-RADIUS=500;X-TITLE=4532 S. 25th W. Ave.:geo:-96.0216659,36.0981774
END:VEVENT
END:VCALENDAR