BEGIN:VCALENDAR
VERSION:2.0
PRODID:-//Saint Catherine of Alexandria School - ECPv6.15.20//NONSGML v1.0//EN
CALSCALE:GREGORIAN
METHOD:PUBLISH
X-WR-CALNAME:Saint Catherine of Alexandria School
X-ORIGINAL-URL:https://www.saintcatherineschool.org
X-WR-CALDESC:Events for Saint Catherine of Alexandria School
REFRESH-INTERVAL;VALUE=DURATION:PT1H
X-Robots-Tag:noindex
X-PUBLISHED-TTL:PT1H
BEGIN:VTIMEZONE
TZID:America/Chicago
BEGIN:DAYLIGHT
TZOFFSETFROM:-0600
TZOFFSETTO:-0500
TZNAME:CDT
DTSTART:20220313T080000
END:DAYLIGHT
BEGIN:STANDARD
TZOFFSETFROM:-0500
TZOFFSETTO:-0600
TZNAME:CST
DTSTART:20221106T070000
END:STANDARD
BEGIN:DAYLIGHT
TZOFFSETFROM:-0600
TZOFFSETTO:-0500
TZNAME:CDT
DTSTART:20230312T080000
END:DAYLIGHT
BEGIN:STANDARD
TZOFFSETFROM:-0500
TZOFFSETTO:-0600
TZNAME:CST
DTSTART:20231105T070000
END:STANDARD
BEGIN:DAYLIGHT
TZOFFSETFROM:-0600
TZOFFSETTO:-0500
TZNAME:CDT
DTSTART:20240310T080000
END:DAYLIGHT
BEGIN:STANDARD
TZOFFSETFROM:-0500
TZOFFSETTO:-0600
TZNAME:CST
DTSTART:20241103T070000
END:STANDARD
END:VTIMEZONE
BEGIN:VEVENT
DTSTART;TZID=America/Chicago:20230620T153000
DTEND;TZID=America/Chicago:20230620T163000
DTSTAMP:20260425T225713
CREATED:20230307T143621Z
LAST-MODIFIED:20230307T143621Z
UID:10009612-1687275000-1687278600@www.saintcatherineschool.org
SUMMARY:Track Practice
DESCRIPTION:
URL:https://www.saintcatherineschool.org/event/track-practice-12/2023-06-20
LOCATION:Saint Catherine School\, 2515 W. 46th St.\, Tulsa\, OK\, 74107\, United States
CATEGORIES:Church of Saint Catherine,Saint Catherine School
ORGANIZER;CN="Monique McAtee":MAILTO:mmcatee@saint-catherine.org
GEO:36.0981282;-96.0219361
X-APPLE-STRUCTURED-LOCATION;VALUE=URI;X-ADDRESS=Saint Catherine School 2515 W. 46th St. Tulsa OK 74107 United States;X-APPLE-RADIUS=500;X-TITLE=2515 W. 46th St.:geo:-96.0219361,36.0981282
END:VEVENT
BEGIN:VEVENT
DTSTART;TZID=America/Chicago:20230620T081500
DTEND;TZID=America/Chicago:20230620T090000
DTSTAMP:20260425T225713
CREATED:20230524T174307Z
LAST-MODIFIED:20230524T174307Z
UID:10009743-1687248900-1687251600@www.saintcatherineschool.org
SUMMARY:Mass - Saint Catherine
DESCRIPTION:
URL:https://www.saintcatherineschool.org/event/mass-saint-catherine-22/2023-06-20
LOCATION:Saint Catherine of Alexandria\, 4532 S. 25th W. Ave.\, Tulsa\, OK\, 74107\, United States
CATEGORIES:Church of Saint Catherine,Saint Catherine School
ORGANIZER;CN="Fr. John Grant":MAILTO:fr.joh.grant@saint-catherine.org
GEO:36.0981774;-96.0216659
X-APPLE-STRUCTURED-LOCATION;VALUE=URI;X-ADDRESS=Saint Catherine of Alexandria 4532 S. 25th W. Ave. Tulsa OK 74107 United States;X-APPLE-RADIUS=500;X-TITLE=4532 S. 25th W. Ave.:geo:-96.0216659,36.0981774
END:VEVENT
BEGIN:VEVENT
DTSTART;TZID=America/Chicago:20230619T153000
DTEND;TZID=America/Chicago:20230619T163000
DTSTAMP:20260425T225713
CREATED:20230307T143621Z
LAST-MODIFIED:20230307T143621Z
UID:10009611-1687188600-1687192200@www.saintcatherineschool.org
SUMMARY:Track Practice
DESCRIPTION:
URL:https://www.saintcatherineschool.org/event/track-practice-12/2023-06-19
LOCATION:Saint Catherine School\, 2515 W. 46th St.\, Tulsa\, OK\, 74107\, United States
CATEGORIES:Church of Saint Catherine,Saint Catherine School
ORGANIZER;CN="Monique McAtee":MAILTO:mmcatee@saint-catherine.org
GEO:36.0981282;-96.0219361
X-APPLE-STRUCTURED-LOCATION;VALUE=URI;X-ADDRESS=Saint Catherine School 2515 W. 46th St. Tulsa OK 74107 United States;X-APPLE-RADIUS=500;X-TITLE=2515 W. 46th St.:geo:-96.0219361,36.0981282
END:VEVENT
BEGIN:VEVENT
DTSTART;TZID=America/Chicago:20230618T153000
DTEND;TZID=America/Chicago:20230618T163000
DTSTAMP:20260425T225713
CREATED:20230307T143621Z
LAST-MODIFIED:20230307T143621Z
UID:10009610-1687102200-1687105800@www.saintcatherineschool.org
SUMMARY:Track Practice
DESCRIPTION:
URL:https://www.saintcatherineschool.org/event/track-practice-12/2023-06-18
LOCATION:Saint Catherine School\, 2515 W. 46th St.\, Tulsa\, OK\, 74107\, United States
CATEGORIES:Church of Saint Catherine,Saint Catherine School
ORGANIZER;CN="Monique McAtee":MAILTO:mmcatee@saint-catherine.org
GEO:36.0981282;-96.0219361
X-APPLE-STRUCTURED-LOCATION;VALUE=URI;X-ADDRESS=Saint Catherine School 2515 W. 46th St. Tulsa OK 74107 United States;X-APPLE-RADIUS=500;X-TITLE=2515 W. 46th St.:geo:-96.0219361,36.0981282
END:VEVENT
BEGIN:VEVENT
DTSTART;TZID=America/Chicago:20230618T110000
DTEND;TZID=America/Chicago:20230618T140000
DTSTAMP:20260425T225713
CREATED:20221129T193934Z
LAST-MODIFIED:20230825T193505Z
UID:10011246-1687086000-1687096800@www.saintcatherineschool.org
SUMMARY:Tonu Maria Mass
DESCRIPTION:
URL:https://www.saintcatherineschool.org/event/tonu-maria-mass-14/2023-06-18
LOCATION:Saint Catherine of Alexandria\, 4532 S. 25th W. Ave.\, Tulsa\, OK\, 74107\, United States
CATEGORIES:Church of Saint Catherine,Saint Catherine School
ORGANIZER;CN="Fr. Robert Kim":MAILTO:fr.robert.kim@dioceseoftulsa.org
GEO:36.0981774;-96.0216659
X-APPLE-STRUCTURED-LOCATION;VALUE=URI;X-ADDRESS=Saint Catherine of Alexandria 4532 S. 25th W. Ave. Tulsa OK 74107 United States;X-APPLE-RADIUS=500;X-TITLE=4532 S. 25th W. Ave.:geo:-96.0216659,36.0981774
END:VEVENT
BEGIN:VEVENT
DTSTART;TZID=America/Chicago:20230618T073000
DTEND;TZID=America/Chicago:20230618T080000
DTSTAMP:20260425T225713
CREATED:20221129T175640Z
LAST-MODIFIED:20230825T193319Z
UID:10011196-1687073400-1687075200@www.saintcatherineschool.org
SUMMARY:Confessions
DESCRIPTION:Confessions are directly after Mass at 12:00pm.
URL:https://www.saintcatherineschool.org/event/confessions-5/2023-06-18
LOCATION:Saint Catherine of Alexandria\, 4532 S. 25th W. Ave.\, Tulsa\, OK\, 74107\, United States
CATEGORIES:Church of Saint Catherine,Saint Catherine School
ORGANIZER;CN="Fr. John Grant":MAILTO:fr.joh.grant@saint-catherine.org
GEO:36.0981774;-96.0216659
X-APPLE-STRUCTURED-LOCATION;VALUE=URI;X-ADDRESS=Saint Catherine of Alexandria 4532 S. 25th W. Ave. Tulsa OK 74107 United States;X-APPLE-RADIUS=500;X-TITLE=4532 S. 25th W. Ave.:geo:-96.0216659,36.0981774
END:VEVENT
BEGIN:VEVENT
DTSTART;TZID=America/Chicago:20230617T153000
DTEND;TZID=America/Chicago:20230617T170000
DTSTAMP:20260425T225713
CREATED:20180123T023113Z
LAST-MODIFIED:20201202T201345Z
UID:10005862-1687015800-1687021200@www.saintcatherineschool.org
SUMMARY:Confessions
DESCRIPTION:Fr. Grant will hear confessions from 3:30-5:00.
URL:https://www.saintcatherineschool.org/event/confessions/2023-06-17
LOCATION:Saint Catherine of Alexandria\, 4532 S. 25th W. Ave.\, Tulsa\, OK\, 74107\, United States
CATEGORIES:Church of Saint Catherine,Saint Catherine School
GEO:36.0981774;-96.0216659
X-APPLE-STRUCTURED-LOCATION;VALUE=URI;X-ADDRESS=Saint Catherine of Alexandria 4532 S. 25th W. Ave. Tulsa OK 74107 United States;X-APPLE-RADIUS=500;X-TITLE=4532 S. 25th W. Ave.:geo:-96.0216659,36.0981774
END:VEVENT
BEGIN:VEVENT
DTSTART;TZID=America/Chicago:20230617T153000
DTEND;TZID=America/Chicago:20230617T163000
DTSTAMP:20260425T225713
CREATED:20230307T143621Z
LAST-MODIFIED:20230307T143621Z
UID:10009609-1687015800-1687019400@www.saintcatherineschool.org
SUMMARY:Track Practice
DESCRIPTION:
URL:https://www.saintcatherineschool.org/event/track-practice-12/2023-06-17
LOCATION:Saint Catherine School\, 2515 W. 46th St.\, Tulsa\, OK\, 74107\, United States
CATEGORIES:Church of Saint Catherine,Saint Catherine School
ORGANIZER;CN="Monique McAtee":MAILTO:mmcatee@saint-catherine.org
GEO:36.0981282;-96.0219361
X-APPLE-STRUCTURED-LOCATION;VALUE=URI;X-ADDRESS=Saint Catherine School 2515 W. 46th St. Tulsa OK 74107 United States;X-APPLE-RADIUS=500;X-TITLE=2515 W. 46th St.:geo:-96.0219361,36.0981282
END:VEVENT
BEGIN:VEVENT
DTSTART;TZID=America/Chicago:20230617T120000
DTEND;TZID=America/Chicago:20230617T130000
DTSTAMP:20260425T225713
CREATED:20180123T015350Z
LAST-MODIFIED:20180123T015350Z
UID:10007025-1687003200-1687006800@www.saintcatherineschool.org
SUMMARY:Mass
DESCRIPTION:Mass begins at 5pm in the Church.
URL:https://www.saintcatherineschool.org/event/mass-8/2023-06-17
LOCATION:OK
CATEGORIES:Church of Saint Catherine,Saint Catherine School
END:VEVENT
BEGIN:VEVENT
DTSTART;TZID=America/Chicago:20230616T153000
DTEND;TZID=America/Chicago:20230616T163000
DTSTAMP:20260425T225713
CREATED:20230307T143621Z
LAST-MODIFIED:20230307T143621Z
UID:10009608-1686929400-1686933000@www.saintcatherineschool.org
SUMMARY:Track Practice
DESCRIPTION:
URL:https://www.saintcatherineschool.org/event/track-practice-12/2023-06-16
LOCATION:Saint Catherine School\, 2515 W. 46th St.\, Tulsa\, OK\, 74107\, United States
CATEGORIES:Church of Saint Catherine,Saint Catherine School
ORGANIZER;CN="Monique McAtee":MAILTO:mmcatee@saint-catherine.org
GEO:36.0981282;-96.0219361
X-APPLE-STRUCTURED-LOCATION;VALUE=URI;X-ADDRESS=Saint Catherine School 2515 W. 46th St. Tulsa OK 74107 United States;X-APPLE-RADIUS=500;X-TITLE=2515 W. 46th St.:geo:-96.0219361,36.0981282
END:VEVENT
BEGIN:VEVENT
DTSTART;TZID=America/Chicago:20230616T081500
DTEND;TZID=America/Chicago:20230616T090000
DTSTAMP:20260425T225713
CREATED:20230524T174527Z
LAST-MODIFIED:20230524T174553Z
UID:10009708-1686903300-1686906000@www.saintcatherineschool.org
SUMMARY:Mass - Saint Catherine
DESCRIPTION:
URL:https://www.saintcatherineschool.org/event/mass-saint-catherine-24/2023-06-16
LOCATION:Saint Catherine of Alexandria\, 4532 S. 25th W. Ave.\, Tulsa\, OK\, 74107\, United States
CATEGORIES:Church of Saint Catherine,Saint Catherine School
ORGANIZER;CN="Fr. John Grant":MAILTO:fr.joh.grant@saint-catherine.org
GEO:36.0981774;-96.0216659
X-APPLE-STRUCTURED-LOCATION;VALUE=URI;X-ADDRESS=Saint Catherine of Alexandria 4532 S. 25th W. Ave. Tulsa OK 74107 United States;X-APPLE-RADIUS=500;X-TITLE=4532 S. 25th W. Ave.:geo:-96.0216659,36.0981774
END:VEVENT
BEGIN:VEVENT
DTSTART;TZID=America/Chicago:20230616T080000
DTEND;TZID=America/Chicago:20230616T210000
DTSTAMP:20260425T225713
CREATED:20230524T174656Z
LAST-MODIFIED:20230524T174656Z
UID:10009704-1686902400-1686949200@www.saintcatherineschool.org
SUMMARY:Summer Day Camp - Tonu Maria
DESCRIPTION:
URL:https://www.saintcatherineschool.org/event/summer-day-camp-tonu-maria/2023-06-16
LOCATION:Saint Catherine of Alexandria\, 4532 S. 25th W. Ave.\, Tulsa\, OK\, 74107\, United States
CATEGORIES:Church of Saint Catherine,Saint Catherine School
ORGANIZER;CN="Fr. Robert Kim":MAILTO:fr.robert.kim@dioceseoftulsa.org
GEO:36.0981774;-96.0216659
X-APPLE-STRUCTURED-LOCATION;VALUE=URI;X-ADDRESS=Saint Catherine of Alexandria 4532 S. 25th W. Ave. Tulsa OK 74107 United States;X-APPLE-RADIUS=500;X-TITLE=4532 S. 25th W. Ave.:geo:-96.0216659,36.0981774
END:VEVENT
BEGIN:VEVENT
DTSTART;TZID=America/Chicago:20230615T153000
DTEND;TZID=America/Chicago:20230615T163000
DTSTAMP:20260425T225713
CREATED:20230307T143621Z
LAST-MODIFIED:20230307T143621Z
UID:10009607-1686843000-1686846600@www.saintcatherineschool.org
SUMMARY:Track Practice
DESCRIPTION:
URL:https://www.saintcatherineschool.org/event/track-practice-12/2023-06-15
LOCATION:Saint Catherine School\, 2515 W. 46th St.\, Tulsa\, OK\, 74107\, United States
CATEGORIES:Church of Saint Catherine,Saint Catherine School
ORGANIZER;CN="Monique McAtee":MAILTO:mmcatee@saint-catherine.org
GEO:36.0981282;-96.0219361
X-APPLE-STRUCTURED-LOCATION;VALUE=URI;X-ADDRESS=Saint Catherine School 2515 W. 46th St. Tulsa OK 74107 United States;X-APPLE-RADIUS=500;X-TITLE=2515 W. 46th St.:geo:-96.0219361,36.0981282
END:VEVENT
BEGIN:VEVENT
DTSTART;TZID=America/Chicago:20230615T081500
DTEND;TZID=America/Chicago:20230615T090000
DTSTAMP:20260425T225713
CREATED:20230524T174441Z
LAST-MODIFIED:20230524T174441Z
UID:10009724-1686816900-1686819600@www.saintcatherineschool.org
SUMMARY:Mass - Saint Catherine
DESCRIPTION:
URL:https://www.saintcatherineschool.org/event/mass-saint-catherine-23/2023-06-15
LOCATION:Saint Catherine of Alexandria\, 4532 S. 25th W. Ave.\, Tulsa\, OK\, 74107\, United States
CATEGORIES:Church of Saint Catherine,Saint Catherine School
ORGANIZER;CN="Fr. John Grant":MAILTO:fr.joh.grant@saint-catherine.org
GEO:36.0981774;-96.0216659
X-APPLE-STRUCTURED-LOCATION;VALUE=URI;X-ADDRESS=Saint Catherine of Alexandria 4532 S. 25th W. Ave. Tulsa OK 74107 United States;X-APPLE-RADIUS=500;X-TITLE=4532 S. 25th W. Ave.:geo:-96.0216659,36.0981774
END:VEVENT
BEGIN:VEVENT
DTSTART;TZID=America/Chicago:20230615T080000
DTEND;TZID=America/Chicago:20230615T210000
DTSTAMP:20260425T225713
CREATED:20230524T174656Z
LAST-MODIFIED:20230524T174656Z
UID:10009703-1686816000-1686862800@www.saintcatherineschool.org
SUMMARY:Summer Day Camp - Tonu Maria
DESCRIPTION:
URL:https://www.saintcatherineschool.org/event/summer-day-camp-tonu-maria/2023-06-15
LOCATION:Saint Catherine of Alexandria\, 4532 S. 25th W. Ave.\, Tulsa\, OK\, 74107\, United States
CATEGORIES:Church of Saint Catherine,Saint Catherine School
ORGANIZER;CN="Fr. Robert Kim":MAILTO:fr.robert.kim@dioceseoftulsa.org
GEO:36.0981774;-96.0216659
X-APPLE-STRUCTURED-LOCATION;VALUE=URI;X-ADDRESS=Saint Catherine of Alexandria 4532 S. 25th W. Ave. Tulsa OK 74107 United States;X-APPLE-RADIUS=500;X-TITLE=4532 S. 25th W. Ave.:geo:-96.0216659,36.0981774
END:VEVENT
BEGIN:VEVENT
DTSTART;TZID=America/Chicago:20230614T153000
DTEND;TZID=America/Chicago:20230614T163000
DTSTAMP:20260425T225713
CREATED:20230307T143621Z
LAST-MODIFIED:20230307T143621Z
UID:10009606-1686756600-1686760200@www.saintcatherineschool.org
SUMMARY:Track Practice
DESCRIPTION:
URL:https://www.saintcatherineschool.org/event/track-practice-12/2023-06-14
LOCATION:Saint Catherine School\, 2515 W. 46th St.\, Tulsa\, OK\, 74107\, United States
CATEGORIES:Church of Saint Catherine,Saint Catherine School
ORGANIZER;CN="Monique McAtee":MAILTO:mmcatee@saint-catherine.org
GEO:36.0981282;-96.0219361
X-APPLE-STRUCTURED-LOCATION;VALUE=URI;X-ADDRESS=Saint Catherine School 2515 W. 46th St. Tulsa OK 74107 United States;X-APPLE-RADIUS=500;X-TITLE=2515 W. 46th St.:geo:-96.0219361,36.0981282
END:VEVENT
BEGIN:VEVENT
DTSTART;TZID=America/Chicago:20230614T080000
DTEND;TZID=America/Chicago:20230614T210000
DTSTAMP:20260425T225713
CREATED:20230524T174656Z
LAST-MODIFIED:20230524T174656Z
UID:10009702-1686729600-1686776400@www.saintcatherineschool.org
SUMMARY:Summer Day Camp - Tonu Maria
DESCRIPTION:
URL:https://www.saintcatherineschool.org/event/summer-day-camp-tonu-maria/2023-06-14
LOCATION:Saint Catherine of Alexandria\, 4532 S. 25th W. Ave.\, Tulsa\, OK\, 74107\, United States
CATEGORIES:Church of Saint Catherine,Saint Catherine School
ORGANIZER;CN="Fr. Robert Kim":MAILTO:fr.robert.kim@dioceseoftulsa.org
GEO:36.0981774;-96.0216659
X-APPLE-STRUCTURED-LOCATION;VALUE=URI;X-ADDRESS=Saint Catherine of Alexandria 4532 S. 25th W. Ave. Tulsa OK 74107 United States;X-APPLE-RADIUS=500;X-TITLE=4532 S. 25th W. Ave.:geo:-96.0216659,36.0981774
END:VEVENT
BEGIN:VEVENT
DTSTART;TZID=America/Chicago:20230613T153000
DTEND;TZID=America/Chicago:20230613T163000
DTSTAMP:20260425T225713
CREATED:20230307T143621Z
LAST-MODIFIED:20230307T143621Z
UID:10009605-1686670200-1686673800@www.saintcatherineschool.org
SUMMARY:Track Practice
DESCRIPTION:
URL:https://www.saintcatherineschool.org/event/track-practice-12/2023-06-13
LOCATION:Saint Catherine School\, 2515 W. 46th St.\, Tulsa\, OK\, 74107\, United States
CATEGORIES:Church of Saint Catherine,Saint Catherine School
ORGANIZER;CN="Monique McAtee":MAILTO:mmcatee@saint-catherine.org
GEO:36.0981282;-96.0219361
X-APPLE-STRUCTURED-LOCATION;VALUE=URI;X-ADDRESS=Saint Catherine School 2515 W. 46th St. Tulsa OK 74107 United States;X-APPLE-RADIUS=500;X-TITLE=2515 W. 46th St.:geo:-96.0219361,36.0981282
END:VEVENT
BEGIN:VEVENT
DTSTART;TZID=America/Chicago:20230613T081500
DTEND;TZID=America/Chicago:20230613T090000
DTSTAMP:20260425T225713
CREATED:20230524T174307Z
LAST-MODIFIED:20230524T174307Z
UID:10009742-1686644100-1686646800@www.saintcatherineschool.org
SUMMARY:Mass - Saint Catherine
DESCRIPTION:
URL:https://www.saintcatherineschool.org/event/mass-saint-catherine-22/2023-06-13
LOCATION:Saint Catherine of Alexandria\, 4532 S. 25th W. Ave.\, Tulsa\, OK\, 74107\, United States
CATEGORIES:Church of Saint Catherine,Saint Catherine School
ORGANIZER;CN="Fr. John Grant":MAILTO:fr.joh.grant@saint-catherine.org
GEO:36.0981774;-96.0216659
X-APPLE-STRUCTURED-LOCATION;VALUE=URI;X-ADDRESS=Saint Catherine of Alexandria 4532 S. 25th W. Ave. Tulsa OK 74107 United States;X-APPLE-RADIUS=500;X-TITLE=4532 S. 25th W. Ave.:geo:-96.0216659,36.0981774
END:VEVENT
BEGIN:VEVENT
DTSTART;TZID=America/Chicago:20230613T080000
DTEND;TZID=America/Chicago:20230613T210000
DTSTAMP:20260425T225713
CREATED:20230524T174656Z
LAST-MODIFIED:20230524T174656Z
UID:10009701-1686643200-1686690000@www.saintcatherineschool.org
SUMMARY:Summer Day Camp - Tonu Maria
DESCRIPTION:
URL:https://www.saintcatherineschool.org/event/summer-day-camp-tonu-maria/2023-06-13
LOCATION:Saint Catherine of Alexandria\, 4532 S. 25th W. Ave.\, Tulsa\, OK\, 74107\, United States
CATEGORIES:Church of Saint Catherine,Saint Catherine School
ORGANIZER;CN="Fr. Robert Kim":MAILTO:fr.robert.kim@dioceseoftulsa.org
GEO:36.0981774;-96.0216659
X-APPLE-STRUCTURED-LOCATION;VALUE=URI;X-ADDRESS=Saint Catherine of Alexandria 4532 S. 25th W. Ave. Tulsa OK 74107 United States;X-APPLE-RADIUS=500;X-TITLE=4532 S. 25th W. Ave.:geo:-96.0216659,36.0981774
END:VEVENT
BEGIN:VEVENT
DTSTART;TZID=America/Chicago:20230612T153000
DTEND;TZID=America/Chicago:20230612T163000
DTSTAMP:20260425T225713
CREATED:20230307T143621Z
LAST-MODIFIED:20230307T143621Z
UID:10009604-1686583800-1686587400@www.saintcatherineschool.org
SUMMARY:Track Practice
DESCRIPTION:
URL:https://www.saintcatherineschool.org/event/track-practice-12/2023-06-12
LOCATION:Saint Catherine School\, 2515 W. 46th St.\, Tulsa\, OK\, 74107\, United States
CATEGORIES:Church of Saint Catherine,Saint Catherine School
ORGANIZER;CN="Monique McAtee":MAILTO:mmcatee@saint-catherine.org
GEO:36.0981282;-96.0219361
X-APPLE-STRUCTURED-LOCATION;VALUE=URI;X-ADDRESS=Saint Catherine School 2515 W. 46th St. Tulsa OK 74107 United States;X-APPLE-RADIUS=500;X-TITLE=2515 W. 46th St.:geo:-96.0219361,36.0981282
END:VEVENT
BEGIN:VEVENT
DTSTART;TZID=America/Chicago:20230612T080000
DTEND;TZID=America/Chicago:20230612T210000
DTSTAMP:20260425T225713
CREATED:20230524T174656Z
LAST-MODIFIED:20230524T174656Z
UID:10009700-1686556800-1686603600@www.saintcatherineschool.org
SUMMARY:Summer Day Camp - Tonu Maria
DESCRIPTION:
URL:https://www.saintcatherineschool.org/event/summer-day-camp-tonu-maria/2023-06-12
LOCATION:Saint Catherine of Alexandria\, 4532 S. 25th W. Ave.\, Tulsa\, OK\, 74107\, United States
CATEGORIES:Church of Saint Catherine,Saint Catherine School
ORGANIZER;CN="Fr. Robert Kim":MAILTO:fr.robert.kim@dioceseoftulsa.org
GEO:36.0981774;-96.0216659
X-APPLE-STRUCTURED-LOCATION;VALUE=URI;X-ADDRESS=Saint Catherine of Alexandria 4532 S. 25th W. Ave. Tulsa OK 74107 United States;X-APPLE-RADIUS=500;X-TITLE=4532 S. 25th W. Ave.:geo:-96.0216659,36.0981774
END:VEVENT
BEGIN:VEVENT
DTSTART;TZID=America/Chicago:20230611T153000
DTEND;TZID=America/Chicago:20230611T163000
DTSTAMP:20260425T225713
CREATED:20230307T143621Z
LAST-MODIFIED:20230307T143621Z
UID:10009603-1686497400-1686501000@www.saintcatherineschool.org
SUMMARY:Track Practice
DESCRIPTION:
URL:https://www.saintcatherineschool.org/event/track-practice-12/2023-06-11
LOCATION:Saint Catherine School\, 2515 W. 46th St.\, Tulsa\, OK\, 74107\, United States
CATEGORIES:Church of Saint Catherine,Saint Catherine School
ORGANIZER;CN="Monique McAtee":MAILTO:mmcatee@saint-catherine.org
GEO:36.0981282;-96.0219361
X-APPLE-STRUCTURED-LOCATION;VALUE=URI;X-ADDRESS=Saint Catherine School 2515 W. 46th St. Tulsa OK 74107 United States;X-APPLE-RADIUS=500;X-TITLE=2515 W. 46th St.:geo:-96.0219361,36.0981282
END:VEVENT
BEGIN:VEVENT
DTSTART;TZID=America/Chicago:20230611T130000
DTEND;TZID=America/Chicago:20230611T170000
DTSTAMP:20260425T225713
CREATED:20230524T174742Z
LAST-MODIFIED:20230524T174742Z
UID:10009697-1686488400-1686502800@www.saintcatherineschool.org
SUMMARY:1st Communion - Tonu Maria
DESCRIPTION:
URL:https://www.saintcatherineschool.org/event/1st-communion-tonu-maria
LOCATION:Saint Catherine of Alexandria\, 4532 S. 25th W. Ave.\, Tulsa\, OK\, 74107\, United States
CATEGORIES:Church of Saint Catherine,Saint Catherine School
ORGANIZER;CN="Fr. Robert Kim":MAILTO:fr.robert.kim@dioceseoftulsa.org
GEO:36.0981774;-96.0216659
X-APPLE-STRUCTURED-LOCATION;VALUE=URI;X-ADDRESS=Saint Catherine of Alexandria 4532 S. 25th W. Ave. Tulsa OK 74107 United States;X-APPLE-RADIUS=500;X-TITLE=4532 S. 25th W. Ave.:geo:-96.0216659,36.0981774
END:VEVENT
BEGIN:VEVENT
DTSTART;TZID=America/Chicago:20230611T110000
DTEND;TZID=America/Chicago:20230611T140000
DTSTAMP:20260425T225713
CREATED:20221129T193934Z
LAST-MODIFIED:20230825T193505Z
UID:10011245-1686481200-1686492000@www.saintcatherineschool.org
SUMMARY:Tonu Maria Mass
DESCRIPTION:
URL:https://www.saintcatherineschool.org/event/tonu-maria-mass-14/2023-06-11
LOCATION:Saint Catherine of Alexandria\, 4532 S. 25th W. Ave.\, Tulsa\, OK\, 74107\, United States
CATEGORIES:Church of Saint Catherine,Saint Catherine School
ORGANIZER;CN="Fr. Robert Kim":MAILTO:fr.robert.kim@dioceseoftulsa.org
GEO:36.0981774;-96.0216659
X-APPLE-STRUCTURED-LOCATION;VALUE=URI;X-ADDRESS=Saint Catherine of Alexandria 4532 S. 25th W. Ave. Tulsa OK 74107 United States;X-APPLE-RADIUS=500;X-TITLE=4532 S. 25th W. Ave.:geo:-96.0216659,36.0981774
END:VEVENT
BEGIN:VEVENT
DTSTART;TZID=America/Chicago:20230611T073000
DTEND;TZID=America/Chicago:20230611T080000
DTSTAMP:20260425T225713
CREATED:20221129T175640Z
LAST-MODIFIED:20230825T193319Z
UID:10011195-1686468600-1686470400@www.saintcatherineschool.org
SUMMARY:Confessions
DESCRIPTION:Confessions are directly after Mass at 12:00pm.
URL:https://www.saintcatherineschool.org/event/confessions-5/2023-06-11
LOCATION:Saint Catherine of Alexandria\, 4532 S. 25th W. Ave.\, Tulsa\, OK\, 74107\, United States
CATEGORIES:Church of Saint Catherine,Saint Catherine School
ORGANIZER;CN="Fr. John Grant":MAILTO:fr.joh.grant@saint-catherine.org
GEO:36.0981774;-96.0216659
X-APPLE-STRUCTURED-LOCATION;VALUE=URI;X-ADDRESS=Saint Catherine of Alexandria 4532 S. 25th W. Ave. Tulsa OK 74107 United States;X-APPLE-RADIUS=500;X-TITLE=4532 S. 25th W. Ave.:geo:-96.0216659,36.0981774
END:VEVENT
BEGIN:VEVENT
DTSTART;VALUE=DATE:20230611
DTEND;VALUE=DATE:20230612
DTSTAMP:20260425T225713
CREATED:20230524T174851Z
LAST-MODIFIED:20230524T174851Z
UID:10009695-1686441600-1686527999@www.saintcatherineschool.org
SUMMARY:Deacon Weekend
DESCRIPTION:
URL:https://www.saintcatherineschool.org/event/deacon-weekend-11/2023-06-11
LOCATION:Saint Catherine of Alexandria\, 4532 S. 25th W. Ave.\, Tulsa\, OK\, 74107\, United States
CATEGORIES:Church of Saint Catherine,Saint Catherine School
ORGANIZER;CN="Craig Victor":MAILTO:Dan.craig.victor@dioceseoftulsa.org
GEO:36.0981774;-96.0216659
X-APPLE-STRUCTURED-LOCATION;VALUE=URI;X-ADDRESS=Saint Catherine of Alexandria 4532 S. 25th W. Ave. Tulsa OK 74107 United States;X-APPLE-RADIUS=500;X-TITLE=4532 S. 25th W. Ave.:geo:-96.0216659,36.0981774
END:VEVENT
BEGIN:VEVENT
DTSTART;TZID=America/Chicago:20230610T153000
DTEND;TZID=America/Chicago:20230610T170000
DTSTAMP:20260425T225713
CREATED:20180123T023113Z
LAST-MODIFIED:20201202T201345Z
UID:10005861-1686411000-1686416400@www.saintcatherineschool.org
SUMMARY:Confessions
DESCRIPTION:Fr. Grant will hear confessions from 3:30-5:00.
URL:https://www.saintcatherineschool.org/event/confessions/2023-06-10
LOCATION:Saint Catherine of Alexandria\, 4532 S. 25th W. Ave.\, Tulsa\, OK\, 74107\, United States
CATEGORIES:Church of Saint Catherine,Saint Catherine School
GEO:36.0981774;-96.0216659
X-APPLE-STRUCTURED-LOCATION;VALUE=URI;X-ADDRESS=Saint Catherine of Alexandria 4532 S. 25th W. Ave. Tulsa OK 74107 United States;X-APPLE-RADIUS=500;X-TITLE=4532 S. 25th W. Ave.:geo:-96.0216659,36.0981774
END:VEVENT
BEGIN:VEVENT
DTSTART;TZID=America/Chicago:20230610T153000
DTEND;TZID=America/Chicago:20230610T163000
DTSTAMP:20260425T225713
CREATED:20230307T143621Z
LAST-MODIFIED:20230307T143621Z
UID:10009602-1686411000-1686414600@www.saintcatherineschool.org
SUMMARY:Track Practice
DESCRIPTION:
URL:https://www.saintcatherineschool.org/event/track-practice-12/2023-06-10
LOCATION:Saint Catherine School\, 2515 W. 46th St.\, Tulsa\, OK\, 74107\, United States
CATEGORIES:Church of Saint Catherine,Saint Catherine School
ORGANIZER;CN="Monique McAtee":MAILTO:mmcatee@saint-catherine.org
GEO:36.0981282;-96.0219361
X-APPLE-STRUCTURED-LOCATION;VALUE=URI;X-ADDRESS=Saint Catherine School 2515 W. 46th St. Tulsa OK 74107 United States;X-APPLE-RADIUS=500;X-TITLE=2515 W. 46th St.:geo:-96.0219361,36.0981282
END:VEVENT
BEGIN:VEVENT
DTSTART;TZID=America/Chicago:20230610T120000
DTEND;TZID=America/Chicago:20230610T130000
DTSTAMP:20260425T225713
CREATED:20180123T015350Z
LAST-MODIFIED:20180123T015350Z
UID:10007024-1686398400-1686402000@www.saintcatherineschool.org
SUMMARY:Mass
DESCRIPTION:Mass begins at 5pm in the Church.
URL:https://www.saintcatherineschool.org/event/mass-8/2023-06-10
LOCATION:OK
CATEGORIES:Church of Saint Catherine,Saint Catherine School
END:VEVENT
END:VCALENDAR