BEGIN:VCALENDAR
VERSION:2.0
PRODID:-//Saint Catherine of Alexandria School - ECPv6.15.20//NONSGML v1.0//EN
CALSCALE:GREGORIAN
METHOD:PUBLISH
X-ORIGINAL-URL:https://www.saintcatherineschool.org
X-WR-CALDESC:Events for Saint Catherine of Alexandria School
REFRESH-INTERVAL;VALUE=DURATION:PT1H
X-Robots-Tag:noindex
X-PUBLISHED-TTL:PT1H
BEGIN:VTIMEZONE
TZID:America/Chicago
BEGIN:DAYLIGHT
TZOFFSETFROM:-0600
TZOFFSETTO:-0500
TZNAME:CDT
DTSTART:20230312T080000
END:DAYLIGHT
BEGIN:STANDARD
TZOFFSETFROM:-0500
TZOFFSETTO:-0600
TZNAME:CST
DTSTART:20231105T070000
END:STANDARD
BEGIN:DAYLIGHT
TZOFFSETFROM:-0600
TZOFFSETTO:-0500
TZNAME:CDT
DTSTART:20240310T080000
END:DAYLIGHT
BEGIN:STANDARD
TZOFFSETFROM:-0500
TZOFFSETTO:-0600
TZNAME:CST
DTSTART:20241103T070000
END:STANDARD
BEGIN:DAYLIGHT
TZOFFSETFROM:-0600
TZOFFSETTO:-0500
TZNAME:CDT
DTSTART:20250309T080000
END:DAYLIGHT
BEGIN:STANDARD
TZOFFSETFROM:-0500
TZOFFSETTO:-0600
TZNAME:CST
DTSTART:20251102T070000
END:STANDARD
END:VTIMEZONE
BEGIN:VEVENT
DTSTART;TZID=America/Chicago:20240620T081500
DTEND;TZID=America/Chicago:20240620T090000
DTSTAMP:20260425T071404
CREATED:20230718T183741Z
LAST-MODIFIED:20230718T183741Z
UID:10010271-1718871300-1718874000@www.saintcatherineschool.org
SUMMARY:Mass - Saint Catherine
DESCRIPTION:This Mass is said in English.
URL:https://www.saintcatherineschool.org/event/mass-saint-catherine-29/2024-06-20
LOCATION:OK
CATEGORIES:Church of Saint Catherine,Saint Catherine School
END:VEVENT
BEGIN:VEVENT
DTSTART;TZID=America/Chicago:20240621T081500
DTEND;TZID=America/Chicago:20240621T090000
DTSTAMP:20260425T071404
CREATED:20230718T184032Z
LAST-MODIFIED:20230718T184032Z
UID:10010296-1718957700-1718960400@www.saintcatherineschool.org
SUMMARY:Mass - Saint Catherine
DESCRIPTION:This Mass is said in English.
URL:https://www.saintcatherineschool.org/event/mass-saint-catherine-31/2024-06-21
LOCATION:OK
CATEGORIES:Church of Saint Catherine,Saint Catherine School
END:VEVENT
BEGIN:VEVENT
DTSTART;TZID=America/Chicago:20240622T153000
DTEND;TZID=America/Chicago:20240622T170000
DTSTAMP:20260425T071404
CREATED:20180123T023113Z
LAST-MODIFIED:20201202T201345Z
UID:10005915-1719070200-1719075600@www.saintcatherineschool.org
SUMMARY:Confessions
DESCRIPTION:Fr. Grant will hear confessions from 3:30-5:00.
URL:https://www.saintcatherineschool.org/event/confessions/2024-06-22
LOCATION:Saint Catherine of Alexandria\, 4532 S. 25th W. Ave.\, Tulsa\, OK\, 74107\, United States
CATEGORIES:Church of Saint Catherine,Saint Catherine School
GEO:36.0981774;-96.0216659
X-APPLE-STRUCTURED-LOCATION;VALUE=URI;X-ADDRESS=Saint Catherine of Alexandria 4532 S. 25th W. Ave. Tulsa OK 74107 United States;X-APPLE-RADIUS=500;X-TITLE=4532 S. 25th W. Ave.:geo:-96.0216659,36.0981774
END:VEVENT
BEGIN:VEVENT
DTSTART;VALUE=DATE:20240624
DTEND;VALUE=DATE:20240625
DTSTAMP:20260425T071404
CREATED:20230709T022551Z
LAST-MODIFIED:20230709T022551Z
UID:10008333-1719187200-1719273599@www.saintcatherineschool.org
SUMMARY:Fr. Robert Kim's Birthday
DESCRIPTION:
URL:https://www.saintcatherineschool.org/event/fr-robert-kims-birthday-2
LOCATION:Saint Catherine of Alexandria\, 4532 S. 25th W. Ave.\, Tulsa\, OK\, 74107\, United States
CATEGORIES:Church of Saint Catherine,Saint Catherine School
ORGANIZER;CN="Fr. Robert Kim":MAILTO:fr.robert.kim@dioceseoftulsa.org
GEO:36.0981774;-96.0216659
X-APPLE-STRUCTURED-LOCATION;VALUE=URI;X-ADDRESS=Saint Catherine of Alexandria 4532 S. 25th W. Ave. Tulsa OK 74107 United States;X-APPLE-RADIUS=500;X-TITLE=4532 S. 25th W. Ave.:geo:-96.0216659,36.0981774
END:VEVENT
BEGIN:VEVENT
DTSTART;TZID=America/Chicago:20240625T081500
DTEND;TZID=America/Chicago:20240625T090000
DTSTAMP:20260425T071404
CREATED:20230718T183503Z
LAST-MODIFIED:20230718T183503Z
UID:10010247-1719303300-1719306000@www.saintcatherineschool.org
SUMMARY:Mass - Saint Cathrine
DESCRIPTION:This Mass is said in English.
URL:https://www.saintcatherineschool.org/event/mass-saint-cathrine/2024-06-25
LOCATION:OK
CATEGORIES:Church of Saint Catherine,Saint Catherine School
END:VEVENT
BEGIN:VEVENT
DTSTART;TZID=America/Chicago:20240627T081500
DTEND;TZID=America/Chicago:20240627T090000
DTSTAMP:20260425T071404
CREATED:20230718T183741Z
LAST-MODIFIED:20230718T183741Z
UID:10010272-1719476100-1719478800@www.saintcatherineschool.org
SUMMARY:Mass - Saint Catherine
DESCRIPTION:This Mass is said in English.
URL:https://www.saintcatherineschool.org/event/mass-saint-catherine-29/2024-06-27
LOCATION:OK
CATEGORIES:Church of Saint Catherine,Saint Catherine School
END:VEVENT
BEGIN:VEVENT
DTSTART;TZID=America/Chicago:20240628T081500
DTEND;TZID=America/Chicago:20240628T090000
DTSTAMP:20260425T071404
CREATED:20230718T184032Z
LAST-MODIFIED:20230718T184032Z
UID:10010297-1719562500-1719565200@www.saintcatherineschool.org
SUMMARY:Mass - Saint Catherine
DESCRIPTION:This Mass is said in English.
URL:https://www.saintcatherineschool.org/event/mass-saint-catherine-31/2024-06-28
LOCATION:OK
CATEGORIES:Church of Saint Catherine,Saint Catherine School
END:VEVENT
BEGIN:VEVENT
DTSTART;TZID=America/Chicago:20240629T153000
DTEND;TZID=America/Chicago:20240629T170000
DTSTAMP:20260425T071404
CREATED:20180123T023113Z
LAST-MODIFIED:20201202T201345Z
UID:10005916-1719675000-1719680400@www.saintcatherineschool.org
SUMMARY:Confessions
DESCRIPTION:Fr. Grant will hear confessions from 3:30-5:00.
URL:https://www.saintcatherineschool.org/event/confessions/2024-06-29
LOCATION:Saint Catherine of Alexandria\, 4532 S. 25th W. Ave.\, Tulsa\, OK\, 74107\, United States
CATEGORIES:Church of Saint Catherine,Saint Catherine School
GEO:36.0981774;-96.0216659
X-APPLE-STRUCTURED-LOCATION;VALUE=URI;X-ADDRESS=Saint Catherine of Alexandria 4532 S. 25th W. Ave. Tulsa OK 74107 United States;X-APPLE-RADIUS=500;X-TITLE=4532 S. 25th W. Ave.:geo:-96.0216659,36.0981774
END:VEVENT
BEGIN:VEVENT
DTSTART;TZID=America/Chicago:20240706T153000
DTEND;TZID=America/Chicago:20240706T170000
DTSTAMP:20260425T071404
CREATED:20180123T023113Z
LAST-MODIFIED:20201202T201345Z
UID:10005917-1720279800-1720285200@www.saintcatherineschool.org
SUMMARY:Confessions
DESCRIPTION:Fr. Grant will hear confessions from 3:30-5:00.
URL:https://www.saintcatherineschool.org/event/confessions/2024-07-06
LOCATION:Saint Catherine of Alexandria\, 4532 S. 25th W. Ave.\, Tulsa\, OK\, 74107\, United States
CATEGORIES:Church of Saint Catherine,Saint Catherine School
GEO:36.0981774;-96.0216659
X-APPLE-STRUCTURED-LOCATION;VALUE=URI;X-ADDRESS=Saint Catherine of Alexandria 4532 S. 25th W. Ave. Tulsa OK 74107 United States;X-APPLE-RADIUS=500;X-TITLE=4532 S. 25th W. Ave.:geo:-96.0216659,36.0981774
END:VEVENT
BEGIN:VEVENT
DTSTART;TZID=America/Chicago:20240713T153000
DTEND;TZID=America/Chicago:20240713T170000
DTSTAMP:20260425T071404
CREATED:20180123T023113Z
LAST-MODIFIED:20201202T201345Z
UID:10005918-1720884600-1720890000@www.saintcatherineschool.org
SUMMARY:Confessions
DESCRIPTION:Fr. Grant will hear confessions from 3:30-5:00.
URL:https://www.saintcatherineschool.org/event/confessions/2024-07-13
LOCATION:Saint Catherine of Alexandria\, 4532 S. 25th W. Ave.\, Tulsa\, OK\, 74107\, United States
CATEGORIES:Church of Saint Catherine,Saint Catherine School
GEO:36.0981774;-96.0216659
X-APPLE-STRUCTURED-LOCATION;VALUE=URI;X-ADDRESS=Saint Catherine of Alexandria 4532 S. 25th W. Ave. Tulsa OK 74107 United States;X-APPLE-RADIUS=500;X-TITLE=4532 S. 25th W. Ave.:geo:-96.0216659,36.0981774
END:VEVENT
BEGIN:VEVENT
DTSTART;TZID=America/Chicago:20240720T153000
DTEND;TZID=America/Chicago:20240720T170000
DTSTAMP:20260425T071404
CREATED:20180123T023113Z
LAST-MODIFIED:20201202T201345Z
UID:10005919-1721489400-1721494800@www.saintcatherineschool.org
SUMMARY:Confessions
DESCRIPTION:Fr. Grant will hear confessions from 3:30-5:00.
URL:https://www.saintcatherineschool.org/event/confessions/2024-07-20
LOCATION:Saint Catherine of Alexandria\, 4532 S. 25th W. Ave.\, Tulsa\, OK\, 74107\, United States
CATEGORIES:Church of Saint Catherine,Saint Catherine School
GEO:36.0981774;-96.0216659
X-APPLE-STRUCTURED-LOCATION;VALUE=URI;X-ADDRESS=Saint Catherine of Alexandria 4532 S. 25th W. Ave. Tulsa OK 74107 United States;X-APPLE-RADIUS=500;X-TITLE=4532 S. 25th W. Ave.:geo:-96.0216659,36.0981774
END:VEVENT
BEGIN:VEVENT
DTSTART;TZID=America/Chicago:20240727T153000
DTEND;TZID=America/Chicago:20240727T170000
DTSTAMP:20260425T071404
CREATED:20180123T023113Z
LAST-MODIFIED:20201202T201345Z
UID:10005920-1722094200-1722099600@www.saintcatherineschool.org
SUMMARY:Confessions
DESCRIPTION:Fr. Grant will hear confessions from 3:30-5:00.
URL:https://www.saintcatherineschool.org/event/confessions/2024-07-27
LOCATION:Saint Catherine of Alexandria\, 4532 S. 25th W. Ave.\, Tulsa\, OK\, 74107\, United States
CATEGORIES:Church of Saint Catherine,Saint Catherine School
GEO:36.0981774;-96.0216659
X-APPLE-STRUCTURED-LOCATION;VALUE=URI;X-ADDRESS=Saint Catherine of Alexandria 4532 S. 25th W. Ave. Tulsa OK 74107 United States;X-APPLE-RADIUS=500;X-TITLE=4532 S. 25th W. Ave.:geo:-96.0216659,36.0981774
END:VEVENT
BEGIN:VEVENT
DTSTART;TZID=America/Chicago:20240803T153000
DTEND;TZID=America/Chicago:20240803T170000
DTSTAMP:20260425T071404
CREATED:20180123T023113Z
LAST-MODIFIED:20201202T201345Z
UID:10005921-1722699000-1722704400@www.saintcatherineschool.org
SUMMARY:Confessions
DESCRIPTION:Fr. Grant will hear confessions from 3:30-5:00.
URL:https://www.saintcatherineschool.org/event/confessions/2024-08-03
LOCATION:Saint Catherine of Alexandria\, 4532 S. 25th W. Ave.\, Tulsa\, OK\, 74107\, United States
CATEGORIES:Church of Saint Catherine,Saint Catherine School
GEO:36.0981774;-96.0216659
X-APPLE-STRUCTURED-LOCATION;VALUE=URI;X-ADDRESS=Saint Catherine of Alexandria 4532 S. 25th W. Ave. Tulsa OK 74107 United States;X-APPLE-RADIUS=500;X-TITLE=4532 S. 25th W. Ave.:geo:-96.0216659,36.0981774
END:VEVENT
BEGIN:VEVENT
DTSTART;TZID=America/Chicago:20240803T170000
DTEND;TZID=America/Chicago:20240803T180000
DTSTAMP:20260425T071404
CREATED:20240701T003607Z
LAST-MODIFIED:20240701T003607Z
UID:10011578-1722704400-1722708000@www.saintcatherineschool.org
SUMMARY:Mass - English
DESCRIPTION:
URL:https://www.saintcatherineschool.org/event/mass-english-5
LOCATION:Saint Catherine of Alexandria\, 4532 S. 25th W. Ave.\, Tulsa\, OK\, 74107\, United States
CATEGORIES:Church of Saint Catherine,Saint Catherine School
ORGANIZER;CN="Fr. Robert Kim":MAILTO:fr.robert.kim@dioceseoftulsa.org
GEO:36.0981774;-96.0216659
X-APPLE-STRUCTURED-LOCATION;VALUE=URI;X-ADDRESS=Saint Catherine of Alexandria 4532 S. 25th W. Ave. Tulsa OK 74107 United States;X-APPLE-RADIUS=500;X-TITLE=4532 S. 25th W. Ave.:geo:-96.0216659,36.0981774
END:VEVENT
BEGIN:VEVENT
DTSTART;TZID=America/Chicago:20240804T080000
DTEND;TZID=America/Chicago:20240804T090000
DTSTAMP:20260425T071404
CREATED:20240701T003409Z
LAST-MODIFIED:20240701T003409Z
UID:10011574-1722758400-1722762000@www.saintcatherineschool.org
SUMMARY:Mass - English
DESCRIPTION:
URL:https://www.saintcatherineschool.org/event/mass-english
LOCATION:Saint Catherine of Alexandria\, 4532 S. 25th W. Ave.\, Tulsa\, OK\, 74107\, United States
CATEGORIES:Church of Saint Catherine,Saint Catherine School
ORGANIZER;CN="Fr. Robert Kim":MAILTO:fr.robert.kim@dioceseoftulsa.org
GEO:36.0981774;-96.0216659
X-APPLE-STRUCTURED-LOCATION;VALUE=URI;X-ADDRESS=Saint Catherine of Alexandria 4532 S. 25th W. Ave. Tulsa OK 74107 United States;X-APPLE-RADIUS=500;X-TITLE=4532 S. 25th W. Ave.:geo:-96.0216659,36.0981774
END:VEVENT
BEGIN:VEVENT
DTSTART;TZID=America/Chicago:20240804T110000
DTEND;TZID=America/Chicago:20240804T130000
DTSTAMP:20260425T071404
CREATED:20240701T004017Z
LAST-MODIFIED:20240701T004017Z
UID:10011583-1722769200-1722776400@www.saintcatherineschool.org
SUMMARY:Mass - Zomi
DESCRIPTION:
URL:https://www.saintcatherineschool.org/event/mass-zomi
LOCATION:Saint Catherine of Alexandria\, 4532 S. 25th W. Ave.\, Tulsa\, OK\, 74107\, United States
CATEGORIES:Church of Saint Catherine,Saint Catherine School
ORGANIZER;CN="Fr. Robert Kim":MAILTO:fr.robert.kim@dioceseoftulsa.org
GEO:36.0981774;-96.0216659
X-APPLE-STRUCTURED-LOCATION;VALUE=URI;X-ADDRESS=Saint Catherine of Alexandria 4532 S. 25th W. Ave. Tulsa OK 74107 United States;X-APPLE-RADIUS=500;X-TITLE=4532 S. 25th W. Ave.:geo:-96.0216659,36.0981774
END:VEVENT
BEGIN:VEVENT
DTSTART;TZID=America/Chicago:20240805T080000
DTEND;TZID=America/Chicago:20240805T160000
DTSTAMP:20260425T071404
CREATED:20240701T002240Z
LAST-MODIFIED:20240701T002240Z
UID:10011563-1722844800-1722873600@www.saintcatherineschool.org
SUMMARY:Teacher Professional Development
DESCRIPTION:NO one will be in the office these three days to help parents.  Please make an appointment for the week of July 29-Aug 2nd.
URL:https://www.saintcatherineschool.org/event/teacher-professional-development
LOCATION:Saint Catherine School\, 2515 W. 46th St.\, Tulsa\, OK\, 74107\, United States
CATEGORIES:Church of Saint Catherine,Saint Catherine School
ORGANIZER;CN="Michelle Anthamatten":MAILTO:manthamatten@saint-catherine.org
GEO:36.0981282;-96.0219361
X-APPLE-STRUCTURED-LOCATION;VALUE=URI;X-ADDRESS=Saint Catherine School 2515 W. 46th St. Tulsa OK 74107 United States;X-APPLE-RADIUS=500;X-TITLE=2515 W. 46th St.:geo:-96.0219361,36.0981282
END:VEVENT
BEGIN:VEVENT
DTSTART;TZID=America/Chicago:20240806T080000
DTEND;TZID=America/Chicago:20240806T160000
DTSTAMP:20260425T071404
CREATED:20240701T002327Z
LAST-MODIFIED:20240701T002406Z
UID:10011564-1722931200-1722960000@www.saintcatherineschool.org
SUMMARY:Teacher Professional Development
DESCRIPTION:NO one will be in the office these three days to help parents.  Please make an appointment for the week of July 29-Aug 2nd.
URL:https://www.saintcatherineschool.org/event/teacher-professional-development-2
LOCATION:Saint Catherine School\, 2515 W. 46th St.\, Tulsa\, OK\, 74107\, United States
CATEGORIES:Church of Saint Catherine,Saint Catherine School
ORGANIZER;CN="Michelle Anthamatten":MAILTO:manthamatten@saint-catherine.org
GEO:36.0981282;-96.0219361
X-APPLE-STRUCTURED-LOCATION;VALUE=URI;X-ADDRESS=Saint Catherine School 2515 W. 46th St. Tulsa OK 74107 United States;X-APPLE-RADIUS=500;X-TITLE=2515 W. 46th St.:geo:-96.0219361,36.0981282
END:VEVENT
BEGIN:VEVENT
DTSTART;TZID=America/Chicago:20240806T180000
DTEND;TZID=America/Chicago:20240806T193000
DTSTAMP:20260425T071404
CREATED:20240701T002509Z
LAST-MODIFIED:20240701T002509Z
UID:10011566-1722967200-1722972600@www.saintcatherineschool.org
SUMMARY:School Advisory Meeting
DESCRIPTION:
URL:https://www.saintcatherineschool.org/event/school-advisory-meeting-27
LOCATION:Saint Catherine School\, 2515 W. 46th St.\, Tulsa\, OK\, 74107\, United States
CATEGORIES:Church of Saint Catherine,Saint Catherine School
ORGANIZER;CN="Michelle Anthamatten":MAILTO:manthamatten@saint-catherine.org
GEO:36.0981282;-96.0219361
X-APPLE-STRUCTURED-LOCATION;VALUE=URI;X-ADDRESS=Saint Catherine School 2515 W. 46th St. Tulsa OK 74107 United States;X-APPLE-RADIUS=500;X-TITLE=2515 W. 46th St.:geo:-96.0219361,36.0981282
END:VEVENT
BEGIN:VEVENT
DTSTART;TZID=America/Chicago:20240807T080000
DTEND;TZID=America/Chicago:20240807T160000
DTSTAMP:20260425T071404
CREATED:20240701T002427Z
LAST-MODIFIED:20240701T002427Z
UID:10011565-1723017600-1723046400@www.saintcatherineschool.org
SUMMARY:Teacher Professional Development
DESCRIPTION:NO one will be in the office these three days to help parents.  Please make an appointment for the week of July 29-Aug 2nd.
URL:https://www.saintcatherineschool.org/event/teacher-professional-development-3
LOCATION:Saint Catherine School\, 2515 W. 46th St.\, Tulsa\, OK\, 74107\, United States
CATEGORIES:Church of Saint Catherine,Saint Catherine School
ORGANIZER;CN="Michelle Anthamatten":MAILTO:manthamatten@saint-catherine.org
GEO:36.0981282;-96.0219361
X-APPLE-STRUCTURED-LOCATION;VALUE=URI;X-ADDRESS=Saint Catherine School 2515 W. 46th St. Tulsa OK 74107 United States;X-APPLE-RADIUS=500;X-TITLE=2515 W. 46th St.:geo:-96.0219361,36.0981282
END:VEVENT
BEGIN:VEVENT
DTSTART;TZID=America/Chicago:20240808T080000
DTEND;TZID=America/Chicago:20240808T151500
DTSTAMP:20260425T071404
CREATED:20240701T002051Z
LAST-MODIFIED:20240701T002051Z
UID:10011562-1723104000-1723130100@www.saintcatherineschool.org
SUMMARY:1st Day of School
DESCRIPTION:
URL:https://www.saintcatherineschool.org/event/1st-day-of-school-4
LOCATION:Saint Catherine School\, 2515 W. 46th St.\, Tulsa\, OK\, 74107\, United States
CATEGORIES:Church of Saint Catherine,Saint Catherine School
ORGANIZER;CN="Michelle Anthamatten":MAILTO:manthamatten@saint-catherine.org
GEO:36.0981282;-96.0219361
X-APPLE-STRUCTURED-LOCATION;VALUE=URI;X-ADDRESS=Saint Catherine School 2515 W. 46th St. Tulsa OK 74107 United States;X-APPLE-RADIUS=500;X-TITLE=2515 W. 46th St.:geo:-96.0219361,36.0981282
END:VEVENT
BEGIN:VEVENT
DTSTART;VALUE=DATE:20240810
DTEND;VALUE=DATE:20240811
DTSTAMP:20260425T071404
CREATED:20240701T002836Z
LAST-MODIFIED:20240701T002836Z
UID:10011569-1723248000-1723334399@www.saintcatherineschool.org
SUMMARY:Deacon Appreciation Weekend
DESCRIPTION:
URL:https://www.saintcatherineschool.org/event/deacon-appreciation-weekend-2
LOCATION:Saint Catherine of Alexandria\, 4532 S. 25th W. Ave.\, Tulsa\, OK\, 74107\, United States
CATEGORIES:Church of Saint Catherine,Saint Catherine School
ORGANIZER;CN="Fr. Robert Kim":MAILTO:fr.robert.kim@dioceseoftulsa.org
GEO:36.0981774;-96.0216659
X-APPLE-STRUCTURED-LOCATION;VALUE=URI;X-ADDRESS=Saint Catherine of Alexandria 4532 S. 25th W. Ave. Tulsa OK 74107 United States;X-APPLE-RADIUS=500;X-TITLE=4532 S. 25th W. Ave.:geo:-96.0216659,36.0981774
END:VEVENT
BEGIN:VEVENT
DTSTART;TZID=America/Chicago:20240810T153000
DTEND;TZID=America/Chicago:20240810T170000
DTSTAMP:20260425T071404
CREATED:20180123T023113Z
LAST-MODIFIED:20201202T201345Z
UID:10005922-1723303800-1723309200@www.saintcatherineschool.org
SUMMARY:Confessions
DESCRIPTION:Fr. Grant will hear confessions from 3:30-5:00.
URL:https://www.saintcatherineschool.org/event/confessions/2024-08-10
LOCATION:Saint Catherine of Alexandria\, 4532 S. 25th W. Ave.\, Tulsa\, OK\, 74107\, United States
CATEGORIES:Church of Saint Catherine,Saint Catherine School
GEO:36.0981774;-96.0216659
X-APPLE-STRUCTURED-LOCATION;VALUE=URI;X-ADDRESS=Saint Catherine of Alexandria 4532 S. 25th W. Ave. Tulsa OK 74107 United States;X-APPLE-RADIUS=500;X-TITLE=4532 S. 25th W. Ave.:geo:-96.0216659,36.0981774
END:VEVENT
BEGIN:VEVENT
DTSTART;TZID=America/Chicago:20240810T170000
DTEND;TZID=America/Chicago:20240810T180000
DTSTAMP:20260425T071404
CREATED:20240701T002619Z
LAST-MODIFIED:20240701T002619Z
UID:10011567-1723309200-1723312800@www.saintcatherineschool.org
SUMMARY:Teacher Appreciation Blessing
DESCRIPTION:The teachers and administration will be blessed at the 5pm Mass.
URL:https://www.saintcatherineschool.org/event/teacher-appreciation-blessing
LOCATION:Saint Catherine of Alexandria\, 4532 S. 25th W. Ave.\, Tulsa\, OK\, 74107\, United States
CATEGORIES:Church of Saint Catherine,Saint Catherine School
ORGANIZER;CN="Fr. Robert Kim":MAILTO:fr.robert.kim@dioceseoftulsa.org
GEO:36.0981774;-96.0216659
X-APPLE-STRUCTURED-LOCATION;VALUE=URI;X-ADDRESS=Saint Catherine of Alexandria 4532 S. 25th W. Ave. Tulsa OK 74107 United States;X-APPLE-RADIUS=500;X-TITLE=4532 S. 25th W. Ave.:geo:-96.0216659,36.0981774
END:VEVENT
BEGIN:VEVENT
DTSTART;TZID=America/Chicago:20240810T170000
DTEND;TZID=America/Chicago:20240810T180000
DTSTAMP:20260425T071404
CREATED:20240701T003734Z
LAST-MODIFIED:20240701T003734Z
UID:10011579-1723309200-1723312800@www.saintcatherineschool.org
SUMMARY:Mass - English
DESCRIPTION:
URL:https://www.saintcatherineschool.org/event/mass-english-6
LOCATION:Saint Catherine of Alexandria\, 4532 S. 25th W. Ave.\, Tulsa\, OK\, 74107\, United States
CATEGORIES:Church of Saint Catherine,Saint Catherine School
ORGANIZER;CN="Fr. Robert Kim":MAILTO:fr.robert.kim@dioceseoftulsa.org
GEO:36.0981774;-96.0216659
X-APPLE-STRUCTURED-LOCATION;VALUE=URI;X-ADDRESS=Saint Catherine of Alexandria 4532 S. 25th W. Ave. Tulsa OK 74107 United States;X-APPLE-RADIUS=500;X-TITLE=4532 S. 25th W. Ave.:geo:-96.0216659,36.0981774
END:VEVENT
BEGIN:VEVENT
DTSTART;VALUE=DATE:20240811
DTEND;VALUE=DATE:20240812
DTSTAMP:20260425T071404
CREATED:20240701T002904Z
LAST-MODIFIED:20240701T002904Z
UID:10011570-1723334400-1723420799@www.saintcatherineschool.org
SUMMARY:Deacon Appreciation Weekend
DESCRIPTION:
URL:https://www.saintcatherineschool.org/event/deacon-appreciation-weekend-3
LOCATION:Saint Catherine of Alexandria\, 4532 S. 25th W. Ave.\, Tulsa\, OK\, 74107\, United States
CATEGORIES:Church of Saint Catherine,Saint Catherine School
ORGANIZER;CN="Fr. Robert Kim":MAILTO:fr.robert.kim@dioceseoftulsa.org
GEO:36.0981774;-96.0216659
X-APPLE-STRUCTURED-LOCATION;VALUE=URI;X-ADDRESS=Saint Catherine of Alexandria 4532 S. 25th W. Ave. Tulsa OK 74107 United States;X-APPLE-RADIUS=500;X-TITLE=4532 S. 25th W. Ave.:geo:-96.0216659,36.0981774
END:VEVENT
BEGIN:VEVENT
DTSTART;TZID=America/Chicago:20240811T080000
DTEND;TZID=America/Chicago:20240811T090000
DTSTAMP:20260425T071404
CREATED:20240701T003432Z
LAST-MODIFIED:20240701T003432Z
UID:10011575-1723363200-1723366800@www.saintcatherineschool.org
SUMMARY:Mass - English
DESCRIPTION:
URL:https://www.saintcatherineschool.org/event/mass-english-2
LOCATION:Saint Catherine of Alexandria\, 4532 S. 25th W. Ave.\, Tulsa\, OK\, 74107\, United States
CATEGORIES:Church of Saint Catherine,Saint Catherine School
ORGANIZER;CN="Fr. Robert Kim":MAILTO:fr.robert.kim@dioceseoftulsa.org
GEO:36.0981774;-96.0216659
X-APPLE-STRUCTURED-LOCATION;VALUE=URI;X-ADDRESS=Saint Catherine of Alexandria 4532 S. 25th W. Ave. Tulsa OK 74107 United States;X-APPLE-RADIUS=500;X-TITLE=4532 S. 25th W. Ave.:geo:-96.0216659,36.0981774
END:VEVENT
BEGIN:VEVENT
DTSTART;TZID=America/Chicago:20240811T110000
DTEND;TZID=America/Chicago:20240811T130000
DTSTAMP:20260425T071404
CREATED:20240701T004046Z
LAST-MODIFIED:20240701T004046Z
UID:10011584-1723374000-1723381200@www.saintcatherineschool.org
SUMMARY:Mass - Zomi
DESCRIPTION:
URL:https://www.saintcatherineschool.org/event/mass-zomi-2
LOCATION:Saint Catherine of Alexandria\, 4532 S. 25th W. Ave.\, Tulsa\, OK\, 74107\, United States
CATEGORIES:Church of Saint Catherine,Saint Catherine School
ORGANIZER;CN="Fr. Robert Kim":MAILTO:fr.robert.kim@dioceseoftulsa.org
GEO:36.0981774;-96.0216659
X-APPLE-STRUCTURED-LOCATION;VALUE=URI;X-ADDRESS=Saint Catherine of Alexandria 4532 S. 25th W. Ave. Tulsa OK 74107 United States;X-APPLE-RADIUS=500;X-TITLE=4532 S. 25th W. Ave.:geo:-96.0216659,36.0981774
END:VEVENT
BEGIN:VEVENT
DTSTART;TZID=America/Chicago:20240817T153000
DTEND;TZID=America/Chicago:20240817T170000
DTSTAMP:20260425T071404
CREATED:20180123T023113Z
LAST-MODIFIED:20201202T201345Z
UID:10005923-1723908600-1723914000@www.saintcatherineschool.org
SUMMARY:Confessions
DESCRIPTION:Fr. Grant will hear confessions from 3:30-5:00.
URL:https://www.saintcatherineschool.org/event/confessions/2024-08-17
LOCATION:Saint Catherine of Alexandria\, 4532 S. 25th W. Ave.\, Tulsa\, OK\, 74107\, United States
CATEGORIES:Church of Saint Catherine,Saint Catherine School
GEO:36.0981774;-96.0216659
X-APPLE-STRUCTURED-LOCATION;VALUE=URI;X-ADDRESS=Saint Catherine of Alexandria 4532 S. 25th W. Ave. Tulsa OK 74107 United States;X-APPLE-RADIUS=500;X-TITLE=4532 S. 25th W. Ave.:geo:-96.0216659,36.0981774
END:VEVENT
BEGIN:VEVENT
DTSTART;TZID=America/Chicago:20240817T170000
DTEND;TZID=America/Chicago:20240817T180000
DTSTAMP:20260425T071404
CREATED:20240701T003801Z
LAST-MODIFIED:20240701T003801Z
UID:10011580-1723914000-1723917600@www.saintcatherineschool.org
SUMMARY:Mass - English
DESCRIPTION:
URL:https://www.saintcatherineschool.org/event/mass-english-7
LOCATION:Saint Catherine of Alexandria\, 4532 S. 25th W. Ave.\, Tulsa\, OK\, 74107\, United States
CATEGORIES:Church of Saint Catherine,Saint Catherine School
ORGANIZER;CN="Fr. Robert Kim":MAILTO:fr.robert.kim@dioceseoftulsa.org
GEO:36.0981774;-96.0216659
X-APPLE-STRUCTURED-LOCATION;VALUE=URI;X-ADDRESS=Saint Catherine of Alexandria 4532 S. 25th W. Ave. Tulsa OK 74107 United States;X-APPLE-RADIUS=500;X-TITLE=4532 S. 25th W. Ave.:geo:-96.0216659,36.0981774
END:VEVENT
END:VCALENDAR