BEGIN:VCALENDAR
VERSION:2.0
PRODID:-//Saint Catherine of Alexandria School - ECPv6.15.20//NONSGML v1.0//EN
CALSCALE:GREGORIAN
METHOD:PUBLISH
X-ORIGINAL-URL:https://www.saintcatherineschool.org
X-WR-CALDESC:Events for Saint Catherine of Alexandria School
REFRESH-INTERVAL;VALUE=DURATION:PT1H
X-Robots-Tag:noindex
X-PUBLISHED-TTL:PT1H
BEGIN:VTIMEZONE
TZID:America/Chicago
BEGIN:DAYLIGHT
TZOFFSETFROM:-0600
TZOFFSETTO:-0500
TZNAME:CDT
DTSTART:20250309T080000
END:DAYLIGHT
BEGIN:STANDARD
TZOFFSETFROM:-0500
TZOFFSETTO:-0600
TZNAME:CST
DTSTART:20251102T070000
END:STANDARD
BEGIN:DAYLIGHT
TZOFFSETFROM:-0600
TZOFFSETTO:-0500
TZNAME:CDT
DTSTART:20260308T080000
END:DAYLIGHT
BEGIN:STANDARD
TZOFFSETFROM:-0500
TZOFFSETTO:-0600
TZNAME:CST
DTSTART:20261101T070000
END:STANDARD
BEGIN:DAYLIGHT
TZOFFSETFROM:-0600
TZOFFSETTO:-0500
TZNAME:CDT
DTSTART:20270314T080000
END:DAYLIGHT
BEGIN:STANDARD
TZOFFSETFROM:-0500
TZOFFSETTO:-0600
TZNAME:CST
DTSTART:20271107T070000
END:STANDARD
END:VTIMEZONE
BEGIN:VEVENT
DTSTART;TZID=America/Chicago:20260502T183000
DTEND;TZID=America/Chicago:20260502T223000
DTSTAMP:20260423T142557
CREATED:20260402T184210Z
LAST-MODIFIED:20260402T184210Z
UID:10013924-1777746600-1777761000@www.saintcatherineschool.org
SUMMARY:Teacher Appreciation Dinner
DESCRIPTION:
URL:https://www.saintcatherineschool.org/event/teacher-appreciation-dinner-3
LOCATION:Saint Catherine School\, 2515 W. 46th St.\, Tulsa\, OK\, 74107\, United States
CATEGORIES:Church of Saint Catherine,Saint Catherine School
ORGANIZER;CN="Michelle Anthamatten":MAILTO:manthamatten@saint-catherine.org
GEO:36.0981282;-96.0219361
X-APPLE-STRUCTURED-LOCATION;VALUE=URI;X-ADDRESS=Saint Catherine School 2515 W. 46th St. Tulsa OK 74107 United States;X-APPLE-RADIUS=500;X-TITLE=2515 W. 46th St.:geo:-96.0219361,36.0981282
END:VEVENT
BEGIN:VEVENT
DTSTART;TZID=America/Chicago:20260503T110000
DTEND;TZID=America/Chicago:20260503T130000
DTSTAMP:20260423T142557
CREATED:20260305T165805Z
LAST-MODIFIED:20260305T165805Z
UID:10013762-1777806000-1777813200@www.saintcatherineschool.org
SUMMARY:Mass - Zomi
DESCRIPTION:
URL:https://www.saintcatherineschool.org/event/mass-zomi-53/2026-05-03
LOCATION:Saint Catherine of Alexandria\, 4532 S. 25th W. Ave.\, Tulsa\, OK\, 74107\, United States
CATEGORIES:Church of Saint Catherine,Saint Catherine School
ORGANIZER;CN="Fr. Robert Kim":MAILTO:fr.robert.kim@dioceseoftulsa.org
GEO:36.0981774;-96.0216659
X-APPLE-STRUCTURED-LOCATION;VALUE=URI;X-ADDRESS=Saint Catherine of Alexandria 4532 S. 25th W. Ave. Tulsa OK 74107 United States;X-APPLE-RADIUS=500;X-TITLE=4532 S. 25th W. Ave.:geo:-96.0216659,36.0981774
END:VEVENT
BEGIN:VEVENT
DTSTART;VALUE=DATE:20260504
DTEND;VALUE=DATE:20260509
DTSTAMP:20260423T142557
CREATED:20260402T162806Z
LAST-MODIFIED:20260402T162806Z
UID:10013887-1777852800-1778284799@www.saintcatherineschool.org
SUMMARY:Teacher Appreciation Week
DESCRIPTION:
URL:https://www.saintcatherineschool.org/event/teacher-appreciation-week-11
LOCATION:OK
CATEGORIES:Church of Saint Catherine,Saint Catherine School
END:VEVENT
BEGIN:VEVENT
DTSTART;TZID=America/Chicago:20260504T153000
DTEND;TZID=America/Chicago:20260504T163000
DTSTAMP:20260423T142557
CREATED:20260402T162401Z
LAST-MODIFIED:20260402T162522Z
UID:10013884-1777908600-1777912200@www.saintcatherineschool.org
SUMMARY:Chess Club
DESCRIPTION:
URL:https://www.saintcatherineschool.org/event/chess-club/2026-05-04
LOCATION:Saint Catherine School\, 2515 W. 46th St.\, Tulsa\, OK\, 74107\, United States
CATEGORIES:Church of Saint Catherine,Saint Catherine School
ORGANIZER;CN="Catherine Hart":MAILTO:chart@saint-catherine.org
GEO:36.0981282;-96.0219361
X-APPLE-STRUCTURED-LOCATION;VALUE=URI;X-ADDRESS=Saint Catherine School 2515 W. 46th St. Tulsa OK 74107 United States;X-APPLE-RADIUS=500;X-TITLE=2515 W. 46th St.:geo:-96.0219361,36.0981282
END:VEVENT
BEGIN:VEVENT
DTSTART;TZID=America/Chicago:20260504T153000
DTEND;TZID=America/Chicago:20260504T163000
DTSTAMP:20260423T142557
CREATED:20260402T162857Z
LAST-MODIFIED:20260402T163210Z
UID:10013891-1777908600-1777912200@www.saintcatherineschool.org
SUMMARY:Choir Practice
DESCRIPTION:
URL:https://www.saintcatherineschool.org/event/choir-practice-23/2026-05-04
LOCATION:Saint Catherine School\, 2515 W. 46th St.\, Tulsa\, OK\, 74107\, United States
CATEGORIES:Church of Saint Catherine,Saint Catherine School
ORGANIZER;CN="Kaite Guglielmo":MAILTO:katiebug22302@gmail.com
GEO:36.0981282;-96.0219361
X-APPLE-STRUCTURED-LOCATION;VALUE=URI;X-ADDRESS=Saint Catherine School 2515 W. 46th St. Tulsa OK 74107 United States;X-APPLE-RADIUS=500;X-TITLE=2515 W. 46th St.:geo:-96.0219361,36.0981282
END:VEVENT
BEGIN:VEVENT
DTSTART;TZID=America/Chicago:20260505T080000
DTEND;TZID=America/Chicago:20260505T090000
DTSTAMP:20260423T142557
CREATED:20260305T200310Z
LAST-MODIFIED:20260305T200310Z
UID:10013860-1777968000-1777971600@www.saintcatherineschool.org
SUMMARY:Mass - English
DESCRIPTION:
URL:https://www.saintcatherineschool.org/event/mass-english-107/2026-05-05
LOCATION:Saint Catherine of Alexandria\, 4532 S. 25th W. Ave.\, Tulsa\, OK\, 74107\, United States
CATEGORIES:Church of Saint Catherine,Saint Catherine School
ORGANIZER;CN="Fr. Robert Kim":MAILTO:fr.robert.kim@dioceseoftulsa.org
GEO:36.0981774;-96.0216659
X-APPLE-STRUCTURED-LOCATION;VALUE=URI;X-ADDRESS=Saint Catherine of Alexandria 4532 S. 25th W. Ave. Tulsa OK 74107 United States;X-APPLE-RADIUS=500;X-TITLE=4532 S. 25th W. Ave.:geo:-96.0216659,36.0981774
END:VEVENT
BEGIN:VEVENT
DTSTART;TZID=America/Chicago:20260505T080000
DTEND;TZID=America/Chicago:20260505T090000
DTSTAMP:20260423T142557
CREATED:20260402T164002Z
LAST-MODIFIED:20260402T164002Z
UID:10013896-1777968000-1777971600@www.saintcatherineschool.org
SUMMARY:May Crowning Tentative
DESCRIPTION:
URL:https://www.saintcatherineschool.org/event/may-crowning-tentative
LOCATION:Saint Catherine of Alexandria\, 4532 S. 25th W. Ave.\, Tulsa\, OK\, 74107\, United States
CATEGORIES:Church of Saint Catherine,Saint Catherine School
ORGANIZER;CN="Fr. Robert Kim":MAILTO:fr.robert.kim@dioceseoftulsa.org
GEO:36.0981774;-96.0216659
X-APPLE-STRUCTURED-LOCATION;VALUE=URI;X-ADDRESS=Saint Catherine of Alexandria 4532 S. 25th W. Ave. Tulsa OK 74107 United States;X-APPLE-RADIUS=500;X-TITLE=4532 S. 25th W. Ave.:geo:-96.0216659,36.0981774
END:VEVENT
BEGIN:VEVENT
DTSTART;TZID=America/Chicago:20260505T180000
DTEND;TZID=America/Chicago:20260505T190000
DTSTAMP:20260423T142557
CREATED:20260402T164046Z
LAST-MODIFIED:20260402T164046Z
UID:10013897-1778004000-1778007600@www.saintcatherineschool.org
SUMMARY:School Advisory Meeting
DESCRIPTION:
URL:https://www.saintcatherineschool.org/event/school-advisory-meeting-38
LOCATION:Saint Catherine School\, 2515 W. 46th St.\, Tulsa\, OK\, 74107\, United States
CATEGORIES:Church of Saint Catherine,Saint Catherine School
ORGANIZER;CN="Michelle Anthamatten":MAILTO:manthamatten@saint-catherine.org
GEO:36.0981282;-96.0219361
X-APPLE-STRUCTURED-LOCATION;VALUE=URI;X-ADDRESS=Saint Catherine School 2515 W. 46th St. Tulsa OK 74107 United States;X-APPLE-RADIUS=500;X-TITLE=2515 W. 46th St.:geo:-96.0219361,36.0981282
END:VEVENT
BEGIN:VEVENT
DTSTART;VALUE=DATE:20260506
DTEND;VALUE=DATE:20260507
DTSTAMP:20260423T142557
CREATED:20260402T162852Z
LAST-MODIFIED:20260402T162852Z
UID:10013888-1778025600-1778111999@www.saintcatherineschool.org
SUMMARY:Principal Appreciation Day
DESCRIPTION:
URL:https://www.saintcatherineschool.org/event/principal-appreciation-day-3
LOCATION:Saint Catherine School\, 2515 W. 46th St.\, Tulsa\, OK\, 74107\, United States
CATEGORIES:Church of Saint Catherine,Saint Catherine School
ORGANIZER;CN="Michelle Anthamatten":MAILTO:manthamatten@saint-catherine.org
GEO:36.0981282;-96.0219361
X-APPLE-STRUCTURED-LOCATION;VALUE=URI;X-ADDRESS=Saint Catherine School 2515 W. 46th St. Tulsa OK 74107 United States;X-APPLE-RADIUS=500;X-TITLE=2515 W. 46th St.:geo:-96.0219361,36.0981282
END:VEVENT
BEGIN:VEVENT
DTSTART;TZID=America/Chicago:20260506T080000
DTEND;TZID=America/Chicago:20260506T090000
DTSTAMP:20260423T142557
CREATED:20260402T174244Z
LAST-MODIFIED:20260402T174244Z
UID:10013905-1778054400-1778058000@www.saintcatherineschool.org
SUMMARY:Mass - Zomi
DESCRIPTION:
URL:https://www.saintcatherineschool.org/event/mass-zomi-56/2026-05-06
LOCATION:Saint Catherine of Alexandria\, 4532 S. 25th W. Ave.\, Tulsa\, OK\, 74107\, United States
CATEGORIES:Church of Saint Catherine,Saint Catherine School
ORGANIZER;CN="Fr. Robert Kim":MAILTO:fr.robert.kim@dioceseoftulsa.org
GEO:36.0981774;-96.0216659
X-APPLE-STRUCTURED-LOCATION;VALUE=URI;X-ADDRESS=Saint Catherine of Alexandria 4532 S. 25th W. Ave. Tulsa OK 74107 United States;X-APPLE-RADIUS=500;X-TITLE=4532 S. 25th W. Ave.:geo:-96.0216659,36.0981774
END:VEVENT
BEGIN:VEVENT
DTSTART;TZID=America/Chicago:20260506T153000
DTEND;TZID=America/Chicago:20260506T163000
DTSTAMP:20260423T142558
CREATED:20260402T164134Z
LAST-MODIFIED:20260402T164134Z
UID:10013898-1778081400-1778085000@www.saintcatherineschool.org
SUMMARY:Little Flowers 1st and 2nd Grades
DESCRIPTION:
URL:https://www.saintcatherineschool.org/event/little-flowers-1st-and-2nd-grades-3
LOCATION:Saint Catherine School\, 2515 W. 46th St.\, Tulsa\, OK\, 74107\, United States
CATEGORIES:Church of Saint Catherine,Saint Catherine School
GEO:36.0981282;-96.0219361
X-APPLE-STRUCTURED-LOCATION;VALUE=URI;X-ADDRESS=Saint Catherine School 2515 W. 46th St. Tulsa OK 74107 United States;X-APPLE-RADIUS=500;X-TITLE=2515 W. 46th St.:geo:-96.0219361,36.0981282
END:VEVENT
BEGIN:VEVENT
DTSTART;TZID=America/Chicago:20260507T080000
DTEND;TZID=America/Chicago:20260507T090000
DTSTAMP:20260423T142558
CREATED:20260305T203808Z
LAST-MODIFIED:20260305T203808Z
UID:10013873-1778140800-1778144400@www.saintcatherineschool.org
SUMMARY:Mass - English
DESCRIPTION:
URL:https://www.saintcatherineschool.org/event/mass-english-108/2026-05-07
LOCATION:Saint Catherine of Alexandria\, 4532 S. 25th W. Ave.\, Tulsa\, OK\, 74107\, United States
CATEGORIES:Church of Saint Catherine,Saint Catherine School
ORGANIZER;CN="Fr. Robert Kim":MAILTO:fr.robert.kim@dioceseoftulsa.org
GEO:36.0981774;-96.0216659
X-APPLE-STRUCTURED-LOCATION;VALUE=URI;X-ADDRESS=Saint Catherine of Alexandria 4532 S. 25th W. Ave. Tulsa OK 74107 United States;X-APPLE-RADIUS=500;X-TITLE=4532 S. 25th W. Ave.:geo:-96.0216659,36.0981774
END:VEVENT
BEGIN:VEVENT
DTSTART;TZID=America/Chicago:20260508T000000
DTEND;TZID=America/Chicago:20260508T235959
DTSTAMP:20260423T142558
CREATED:20260402T173614Z
LAST-MODIFIED:20260402T173817Z
UID:10013903-1778198400-1778284799@www.saintcatherineschool.org
SUMMARY:3rd and 4th to Oxley Nature Center
DESCRIPTION:
URL:https://www.saintcatherineschool.org/event/3rd-and-4th-to-oxley-nature-center
LOCATION:Saint Catherine School\, 2515 W. 46th St.\, Tulsa\, OK\, 74107\, United States
CATEGORIES:Church of Saint Catherine,Saint Catherine School
ORGANIZER;CN="Sr. M. Christi":MAILTO:sr.mariachristi@saint-catherine.org
GEO:36.0981282;-96.0219361
X-APPLE-STRUCTURED-LOCATION;VALUE=URI;X-ADDRESS=Saint Catherine School 2515 W. 46th St. Tulsa OK 74107 United States;X-APPLE-RADIUS=500;X-TITLE=2515 W. 46th St.:geo:-96.0219361,36.0981282
END:VEVENT
BEGIN:VEVENT
DTSTART;TZID=America/Chicago:20260508T080000
DTEND;TZID=America/Chicago:20260508T090000
DTSTAMP:20260423T142558
CREATED:20260305T204307Z
LAST-MODIFIED:20260305T204307Z
UID:10013881-1778227200-1778230800@www.saintcatherineschool.org
SUMMARY:Mass - English
DESCRIPTION:
URL:https://www.saintcatherineschool.org/event/mass-english-109/2026-05-08
LOCATION:Saint Catherine School\, 2515 W. 46th St.\, Tulsa\, OK\, 74107\, United States
CATEGORIES:Church of Saint Catherine,Saint Catherine School
ORGANIZER;CN="Michelle Anthamatten":MAILTO:manthamatten@saint-catherine.org
GEO:36.0981282;-96.0219361
X-APPLE-STRUCTURED-LOCATION;VALUE=URI;X-ADDRESS=Saint Catherine School 2515 W. 46th St. Tulsa OK 74107 United States;X-APPLE-RADIUS=500;X-TITLE=2515 W. 46th St.:geo:-96.0219361,36.0981282
END:VEVENT
BEGIN:VEVENT
DTSTART;TZID=America/Chicago:20260508T143000
DTEND;TZID=America/Chicago:20260508T150000
DTSTAMP:20260423T142558
CREATED:20260402T173652Z
LAST-MODIFIED:20260402T184517Z
UID:10013904-1778250600-1778252400@www.saintcatherineschool.org
SUMMARY:PK4 Mother's Tea
DESCRIPTION:
URL:https://www.saintcatherineschool.org/event/pk4-mothers-tea
LOCATION:Saint Catherine School\, 2515 W. 46th St.\, Tulsa\, OK\, 74107\, United States
CATEGORIES:Church of Saint Catherine,Saint Catherine School
ORGANIZER;CN="Tanya Choate":MAILTO:tchoate@saint-catherine.org
GEO:36.0981282;-96.0219361
X-APPLE-STRUCTURED-LOCATION;VALUE=URI;X-ADDRESS=Saint Catherine School 2515 W. 46th St. Tulsa OK 74107 United States;X-APPLE-RADIUS=500;X-TITLE=2515 W. 46th St.:geo:-96.0219361,36.0981282
END:VEVENT
BEGIN:VEVENT
DTSTART;TZID=America/Chicago:20260509T153000
DTEND;TZID=America/Chicago:20260509T163000
DTSTAMP:20260423T142558
CREATED:20260305T195046Z
LAST-MODIFIED:20260305T195046Z
UID:10013848-1778340600-1778344200@www.saintcatherineschool.org
SUMMARY:Adoration and Reconciliation
DESCRIPTION:
URL:https://www.saintcatherineschool.org/event/adoration-and-reconciliation/2026-05-09
LOCATION:OK
CATEGORIES:Church of Saint Catherine,Saint Catherine School
END:VEVENT
BEGIN:VEVENT
DTSTART;TZID=America/Chicago:20260509T170000
DTEND;TZID=America/Chicago:20260509T180000
DTSTAMP:20260423T142558
CREATED:20260305T195008Z
LAST-MODIFIED:20260305T195008Z
UID:10013840-1778346000-1778349600@www.saintcatherineschool.org
SUMMARY:Mass - English
DESCRIPTION:
URL:https://www.saintcatherineschool.org/event/mass-english-105/2026-05-09
LOCATION:Saint Catherine of Alexandria\, 4532 S. 25th W. Ave.\, Tulsa\, OK\, 74107\, United States
CATEGORIES:Church of Saint Catherine,Saint Catherine School
ORGANIZER;CN="Fr. Robert Kim":MAILTO:fr.robert.kim@dioceseoftulsa.org
GEO:36.0981774;-96.0216659
X-APPLE-STRUCTURED-LOCATION;VALUE=URI;X-ADDRESS=Saint Catherine of Alexandria 4532 S. 25th W. Ave. Tulsa OK 74107 United States;X-APPLE-RADIUS=500;X-TITLE=4532 S. 25th W. Ave.:geo:-96.0216659,36.0981774
END:VEVENT
BEGIN:VEVENT
DTSTART;TZID=America/Chicago:20260510T110000
DTEND;TZID=America/Chicago:20260510T130000
DTSTAMP:20260423T142558
CREATED:20260305T165805Z
LAST-MODIFIED:20260305T165805Z
UID:10013763-1778410800-1778418000@www.saintcatherineschool.org
SUMMARY:Mass - Zomi
DESCRIPTION:
URL:https://www.saintcatherineschool.org/event/mass-zomi-53/2026-05-10
LOCATION:Saint Catherine of Alexandria\, 4532 S. 25th W. Ave.\, Tulsa\, OK\, 74107\, United States
CATEGORIES:Church of Saint Catherine,Saint Catherine School
ORGANIZER;CN="Fr. Robert Kim":MAILTO:fr.robert.kim@dioceseoftulsa.org
GEO:36.0981774;-96.0216659
X-APPLE-STRUCTURED-LOCATION;VALUE=URI;X-ADDRESS=Saint Catherine of Alexandria 4532 S. 25th W. Ave. Tulsa OK 74107 United States;X-APPLE-RADIUS=500;X-TITLE=4532 S. 25th W. Ave.:geo:-96.0216659,36.0981774
END:VEVENT
BEGIN:VEVENT
DTSTART;TZID=America/Chicago:20260510T110000
DTEND;TZID=America/Chicago:20260510T130000
DTSTAMP:20260423T142558
CREATED:20260402T184609Z
LAST-MODIFIED:20260402T184609Z
UID:10013925-1778410800-1778418000@www.saintcatherineschool.org
SUMMARY:1st Communion
DESCRIPTION:
URL:https://www.saintcatherineschool.org/event/1st-communion-2
LOCATION:Saint Catherine of Alexandria\, 4532 S. 25th W. Ave.\, Tulsa\, OK\, 74107\, United States
CATEGORIES:Church of Saint Catherine,Saint Catherine School
ORGANIZER;CN="Fr. Robert Kim":MAILTO:fr.robert.kim@dioceseoftulsa.org
GEO:36.0981774;-96.0216659
X-APPLE-STRUCTURED-LOCATION;VALUE=URI;X-ADDRESS=Saint Catherine of Alexandria 4532 S. 25th W. Ave. Tulsa OK 74107 United States;X-APPLE-RADIUS=500;X-TITLE=4532 S. 25th W. Ave.:geo:-96.0216659,36.0981774
END:VEVENT
BEGIN:VEVENT
DTSTART;TZID=America/Chicago:20260511T080000
DTEND;TZID=America/Chicago:20260511T151500
DTSTAMP:20260423T142558
CREATED:20260402T163424Z
LAST-MODIFIED:20260402T163424Z
UID:10013894-1778486400-1778512500@www.saintcatherineschool.org
SUMMARY:Year Book Signing Day
DESCRIPTION:
URL:https://www.saintcatherineschool.org/event/year-book-signing-day
LOCATION:OK
CATEGORIES:Church of Saint Catherine,Saint Catherine School
END:VEVENT
BEGIN:VEVENT
DTSTART;TZID=America/Chicago:20260511T153000
DTEND;TZID=America/Chicago:20260511T163000
DTSTAMP:20260423T142558
CREATED:20260402T162401Z
LAST-MODIFIED:20260402T162522Z
UID:10013885-1778513400-1778517000@www.saintcatherineschool.org
SUMMARY:Chess Club
DESCRIPTION:
URL:https://www.saintcatherineschool.org/event/chess-club/2026-05-11
LOCATION:Saint Catherine School\, 2515 W. 46th St.\, Tulsa\, OK\, 74107\, United States
CATEGORIES:Church of Saint Catherine,Saint Catherine School
ORGANIZER;CN="Catherine Hart":MAILTO:chart@saint-catherine.org
GEO:36.0981282;-96.0219361
X-APPLE-STRUCTURED-LOCATION;VALUE=URI;X-ADDRESS=Saint Catherine School 2515 W. 46th St. Tulsa OK 74107 United States;X-APPLE-RADIUS=500;X-TITLE=2515 W. 46th St.:geo:-96.0219361,36.0981282
END:VEVENT
BEGIN:VEVENT
DTSTART;TZID=America/Chicago:20260511T153000
DTEND;TZID=America/Chicago:20260511T163000
DTSTAMP:20260423T142558
CREATED:20260402T162857Z
LAST-MODIFIED:20260402T163210Z
UID:10013892-1778513400-1778517000@www.saintcatherineschool.org
SUMMARY:Choir Practice
DESCRIPTION:
URL:https://www.saintcatherineschool.org/event/choir-practice-23/2026-05-11
LOCATION:Saint Catherine School\, 2515 W. 46th St.\, Tulsa\, OK\, 74107\, United States
CATEGORIES:Church of Saint Catherine,Saint Catherine School
ORGANIZER;CN="Kaite Guglielmo":MAILTO:katiebug22302@gmail.com
GEO:36.0981282;-96.0219361
X-APPLE-STRUCTURED-LOCATION;VALUE=URI;X-ADDRESS=Saint Catherine School 2515 W. 46th St. Tulsa OK 74107 United States;X-APPLE-RADIUS=500;X-TITLE=2515 W. 46th St.:geo:-96.0219361,36.0981282
END:VEVENT
BEGIN:VEVENT
DTSTART;TZID=America/Chicago:20260512T080000
DTEND;TZID=America/Chicago:20260512T090000
DTSTAMP:20260423T142558
CREATED:20260305T200310Z
LAST-MODIFIED:20260305T200310Z
UID:10013861-1778572800-1778576400@www.saintcatherineschool.org
SUMMARY:Mass - English
DESCRIPTION:
URL:https://www.saintcatherineschool.org/event/mass-english-107/2026-05-12
LOCATION:Saint Catherine of Alexandria\, 4532 S. 25th W. Ave.\, Tulsa\, OK\, 74107\, United States
CATEGORIES:Church of Saint Catherine,Saint Catherine School
ORGANIZER;CN="Fr. Robert Kim":MAILTO:fr.robert.kim@dioceseoftulsa.org
GEO:36.0981774;-96.0216659
X-APPLE-STRUCTURED-LOCATION;VALUE=URI;X-ADDRESS=Saint Catherine of Alexandria 4532 S. 25th W. Ave. Tulsa OK 74107 United States;X-APPLE-RADIUS=500;X-TITLE=4532 S. 25th W. Ave.:geo:-96.0216659,36.0981774
END:VEVENT
BEGIN:VEVENT
DTSTART;TZID=America/Chicago:20260512T080000
DTEND;TZID=America/Chicago:20260512T170000
DTSTAMP:20260423T142558
CREATED:20260402T164224Z
LAST-MODIFIED:20260402T164224Z
UID:10013899-1778572800-1778605200@www.saintcatherineschool.org
SUMMARY:8th Grade Retreat
DESCRIPTION:
URL:https://www.saintcatherineschool.org/event/8th-grade-retreat-4/2026-05-12
LOCATION:Saint Catherine School\, 2515 W. 46th St.\, Tulsa\, OK\, 74107\, United States
CATEGORIES:Church of Saint Catherine,Saint Catherine School
ORGANIZER;CN="Michelle Anthamatten":MAILTO:manthamatten@saint-catherine.org
GEO:36.0981282;-96.0219361
X-APPLE-STRUCTURED-LOCATION;VALUE=URI;X-ADDRESS=Saint Catherine School 2515 W. 46th St. Tulsa OK 74107 United States;X-APPLE-RADIUS=500;X-TITLE=2515 W. 46th St.:geo:-96.0219361,36.0981282
END:VEVENT
BEGIN:VEVENT
DTSTART;TZID=America/Chicago:20260513T080000
DTEND;TZID=America/Chicago:20260513T090000
DTSTAMP:20260423T142558
CREATED:20260402T174244Z
LAST-MODIFIED:20260402T174244Z
UID:10013906-1778659200-1778662800@www.saintcatherineschool.org
SUMMARY:Mass - Zomi
DESCRIPTION:
URL:https://www.saintcatherineschool.org/event/mass-zomi-56/2026-05-13
LOCATION:Saint Catherine of Alexandria\, 4532 S. 25th W. Ave.\, Tulsa\, OK\, 74107\, United States
CATEGORIES:Church of Saint Catherine,Saint Catherine School
ORGANIZER;CN="Fr. Robert Kim":MAILTO:fr.robert.kim@dioceseoftulsa.org
GEO:36.0981774;-96.0216659
X-APPLE-STRUCTURED-LOCATION;VALUE=URI;X-ADDRESS=Saint Catherine of Alexandria 4532 S. 25th W. Ave. Tulsa OK 74107 United States;X-APPLE-RADIUS=500;X-TITLE=4532 S. 25th W. Ave.:geo:-96.0216659,36.0981774
END:VEVENT
BEGIN:VEVENT
DTSTART;TZID=America/Chicago:20260513T153000
DTEND;TZID=America/Chicago:20260513T163000
DTSTAMP:20260423T142558
CREATED:20260402T164334Z
LAST-MODIFIED:20260402T164334Z
UID:10013900-1778686200-1778689800@www.saintcatherineschool.org
SUMMARY:Little Flowers 3/4/5 Grades
DESCRIPTION:
URL:https://www.saintcatherineschool.org/event/little-flowers-3-4-5-grades-6
LOCATION:Saint Catherine School\, 2515 W. 46th St.\, Tulsa\, OK\, 74107\, United States
CATEGORIES:Church of Saint Catherine,Saint Catherine School
GEO:36.0981282;-96.0219361
X-APPLE-STRUCTURED-LOCATION;VALUE=URI;X-ADDRESS=Saint Catherine School 2515 W. 46th St. Tulsa OK 74107 United States;X-APPLE-RADIUS=500;X-TITLE=2515 W. 46th St.:geo:-96.0219361,36.0981282
END:VEVENT
BEGIN:VEVENT
DTSTART;VALUE=DATE:20260514
DTEND;VALUE=DATE:20260515
DTSTAMP:20260423T142558
CREATED:20260402T173357Z
LAST-MODIFIED:20260402T173357Z
UID:10013901-1778716800-1778803199@www.saintcatherineschool.org
SUMMARY:4th Field Trip to 5 Civilized Tribes Museum
DESCRIPTION:
URL:https://www.saintcatherineschool.org/event/4th-field-trip-to-5-civilized-tribes-museum
LOCATION:Saint Catherine School\, 2515 W. 46th St.\, Tulsa\, OK\, 74107\, United States
CATEGORIES:Church of Saint Catherine,Saint Catherine School
ORGANIZER;CN="Sr. M. Christi":MAILTO:sr.mariachristi@saint-catherine.org
GEO:36.0981282;-96.0219361
X-APPLE-STRUCTURED-LOCATION;VALUE=URI;X-ADDRESS=Saint Catherine School 2515 W. 46th St. Tulsa OK 74107 United States;X-APPLE-RADIUS=500;X-TITLE=2515 W. 46th St.:geo:-96.0219361,36.0981282
END:VEVENT
BEGIN:VEVENT
DTSTART;TZID=America/Chicago:20260514T180000
DTEND;TZID=America/Chicago:20260514T200000
DTSTAMP:20260423T142558
CREATED:20260402T173451Z
LAST-MODIFIED:20260402T173451Z
UID:10013902-1778781600-1778788800@www.saintcatherineschool.org
SUMMARY:Graduation Tentative
DESCRIPTION:
URL:https://www.saintcatherineschool.org/event/graduation-tentative
LOCATION:Saint Catherine School\, 2515 W. 46th St.\, Tulsa\, OK\, 74107\, United States
CATEGORIES:Church of Saint Catherine,Saint Catherine School
ORGANIZER;CN="Michelle Anthamatten":MAILTO:manthamatten@saint-catherine.org
GEO:36.0981282;-96.0219361
X-APPLE-STRUCTURED-LOCATION;VALUE=URI;X-ADDRESS=Saint Catherine School 2515 W. 46th St. Tulsa OK 74107 United States;X-APPLE-RADIUS=500;X-TITLE=2515 W. 46th St.:geo:-96.0219361,36.0981282
END:VEVENT
BEGIN:VEVENT
DTSTART;TZID=America/Chicago:20260515T080000
DTEND;TZID=America/Chicago:20260515T090000
DTSTAMP:20260423T142558
CREATED:20260305T204307Z
LAST-MODIFIED:20260305T204307Z
UID:10013882-1778832000-1778835600@www.saintcatherineschool.org
SUMMARY:Mass - English
DESCRIPTION:
URL:https://www.saintcatherineschool.org/event/mass-english-109/2026-05-15
LOCATION:Saint Catherine School\, 2515 W. 46th St.\, Tulsa\, OK\, 74107\, United States
CATEGORIES:Church of Saint Catherine,Saint Catherine School
ORGANIZER;CN="Michelle Anthamatten":MAILTO:manthamatten@saint-catherine.org
GEO:36.0981282;-96.0219361
X-APPLE-STRUCTURED-LOCATION;VALUE=URI;X-ADDRESS=Saint Catherine School 2515 W. 46th St. Tulsa OK 74107 United States;X-APPLE-RADIUS=500;X-TITLE=2515 W. 46th St.:geo:-96.0219361,36.0981282
END:VEVENT
BEGIN:VEVENT
DTSTART;TZID=America/Chicago:20260516T153000
DTEND;TZID=America/Chicago:20260516T163000
DTSTAMP:20260423T142558
CREATED:20260305T195046Z
LAST-MODIFIED:20260305T195046Z
UID:10013849-1778945400-1778949000@www.saintcatherineschool.org
SUMMARY:Adoration and Reconciliation
DESCRIPTION:
URL:https://www.saintcatherineschool.org/event/adoration-and-reconciliation/2026-05-16
LOCATION:OK
CATEGORIES:Church of Saint Catherine,Saint Catherine School
END:VEVENT
END:VCALENDAR