BEGIN:VCALENDAR
VERSION:2.0
PRODID:-//Saint Catherine of Alexandria School - ECPv6.15.20//NONSGML v1.0//EN
CALSCALE:GREGORIAN
METHOD:PUBLISH
X-WR-CALNAME:Saint Catherine of Alexandria School
X-ORIGINAL-URL:https://www.saintcatherineschool.org
X-WR-CALDESC:Events for Saint Catherine of Alexandria School
REFRESH-INTERVAL;VALUE=DURATION:PT1H
X-Robots-Tag:noindex
X-PUBLISHED-TTL:PT1H
BEGIN:VTIMEZONE
TZID:America/Chicago
BEGIN:DAYLIGHT
TZOFFSETFROM:-0600
TZOFFSETTO:-0500
TZNAME:CDT
DTSTART:20220313T080000
END:DAYLIGHT
BEGIN:STANDARD
TZOFFSETFROM:-0500
TZOFFSETTO:-0600
TZNAME:CST
DTSTART:20221106T070000
END:STANDARD
BEGIN:DAYLIGHT
TZOFFSETFROM:-0600
TZOFFSETTO:-0500
TZNAME:CDT
DTSTART:20230312T080000
END:DAYLIGHT
BEGIN:STANDARD
TZOFFSETFROM:-0500
TZOFFSETTO:-0600
TZNAME:CST
DTSTART:20231105T070000
END:STANDARD
BEGIN:DAYLIGHT
TZOFFSETFROM:-0600
TZOFFSETTO:-0500
TZNAME:CDT
DTSTART:20240310T080000
END:DAYLIGHT
BEGIN:STANDARD
TZOFFSETFROM:-0500
TZOFFSETTO:-0600
TZNAME:CST
DTSTART:20241103T070000
END:STANDARD
END:VTIMEZONE
BEGIN:VEVENT
DTSTART;TZID=America/Chicago:20230715T153000
DTEND;TZID=America/Chicago:20230715T163000
DTSTAMP:20260425T225559
CREATED:20230307T143621Z
LAST-MODIFIED:20230307T143621Z
UID:10009637-1689435000-1689438600@www.saintcatherineschool.org
SUMMARY:Track Practice
DESCRIPTION:
URL:https://www.saintcatherineschool.org/event/track-practice-12/2023-07-15
LOCATION:Saint Catherine School\, 2515 W. 46th St.\, Tulsa\, OK\, 74107\, United States
CATEGORIES:Church of Saint Catherine,Saint Catherine School
ORGANIZER;CN="Monique McAtee":MAILTO:mmcatee@saint-catherine.org
GEO:36.0981282;-96.0219361
X-APPLE-STRUCTURED-LOCATION;VALUE=URI;X-ADDRESS=Saint Catherine School 2515 W. 46th St. Tulsa OK 74107 United States;X-APPLE-RADIUS=500;X-TITLE=2515 W. 46th St.:geo:-96.0219361,36.0981282
END:VEVENT
BEGIN:VEVENT
DTSTART;TZID=America/Chicago:20230715T153000
DTEND;TZID=America/Chicago:20230715T170000
DTSTAMP:20260425T225559
CREATED:20180123T023113Z
LAST-MODIFIED:20201202T201345Z
UID:10005866-1689435000-1689440400@www.saintcatherineschool.org
SUMMARY:Confessions
DESCRIPTION:Fr. Grant will hear confessions from 3:30-5:00.
URL:https://www.saintcatherineschool.org/event/confessions/2023-07-15
LOCATION:Saint Catherine of Alexandria\, 4532 S. 25th W. Ave.\, Tulsa\, OK\, 74107\, United States
CATEGORIES:Church of Saint Catherine,Saint Catherine School
GEO:36.0981774;-96.0216659
X-APPLE-STRUCTURED-LOCATION;VALUE=URI;X-ADDRESS=Saint Catherine of Alexandria 4532 S. 25th W. Ave. Tulsa OK 74107 United States;X-APPLE-RADIUS=500;X-TITLE=4532 S. 25th W. Ave.:geo:-96.0216659,36.0981774
END:VEVENT
BEGIN:VEVENT
DTSTART;TZID=America/Chicago:20230716T073000
DTEND;TZID=America/Chicago:20230716T080000
DTSTAMP:20260425T225559
CREATED:20221129T175640Z
LAST-MODIFIED:20230825T193319Z
UID:10011200-1689492600-1689494400@www.saintcatherineschool.org
SUMMARY:Confessions
DESCRIPTION:Confessions are directly after Mass at 12:00pm.
URL:https://www.saintcatherineschool.org/event/confessions-5/2023-07-16
LOCATION:Saint Catherine of Alexandria\, 4532 S. 25th W. Ave.\, Tulsa\, OK\, 74107\, United States
CATEGORIES:Church of Saint Catherine,Saint Catherine School
ORGANIZER;CN="Fr. John Grant":MAILTO:fr.joh.grant@saint-catherine.org
GEO:36.0981774;-96.0216659
X-APPLE-STRUCTURED-LOCATION;VALUE=URI;X-ADDRESS=Saint Catherine of Alexandria 4532 S. 25th W. Ave. Tulsa OK 74107 United States;X-APPLE-RADIUS=500;X-TITLE=4532 S. 25th W. Ave.:geo:-96.0216659,36.0981774
END:VEVENT
BEGIN:VEVENT
DTSTART;TZID=America/Chicago:20230716T110000
DTEND;TZID=America/Chicago:20230716T140000
DTSTAMP:20260425T225559
CREATED:20221129T193934Z
LAST-MODIFIED:20230825T193505Z
UID:10011250-1689505200-1689516000@www.saintcatherineschool.org
SUMMARY:Tonu Maria Mass
DESCRIPTION:
URL:https://www.saintcatherineschool.org/event/tonu-maria-mass-14/2023-07-16
LOCATION:Saint Catherine of Alexandria\, 4532 S. 25th W. Ave.\, Tulsa\, OK\, 74107\, United States
CATEGORIES:Church of Saint Catherine,Saint Catherine School
ORGANIZER;CN="Fr. Robert Kim":MAILTO:fr.robert.kim@dioceseoftulsa.org
GEO:36.0981774;-96.0216659
X-APPLE-STRUCTURED-LOCATION;VALUE=URI;X-ADDRESS=Saint Catherine of Alexandria 4532 S. 25th W. Ave. Tulsa OK 74107 United States;X-APPLE-RADIUS=500;X-TITLE=4532 S. 25th W. Ave.:geo:-96.0216659,36.0981774
END:VEVENT
BEGIN:VEVENT
DTSTART;TZID=America/Chicago:20230716T153000
DTEND;TZID=America/Chicago:20230716T163000
DTSTAMP:20260425T225559
CREATED:20230307T143621Z
LAST-MODIFIED:20230307T143621Z
UID:10009638-1689521400-1689525000@www.saintcatherineschool.org
SUMMARY:Track Practice
DESCRIPTION:
URL:https://www.saintcatherineschool.org/event/track-practice-12/2023-07-16
LOCATION:Saint Catherine School\, 2515 W. 46th St.\, Tulsa\, OK\, 74107\, United States
CATEGORIES:Church of Saint Catherine,Saint Catherine School
ORGANIZER;CN="Monique McAtee":MAILTO:mmcatee@saint-catherine.org
GEO:36.0981282;-96.0219361
X-APPLE-STRUCTURED-LOCATION;VALUE=URI;X-ADDRESS=Saint Catherine School 2515 W. 46th St. Tulsa OK 74107 United States;X-APPLE-RADIUS=500;X-TITLE=2515 W. 46th St.:geo:-96.0219361,36.0981282
END:VEVENT
BEGIN:VEVENT
DTSTART;TZID=America/Chicago:20230717T153000
DTEND;TZID=America/Chicago:20230717T163000
DTSTAMP:20260425T225559
CREATED:20230307T143621Z
LAST-MODIFIED:20230307T143621Z
UID:10009639-1689607800-1689611400@www.saintcatherineschool.org
SUMMARY:Track Practice
DESCRIPTION:
URL:https://www.saintcatherineschool.org/event/track-practice-12/2023-07-17
LOCATION:Saint Catherine School\, 2515 W. 46th St.\, Tulsa\, OK\, 74107\, United States
CATEGORIES:Church of Saint Catherine,Saint Catherine School
ORGANIZER;CN="Monique McAtee":MAILTO:mmcatee@saint-catherine.org
GEO:36.0981282;-96.0219361
X-APPLE-STRUCTURED-LOCATION;VALUE=URI;X-ADDRESS=Saint Catherine School 2515 W. 46th St. Tulsa OK 74107 United States;X-APPLE-RADIUS=500;X-TITLE=2515 W. 46th St.:geo:-96.0219361,36.0981282
END:VEVENT
BEGIN:VEVENT
DTSTART;TZID=America/Chicago:20230718T081500
DTEND;TZID=America/Chicago:20230718T090000
DTSTAMP:20260425T225559
CREATED:20230524T174307Z
LAST-MODIFIED:20230524T174307Z
UID:10009747-1689668100-1689670800@www.saintcatherineschool.org
SUMMARY:Mass - Saint Catherine
DESCRIPTION:
URL:https://www.saintcatherineschool.org/event/mass-saint-catherine-22/2023-07-18
LOCATION:Saint Catherine of Alexandria\, 4532 S. 25th W. Ave.\, Tulsa\, OK\, 74107\, United States
CATEGORIES:Church of Saint Catherine,Saint Catherine School
ORGANIZER;CN="Fr. John Grant":MAILTO:fr.joh.grant@saint-catherine.org
GEO:36.0981774;-96.0216659
X-APPLE-STRUCTURED-LOCATION;VALUE=URI;X-ADDRESS=Saint Catherine of Alexandria 4532 S. 25th W. Ave. Tulsa OK 74107 United States;X-APPLE-RADIUS=500;X-TITLE=4532 S. 25th W. Ave.:geo:-96.0216659,36.0981774
END:VEVENT
BEGIN:VEVENT
DTSTART;TZID=America/Chicago:20230720T081500
DTEND;TZID=America/Chicago:20230720T090000
DTSTAMP:20260425T225559
CREATED:20230524T174441Z
LAST-MODIFIED:20230524T174441Z
UID:10009729-1689840900-1689843600@www.saintcatherineschool.org
SUMMARY:Mass - Saint Catherine
DESCRIPTION:
URL:https://www.saintcatherineschool.org/event/mass-saint-catherine-23/2023-07-20
LOCATION:Saint Catherine of Alexandria\, 4532 S. 25th W. Ave.\, Tulsa\, OK\, 74107\, United States
CATEGORIES:Church of Saint Catherine,Saint Catherine School
ORGANIZER;CN="Fr. John Grant":MAILTO:fr.joh.grant@saint-catherine.org
GEO:36.0981774;-96.0216659
X-APPLE-STRUCTURED-LOCATION;VALUE=URI;X-ADDRESS=Saint Catherine of Alexandria 4532 S. 25th W. Ave. Tulsa OK 74107 United States;X-APPLE-RADIUS=500;X-TITLE=4532 S. 25th W. Ave.:geo:-96.0216659,36.0981774
END:VEVENT
BEGIN:VEVENT
DTSTART;TZID=America/Chicago:20230721T081500
DTEND;TZID=America/Chicago:20230721T090000
DTSTAMP:20260425T225559
CREATED:20230524T174527Z
LAST-MODIFIED:20230524T174553Z
UID:10009713-1689927300-1689930000@www.saintcatherineschool.org
SUMMARY:Mass - Saint Catherine
DESCRIPTION:
URL:https://www.saintcatherineschool.org/event/mass-saint-catherine-24/2023-07-21
LOCATION:Saint Catherine of Alexandria\, 4532 S. 25th W. Ave.\, Tulsa\, OK\, 74107\, United States
CATEGORIES:Church of Saint Catherine,Saint Catherine School
ORGANIZER;CN="Fr. John Grant":MAILTO:fr.joh.grant@saint-catherine.org
GEO:36.0981774;-96.0216659
X-APPLE-STRUCTURED-LOCATION;VALUE=URI;X-ADDRESS=Saint Catherine of Alexandria 4532 S. 25th W. Ave. Tulsa OK 74107 United States;X-APPLE-RADIUS=500;X-TITLE=4532 S. 25th W. Ave.:geo:-96.0216659,36.0981774
END:VEVENT
BEGIN:VEVENT
DTSTART;TZID=America/Chicago:20230722T153000
DTEND;TZID=America/Chicago:20230722T170000
DTSTAMP:20260425T225559
CREATED:20180123T023113Z
LAST-MODIFIED:20201202T201345Z
UID:10005867-1690039800-1690045200@www.saintcatherineschool.org
SUMMARY:Confessions
DESCRIPTION:Fr. Grant will hear confessions from 3:30-5:00.
URL:https://www.saintcatherineschool.org/event/confessions/2023-07-22
LOCATION:Saint Catherine of Alexandria\, 4532 S. 25th W. Ave.\, Tulsa\, OK\, 74107\, United States
CATEGORIES:Church of Saint Catherine,Saint Catherine School
GEO:36.0981774;-96.0216659
X-APPLE-STRUCTURED-LOCATION;VALUE=URI;X-ADDRESS=Saint Catherine of Alexandria 4532 S. 25th W. Ave. Tulsa OK 74107 United States;X-APPLE-RADIUS=500;X-TITLE=4532 S. 25th W. Ave.:geo:-96.0216659,36.0981774
END:VEVENT
BEGIN:VEVENT
DTSTART;TZID=America/Chicago:20230723T073000
DTEND;TZID=America/Chicago:20230723T080000
DTSTAMP:20260425T225559
CREATED:20221129T175640Z
LAST-MODIFIED:20230825T193319Z
UID:10011201-1690097400-1690099200@www.saintcatherineschool.org
SUMMARY:Confessions
DESCRIPTION:Confessions are directly after Mass at 12:00pm.
URL:https://www.saintcatherineschool.org/event/confessions-5/2023-07-23
LOCATION:Saint Catherine of Alexandria\, 4532 S. 25th W. Ave.\, Tulsa\, OK\, 74107\, United States
CATEGORIES:Church of Saint Catherine,Saint Catherine School
ORGANIZER;CN="Fr. John Grant":MAILTO:fr.joh.grant@saint-catherine.org
GEO:36.0981774;-96.0216659
X-APPLE-STRUCTURED-LOCATION;VALUE=URI;X-ADDRESS=Saint Catherine of Alexandria 4532 S. 25th W. Ave. Tulsa OK 74107 United States;X-APPLE-RADIUS=500;X-TITLE=4532 S. 25th W. Ave.:geo:-96.0216659,36.0981774
END:VEVENT
BEGIN:VEVENT
DTSTART;TZID=America/Chicago:20230723T110000
DTEND;TZID=America/Chicago:20230723T140000
DTSTAMP:20260425T225559
CREATED:20221129T193934Z
LAST-MODIFIED:20230825T193505Z
UID:10011251-1690110000-1690120800@www.saintcatherineschool.org
SUMMARY:Tonu Maria Mass
DESCRIPTION:
URL:https://www.saintcatherineschool.org/event/tonu-maria-mass-14/2023-07-23
LOCATION:Saint Catherine of Alexandria\, 4532 S. 25th W. Ave.\, Tulsa\, OK\, 74107\, United States
CATEGORIES:Church of Saint Catherine,Saint Catherine School
ORGANIZER;CN="Fr. Robert Kim":MAILTO:fr.robert.kim@dioceseoftulsa.org
GEO:36.0981774;-96.0216659
X-APPLE-STRUCTURED-LOCATION;VALUE=URI;X-ADDRESS=Saint Catherine of Alexandria 4532 S. 25th W. Ave. Tulsa OK 74107 United States;X-APPLE-RADIUS=500;X-TITLE=4532 S. 25th W. Ave.:geo:-96.0216659,36.0981774
END:VEVENT
BEGIN:VEVENT
DTSTART;TZID=America/Chicago:20230725T081500
DTEND;TZID=America/Chicago:20230725T090000
DTSTAMP:20260425T225559
CREATED:20230524T174307Z
LAST-MODIFIED:20230524T174307Z
UID:10009748-1690272900-1690275600@www.saintcatherineschool.org
SUMMARY:Mass - Saint Catherine
DESCRIPTION:
URL:https://www.saintcatherineschool.org/event/mass-saint-catherine-22/2023-07-25
LOCATION:Saint Catherine of Alexandria\, 4532 S. 25th W. Ave.\, Tulsa\, OK\, 74107\, United States
CATEGORIES:Church of Saint Catherine,Saint Catherine School
ORGANIZER;CN="Fr. John Grant":MAILTO:fr.joh.grant@saint-catherine.org
GEO:36.0981774;-96.0216659
X-APPLE-STRUCTURED-LOCATION;VALUE=URI;X-ADDRESS=Saint Catherine of Alexandria 4532 S. 25th W. Ave. Tulsa OK 74107 United States;X-APPLE-RADIUS=500;X-TITLE=4532 S. 25th W. Ave.:geo:-96.0216659,36.0981774
END:VEVENT
BEGIN:VEVENT
DTSTART;TZID=America/Chicago:20230727T081500
DTEND;TZID=America/Chicago:20230727T090000
DTSTAMP:20260425T225559
CREATED:20230524T174441Z
LAST-MODIFIED:20230524T174441Z
UID:10009730-1690445700-1690448400@www.saintcatherineschool.org
SUMMARY:Mass - Saint Catherine
DESCRIPTION:
URL:https://www.saintcatherineschool.org/event/mass-saint-catherine-23/2023-07-27
LOCATION:Saint Catherine of Alexandria\, 4532 S. 25th W. Ave.\, Tulsa\, OK\, 74107\, United States
CATEGORIES:Church of Saint Catherine,Saint Catherine School
ORGANIZER;CN="Fr. John Grant":MAILTO:fr.joh.grant@saint-catherine.org
GEO:36.0981774;-96.0216659
X-APPLE-STRUCTURED-LOCATION;VALUE=URI;X-ADDRESS=Saint Catherine of Alexandria 4532 S. 25th W. Ave. Tulsa OK 74107 United States;X-APPLE-RADIUS=500;X-TITLE=4532 S. 25th W. Ave.:geo:-96.0216659,36.0981774
END:VEVENT
BEGIN:VEVENT
DTSTART;TZID=America/Chicago:20230728T081500
DTEND;TZID=America/Chicago:20230728T090000
DTSTAMP:20260425T225559
CREATED:20230524T174527Z
LAST-MODIFIED:20230524T174553Z
UID:10009714-1690532100-1690534800@www.saintcatherineschool.org
SUMMARY:Mass - Saint Catherine
DESCRIPTION:
URL:https://www.saintcatherineschool.org/event/mass-saint-catherine-24/2023-07-28
LOCATION:Saint Catherine of Alexandria\, 4532 S. 25th W. Ave.\, Tulsa\, OK\, 74107\, United States
CATEGORIES:Church of Saint Catherine,Saint Catherine School
ORGANIZER;CN="Fr. John Grant":MAILTO:fr.joh.grant@saint-catherine.org
GEO:36.0981774;-96.0216659
X-APPLE-STRUCTURED-LOCATION;VALUE=URI;X-ADDRESS=Saint Catherine of Alexandria 4532 S. 25th W. Ave. Tulsa OK 74107 United States;X-APPLE-RADIUS=500;X-TITLE=4532 S. 25th W. Ave.:geo:-96.0216659,36.0981774
END:VEVENT
BEGIN:VEVENT
DTSTART;TZID=America/Chicago:20230729T153000
DTEND;TZID=America/Chicago:20230729T170000
DTSTAMP:20260425T225559
CREATED:20180123T023113Z
LAST-MODIFIED:20201202T201345Z
UID:10005868-1690644600-1690650000@www.saintcatherineschool.org
SUMMARY:Confessions
DESCRIPTION:Fr. Grant will hear confessions from 3:30-5:00.
URL:https://www.saintcatherineschool.org/event/confessions/2023-07-29
LOCATION:Saint Catherine of Alexandria\, 4532 S. 25th W. Ave.\, Tulsa\, OK\, 74107\, United States
CATEGORIES:Church of Saint Catherine,Saint Catherine School
GEO:36.0981774;-96.0216659
X-APPLE-STRUCTURED-LOCATION;VALUE=URI;X-ADDRESS=Saint Catherine of Alexandria 4532 S. 25th W. Ave. Tulsa OK 74107 United States;X-APPLE-RADIUS=500;X-TITLE=4532 S. 25th W. Ave.:geo:-96.0216659,36.0981774
END:VEVENT
BEGIN:VEVENT
DTSTART;TZID=America/Chicago:20230730T073000
DTEND;TZID=America/Chicago:20230730T080000
DTSTAMP:20260425T225559
CREATED:20221129T175640Z
LAST-MODIFIED:20230825T193319Z
UID:10011202-1690702200-1690704000@www.saintcatherineschool.org
SUMMARY:Confessions
DESCRIPTION:Confessions are directly after Mass at 12:00pm.
URL:https://www.saintcatherineschool.org/event/confessions-5/2023-07-30
LOCATION:Saint Catherine of Alexandria\, 4532 S. 25th W. Ave.\, Tulsa\, OK\, 74107\, United States
CATEGORIES:Church of Saint Catherine,Saint Catherine School
ORGANIZER;CN="Fr. John Grant":MAILTO:fr.joh.grant@saint-catherine.org
GEO:36.0981774;-96.0216659
X-APPLE-STRUCTURED-LOCATION;VALUE=URI;X-ADDRESS=Saint Catherine of Alexandria 4532 S. 25th W. Ave. Tulsa OK 74107 United States;X-APPLE-RADIUS=500;X-TITLE=4532 S. 25th W. Ave.:geo:-96.0216659,36.0981774
END:VEVENT
BEGIN:VEVENT
DTSTART;TZID=America/Chicago:20230730T110000
DTEND;TZID=America/Chicago:20230730T140000
DTSTAMP:20260425T225559
CREATED:20221129T193934Z
LAST-MODIFIED:20230825T193505Z
UID:10011252-1690714800-1690725600@www.saintcatherineschool.org
SUMMARY:Tonu Maria Mass
DESCRIPTION:
URL:https://www.saintcatherineschool.org/event/tonu-maria-mass-14/2023-07-30
LOCATION:Saint Catherine of Alexandria\, 4532 S. 25th W. Ave.\, Tulsa\, OK\, 74107\, United States
CATEGORIES:Church of Saint Catherine,Saint Catherine School
ORGANIZER;CN="Fr. Robert Kim":MAILTO:fr.robert.kim@dioceseoftulsa.org
GEO:36.0981774;-96.0216659
X-APPLE-STRUCTURED-LOCATION;VALUE=URI;X-ADDRESS=Saint Catherine of Alexandria 4532 S. 25th W. Ave. Tulsa OK 74107 United States;X-APPLE-RADIUS=500;X-TITLE=4532 S. 25th W. Ave.:geo:-96.0216659,36.0981774
END:VEVENT
BEGIN:VEVENT
DTSTART;VALUE=DATE:20230801
DTEND;VALUE=DATE:20230803
DTSTAMP:20260425T225559
CREATED:20230708T204535Z
LAST-MODIFIED:20230708T210441Z
UID:10009677-1690848000-1691020799@www.saintcatherineschool.org
SUMMARY:Alton Trip - Church Closed
DESCRIPTION:
URL:https://www.saintcatherineschool.org/event/alton-trip-church-closed
LOCATION:Saint Catherine of Alexandria\, 4532 S. 25th W. Ave.\, Tulsa\, OK\, 74107\, United States
CATEGORIES:Church of Saint Catherine,Saint Catherine School
ORGANIZER;CN="Fr. John Grant":MAILTO:fr.joh.grant@saint-catherine.org
GEO:36.0981774;-96.0216659
X-APPLE-STRUCTURED-LOCATION;VALUE=URI;X-ADDRESS=Saint Catherine of Alexandria 4532 S. 25th W. Ave. Tulsa OK 74107 United States;X-APPLE-RADIUS=500;X-TITLE=4532 S. 25th W. Ave.:geo:-96.0216659,36.0981774
END:VEVENT
BEGIN:VEVENT
DTSTART;TZID=America/Chicago:20230801T081500
DTEND;TZID=America/Chicago:20230801T090000
DTSTAMP:20260425T225559
CREATED:20230524T174307Z
LAST-MODIFIED:20230524T174307Z
UID:10009749-1690877700-1690880400@www.saintcatherineschool.org
SUMMARY:Mass - Saint Catherine
DESCRIPTION:
URL:https://www.saintcatherineschool.org/event/mass-saint-catherine-22/2023-08-01
LOCATION:Saint Catherine of Alexandria\, 4532 S. 25th W. Ave.\, Tulsa\, OK\, 74107\, United States
CATEGORIES:Church of Saint Catherine,Saint Catherine School
ORGANIZER;CN="Fr. John Grant":MAILTO:fr.joh.grant@saint-catherine.org
GEO:36.0981774;-96.0216659
X-APPLE-STRUCTURED-LOCATION;VALUE=URI;X-ADDRESS=Saint Catherine of Alexandria 4532 S. 25th W. Ave. Tulsa OK 74107 United States;X-APPLE-RADIUS=500;X-TITLE=4532 S. 25th W. Ave.:geo:-96.0216659,36.0981774
END:VEVENT
BEGIN:VEVENT
DTSTART;TZID=America/Chicago:20230803T081500
DTEND;TZID=America/Chicago:20230803T090000
DTSTAMP:20260425T225559
CREATED:20230524T174441Z
LAST-MODIFIED:20230524T174441Z
UID:10009731-1691050500-1691053200@www.saintcatherineschool.org
SUMMARY:Mass - Saint Catherine
DESCRIPTION:
URL:https://www.saintcatherineschool.org/event/mass-saint-catherine-23/2023-08-03
LOCATION:Saint Catherine of Alexandria\, 4532 S. 25th W. Ave.\, Tulsa\, OK\, 74107\, United States
CATEGORIES:Church of Saint Catherine,Saint Catherine School
ORGANIZER;CN="Fr. John Grant":MAILTO:fr.joh.grant@saint-catherine.org
GEO:36.0981774;-96.0216659
X-APPLE-STRUCTURED-LOCATION;VALUE=URI;X-ADDRESS=Saint Catherine of Alexandria 4532 S. 25th W. Ave. Tulsa OK 74107 United States;X-APPLE-RADIUS=500;X-TITLE=4532 S. 25th W. Ave.:geo:-96.0216659,36.0981774
END:VEVENT
BEGIN:VEVENT
DTSTART;TZID=America/Chicago:20230804T081500
DTEND;TZID=America/Chicago:20230804T090000
DTSTAMP:20260425T225559
CREATED:20230524T174527Z
LAST-MODIFIED:20230524T174553Z
UID:10009715-1691136900-1691139600@www.saintcatherineschool.org
SUMMARY:Mass - Saint Catherine
DESCRIPTION:
URL:https://www.saintcatherineschool.org/event/mass-saint-catherine-24/2023-08-04
LOCATION:Saint Catherine of Alexandria\, 4532 S. 25th W. Ave.\, Tulsa\, OK\, 74107\, United States
CATEGORIES:Church of Saint Catherine,Saint Catherine School
ORGANIZER;CN="Fr. John Grant":MAILTO:fr.joh.grant@saint-catherine.org
GEO:36.0981774;-96.0216659
X-APPLE-STRUCTURED-LOCATION;VALUE=URI;X-ADDRESS=Saint Catherine of Alexandria 4532 S. 25th W. Ave. Tulsa OK 74107 United States;X-APPLE-RADIUS=500;X-TITLE=4532 S. 25th W. Ave.:geo:-96.0216659,36.0981774
END:VEVENT
BEGIN:VEVENT
DTSTART;TZID=America/Chicago:20230805T110000
DTEND;TZID=America/Chicago:20230805T130000
DTSTAMP:20260425T225559
CREATED:20230708T205309Z
LAST-MODIFIED:20230708T205309Z
UID:10009676-1691233200-1691240400@www.saintcatherineschool.org
SUMMARY:Finance Council
DESCRIPTION:
URL:https://www.saintcatherineschool.org/event/finance-council-2
LOCATION:Saint Catherine of Alexandria\, 4532 S. 25th W. Ave.\, Tulsa\, OK\, 74107\, United States
CATEGORIES:Church of Saint Catherine,Saint Catherine School
ORGANIZER;CN="Fr. John Grant":MAILTO:fr.joh.grant@saint-catherine.org
GEO:36.0981774;-96.0216659
X-APPLE-STRUCTURED-LOCATION;VALUE=URI;X-ADDRESS=Saint Catherine of Alexandria 4532 S. 25th W. Ave. Tulsa OK 74107 United States;X-APPLE-RADIUS=500;X-TITLE=4532 S. 25th W. Ave.:geo:-96.0216659,36.0981774
END:VEVENT
BEGIN:VEVENT
DTSTART;TZID=America/Chicago:20230805T153000
DTEND;TZID=America/Chicago:20230805T170000
DTSTAMP:20260425T225559
CREATED:20180123T023113Z
LAST-MODIFIED:20201202T201345Z
UID:10005869-1691249400-1691254800@www.saintcatherineschool.org
SUMMARY:Confessions
DESCRIPTION:Fr. Grant will hear confessions from 3:30-5:00.
URL:https://www.saintcatherineschool.org/event/confessions/2023-08-05
LOCATION:Saint Catherine of Alexandria\, 4532 S. 25th W. Ave.\, Tulsa\, OK\, 74107\, United States
CATEGORIES:Church of Saint Catherine,Saint Catherine School
GEO:36.0981774;-96.0216659
X-APPLE-STRUCTURED-LOCATION;VALUE=URI;X-ADDRESS=Saint Catherine of Alexandria 4532 S. 25th W. Ave. Tulsa OK 74107 United States;X-APPLE-RADIUS=500;X-TITLE=4532 S. 25th W. Ave.:geo:-96.0216659,36.0981774
END:VEVENT
BEGIN:VEVENT
DTSTART;TZID=America/Chicago:20230806T073000
DTEND;TZID=America/Chicago:20230806T080000
DTSTAMP:20260425T225559
CREATED:20221129T175640Z
LAST-MODIFIED:20230825T193319Z
UID:10011203-1691307000-1691308800@www.saintcatherineschool.org
SUMMARY:Confessions
DESCRIPTION:Confessions are directly after Mass at 12:00pm.
URL:https://www.saintcatherineschool.org/event/confessions-5/2023-08-06
LOCATION:Saint Catherine of Alexandria\, 4532 S. 25th W. Ave.\, Tulsa\, OK\, 74107\, United States
CATEGORIES:Church of Saint Catherine,Saint Catherine School
ORGANIZER;CN="Fr. John Grant":MAILTO:fr.joh.grant@saint-catherine.org
GEO:36.0981774;-96.0216659
X-APPLE-STRUCTURED-LOCATION;VALUE=URI;X-ADDRESS=Saint Catherine of Alexandria 4532 S. 25th W. Ave. Tulsa OK 74107 United States;X-APPLE-RADIUS=500;X-TITLE=4532 S. 25th W. Ave.:geo:-96.0216659,36.0981774
END:VEVENT
BEGIN:VEVENT
DTSTART;TZID=America/Chicago:20230806T110000
DTEND;TZID=America/Chicago:20230806T140000
DTSTAMP:20260425T225559
CREATED:20221129T193934Z
LAST-MODIFIED:20230825T193505Z
UID:10011253-1691319600-1691330400@www.saintcatherineschool.org
SUMMARY:Tonu Maria Mass
DESCRIPTION:
URL:https://www.saintcatherineschool.org/event/tonu-maria-mass-14/2023-08-06
LOCATION:Saint Catherine of Alexandria\, 4532 S. 25th W. Ave.\, Tulsa\, OK\, 74107\, United States
CATEGORIES:Church of Saint Catherine,Saint Catherine School
ORGANIZER;CN="Fr. Robert Kim":MAILTO:fr.robert.kim@dioceseoftulsa.org
GEO:36.0981774;-96.0216659
X-APPLE-STRUCTURED-LOCATION;VALUE=URI;X-ADDRESS=Saint Catherine of Alexandria 4532 S. 25th W. Ave. Tulsa OK 74107 United States;X-APPLE-RADIUS=500;X-TITLE=4532 S. 25th W. Ave.:geo:-96.0216659,36.0981774
END:VEVENT
BEGIN:VEVENT
DTSTART;TZID=America/Chicago:20230807T080000
DTEND;TZID=America/Chicago:20230807T150000
DTSTAMP:20260425T225559
CREATED:20230708T205537Z
LAST-MODIFIED:20230708T205537Z
UID:10009675-1691395200-1691420400@www.saintcatherineschool.org
SUMMARY:Teacher In-Service
DESCRIPTION:
URL:https://www.saintcatherineschool.org/event/teacher-in-service-3
LOCATION:Saint Catherine School\, 2515 W. 46th St.\, Tulsa\, OK\, 74107\, United States
CATEGORIES:Church of Saint Catherine,Saint Catherine School
ORGANIZER;CN="Michelle Anthamatten":MAILTO:manthamatten@saint-catherine.org
GEO:36.0981282;-96.0219361
X-APPLE-STRUCTURED-LOCATION;VALUE=URI;X-ADDRESS=Saint Catherine School 2515 W. 46th St. Tulsa OK 74107 United States;X-APPLE-RADIUS=500;X-TITLE=2515 W. 46th St.:geo:-96.0219361,36.0981282
END:VEVENT
BEGIN:VEVENT
DTSTART;TZID=America/Chicago:20230808T080000
DTEND;TZID=America/Chicago:20230808T150000
DTSTAMP:20260425T225559
CREATED:20230708T205621Z
LAST-MODIFIED:20230708T205621Z
UID:10009764-1691481600-1691506800@www.saintcatherineschool.org
SUMMARY:Teacher In-Service
DESCRIPTION:
URL:https://www.saintcatherineschool.org/event/teacher-in-service-4
LOCATION:Saint Catherine School\, 2515 W. 46th St.\, Tulsa\, OK\, 74107\, United States
CATEGORIES:Church of Saint Catherine,Saint Catherine School
ORGANIZER;CN="Michelle Anthamatten":MAILTO:manthamatten@saint-catherine.org
GEO:36.0981282;-96.0219361
X-APPLE-STRUCTURED-LOCATION;VALUE=URI;X-ADDRESS=Saint Catherine School 2515 W. 46th St. Tulsa OK 74107 United States;X-APPLE-RADIUS=500;X-TITLE=2515 W. 46th St.:geo:-96.0219361,36.0981282
END:VEVENT
BEGIN:VEVENT
DTSTART;TZID=America/Chicago:20230808T081500
DTEND;TZID=America/Chicago:20230808T090000
DTSTAMP:20260425T225559
CREATED:20230524T174307Z
LAST-MODIFIED:20230524T174307Z
UID:10009750-1691482500-1691485200@www.saintcatherineschool.org
SUMMARY:Mass - Saint Catherine
DESCRIPTION:
URL:https://www.saintcatherineschool.org/event/mass-saint-catherine-22/2023-08-08
LOCATION:Saint Catherine of Alexandria\, 4532 S. 25th W. Ave.\, Tulsa\, OK\, 74107\, United States
CATEGORIES:Church of Saint Catherine,Saint Catherine School
ORGANIZER;CN="Fr. John Grant":MAILTO:fr.joh.grant@saint-catherine.org
GEO:36.0981774;-96.0216659
X-APPLE-STRUCTURED-LOCATION;VALUE=URI;X-ADDRESS=Saint Catherine of Alexandria 4532 S. 25th W. Ave. Tulsa OK 74107 United States;X-APPLE-RADIUS=500;X-TITLE=4532 S. 25th W. Ave.:geo:-96.0216659,36.0981774
END:VEVENT
BEGIN:VEVENT
DTSTART;TZID=America/Chicago:20230809T080000
DTEND;TZID=America/Chicago:20230809T150000
DTSTAMP:20260425T225559
CREATED:20230708T205702Z
LAST-MODIFIED:20230708T205702Z
UID:10009766-1691568000-1691593200@www.saintcatherineschool.org
SUMMARY:Teacher In-Service
DESCRIPTION:
URL:https://www.saintcatherineschool.org/event/teacher-in-service-5
LOCATION:Saint Catherine School\, 2515 W. 46th St.\, Tulsa\, OK\, 74107\, United States
CATEGORIES:Church of Saint Catherine,Saint Catherine School
ORGANIZER;CN="Michelle Anthamatten":MAILTO:manthamatten@saint-catherine.org
GEO:36.0981282;-96.0219361
X-APPLE-STRUCTURED-LOCATION;VALUE=URI;X-ADDRESS=Saint Catherine School 2515 W. 46th St. Tulsa OK 74107 United States;X-APPLE-RADIUS=500;X-TITLE=2515 W. 46th St.:geo:-96.0219361,36.0981282
END:VEVENT
END:VCALENDAR