BEGIN:VCALENDAR
VERSION:2.0
PRODID:-//Saint Catherine of Alexandria School - ECPv6.15.20//NONSGML v1.0//EN
CALSCALE:GREGORIAN
METHOD:PUBLISH
X-WR-CALNAME:Saint Catherine of Alexandria School
X-ORIGINAL-URL:https://www.saintcatherineschool.org
X-WR-CALDESC:Events for Saint Catherine of Alexandria School
REFRESH-INTERVAL;VALUE=DURATION:PT1H
X-Robots-Tag:noindex
X-PUBLISHED-TTL:PT1H
BEGIN:VTIMEZONE
TZID:America/Chicago
BEGIN:DAYLIGHT
TZOFFSETFROM:-0600
TZOFFSETTO:-0500
TZNAME:CDT
DTSTART:20220313T080000
END:DAYLIGHT
BEGIN:STANDARD
TZOFFSETFROM:-0500
TZOFFSETTO:-0600
TZNAME:CST
DTSTART:20221106T070000
END:STANDARD
BEGIN:DAYLIGHT
TZOFFSETFROM:-0600
TZOFFSETTO:-0500
TZNAME:CDT
DTSTART:20230312T080000
END:DAYLIGHT
BEGIN:STANDARD
TZOFFSETFROM:-0500
TZOFFSETTO:-0600
TZNAME:CST
DTSTART:20231105T070000
END:STANDARD
BEGIN:DAYLIGHT
TZOFFSETFROM:-0600
TZOFFSETTO:-0500
TZNAME:CDT
DTSTART:20240310T080000
END:DAYLIGHT
BEGIN:STANDARD
TZOFFSETFROM:-0500
TZOFFSETTO:-0600
TZNAME:CST
DTSTART:20241103T070000
END:STANDARD
END:VTIMEZONE
BEGIN:VEVENT
DTSTART;TZID=America/Chicago:20231002T180000
DTEND;TZID=America/Chicago:20231002T193000
DTSTAMP:20260425T230104
CREATED:20230928T161445Z
LAST-MODIFIED:20230928T161445Z
UID:10011311-1696269600-1696275000@www.saintcatherineschool.org
SUMMARY:High School Information Night
DESCRIPTION:Bishop Kelley and Cascia Hall Representatives will be here to talk our parents through the process for applying to their respective school.  There will also be information about Vouchers at this meeting.  You all will meet in the activity center.
URL:https://www.saintcatherineschool.org/event/high-school-information-night
LOCATION:St. Catherine Activity Center\, 2515 West 46th Street\, Tulsa\, 74107-6629\, United States
CATEGORIES:Church of Saint Catherine,Saint Catherine School
ORGANIZER;CN="Sam Naab":MAILTO:snaab@saint-catherine.org
GEO:36.0981282;-96.0219361
X-APPLE-STRUCTURED-LOCATION;VALUE=URI;X-ADDRESS=St. Catherine Activity Center 2515 West 46th Street Tulsa 74107-6629 United States;X-APPLE-RADIUS=500;X-TITLE=2515 West 46th Street:geo:-96.0219361,36.0981282
END:VEVENT
BEGIN:VEVENT
DTSTART;TZID=America/Chicago:20231003T081500
DTEND;TZID=America/Chicago:20231003T090000
DTSTAMP:20260425T230104
CREATED:20230718T180123Z
LAST-MODIFIED:20230718T183248Z
UID:10009918-1696320900-1696323600@www.saintcatherineschool.org
SUMMARY:Mass - Saint Catherine
DESCRIPTION:This Mass is said in English.
URL:https://www.saintcatherineschool.org/event/mass-saint-catherine-25/2023-10-03
LOCATION:Saint Catherine of Alexandria\, 4532 S. 25th W. Ave.\, Tulsa\, OK\, 74107\, United States
CATEGORIES:Church of Saint Catherine,Saint Catherine School
ORGANIZER;CN="Fr. John Grant":MAILTO:fr.joh.grant@saint-catherine.org
GEO:36.0981774;-96.0216659
X-APPLE-STRUCTURED-LOCATION;VALUE=URI;X-ADDRESS=Saint Catherine of Alexandria 4532 S. 25th W. Ave. Tulsa OK 74107 United States;X-APPLE-RADIUS=500;X-TITLE=4532 S. 25th W. Ave.:geo:-96.0216659,36.0981774
END:VEVENT
BEGIN:VEVENT
DTSTART;TZID=America/Chicago:20231003T151500
DTEND;TZID=America/Chicago:20231003T163000
DTSTAMP:20260425T230104
CREATED:20230928T161714Z
LAST-MODIFIED:20230928T161714Z
UID:10011312-1696346100-1696350600@www.saintcatherineschool.org
SUMMARY:7th Grade Volleyball Practice
DESCRIPTION:
URL:https://www.saintcatherineschool.org/event/7th-grade-volleyball-practice-8/2023-10-03
LOCATION:Saint Catherine School\, 2515 W. 46th St.\, Tulsa\, OK\, 74107\, United States
CATEGORIES:Church of Saint Catherine,Saint Catherine School
ORGANIZER;CN="Caroline O'Connor":MAILTO:coconnor@saint-catherine.org
GEO:36.0981282;-96.0219361
X-APPLE-STRUCTURED-LOCATION;VALUE=URI;X-ADDRESS=Saint Catherine School 2515 W. 46th St. Tulsa OK 74107 United States;X-APPLE-RADIUS=500;X-TITLE=2515 W. 46th St.:geo:-96.0219361,36.0981282
END:VEVENT
BEGIN:VEVENT
DTSTART;TZID=America/Chicago:20231004T080000
DTEND;TZID=America/Chicago:20231004T093000
DTSTAMP:20260425T230104
CREATED:20230928T161851Z
LAST-MODIFIED:20230928T161851Z
UID:10011315-1696406400-1696411800@www.saintcatherineschool.org
SUMMARY:Mass - Tonu Maria
DESCRIPTION:This Mass is spoken in Zomi.
URL:https://www.saintcatherineschool.org/event/mass-tonu-maria-13/2023-10-04
LOCATION:Saint Catherine of Alexandria\, 4532 S. 25th W. Ave.\, Tulsa\, OK\, 74107\, United States
CATEGORIES:Church of Saint Catherine,Saint Catherine School
ORGANIZER;CN="Fr. Robert Kim":MAILTO:fr.robert.kim@dioceseoftulsa.org
GEO:36.0981774;-96.0216659
X-APPLE-STRUCTURED-LOCATION;VALUE=URI;X-ADDRESS=Saint Catherine of Alexandria 4532 S. 25th W. Ave. Tulsa OK 74107 United States;X-APPLE-RADIUS=500;X-TITLE=4532 S. 25th W. Ave.:geo:-96.0216659,36.0981774
END:VEVENT
BEGIN:VEVENT
DTSTART;TZID=America/Chicago:20231004T153000
DTEND;TZID=America/Chicago:20231004T163000
DTSTAMP:20260425T230104
CREATED:20230804T201517Z
LAST-MODIFIED:20230804T201517Z
UID:10010303-1696433400-1696437000@www.saintcatherineschool.org
SUMMARY:Little Flowers
DESCRIPTION:
URL:https://www.saintcatherineschool.org/event/little-flowers-50
LOCATION:Saint Catherine School\, 2515 W. 46th St.\, Tulsa\, OK\, 74107\, United States
CATEGORIES:Church of Saint Catherine,Saint Catherine School
GEO:36.0981282;-96.0219361
X-APPLE-STRUCTURED-LOCATION;VALUE=URI;X-ADDRESS=Saint Catherine School 2515 W. 46th St. Tulsa OK 74107 United States;X-APPLE-RADIUS=500;X-TITLE=2515 W. 46th St.:geo:-96.0219361,36.0981282
END:VEVENT
BEGIN:VEVENT
DTSTART;TZID=America/Chicago:20231004T180000
DTEND;TZID=America/Chicago:20231004T193000
DTSTAMP:20260425T230104
CREATED:20230928T175551Z
LAST-MODIFIED:20230928T175551Z
UID:10011327-1696442400-1696447800@www.saintcatherineschool.org
SUMMARY:Saint Francis of Assisi Trust Mass
DESCRIPTION:
URL:https://www.saintcatherineschool.org/event/saint-francis-of-assisi-trust-mass
LOCATION:Holy Family Cathedral\, 820 S Boulder Ave\, Tulsa\, OK\, 74119\, United States
CATEGORIES:Church of Saint Catherine,Saint Catherine School
ORGANIZER;CN="Michelle Anthamatten":MAILTO:manthamatten@saint-catherine.org
GEO:36.1479738;-95.990032
X-APPLE-STRUCTURED-LOCATION;VALUE=URI;X-ADDRESS=Holy Family Cathedral 820 S Boulder Ave Tulsa OK 74119 United States;X-APPLE-RADIUS=500;X-TITLE=820 S Boulder Ave:geo:-95.990032,36.1479738
END:VEVENT
BEGIN:VEVENT
DTSTART;TZID=America/Chicago:20231005T081500
DTEND;TZID=America/Chicago:20231005T090000
DTSTAMP:20260425T230104
CREATED:20230718T180334Z
LAST-MODIFIED:20230718T183152Z
UID:10009986-1696493700-1696496400@www.saintcatherineschool.org
SUMMARY:Mass - Saint Catherine
DESCRIPTION:This Mass is said in English.
URL:https://www.saintcatherineschool.org/event/mass-saint-catherine-26/2023-10-05
LOCATION:Saint Catherine of Alexandria\, 4532 S. 25th W. Ave.\, Tulsa\, OK\, 74107\, United States
CATEGORIES:Church of Saint Catherine,Saint Catherine School
ORGANIZER;CN="Fr. John Grant":MAILTO:fr.joh.grant@saint-catherine.org
GEO:36.0981774;-96.0216659
X-APPLE-STRUCTURED-LOCATION;VALUE=URI;X-ADDRESS=Saint Catherine of Alexandria 4532 S. 25th W. Ave. Tulsa OK 74107 United States;X-APPLE-RADIUS=500;X-TITLE=4532 S. 25th W. Ave.:geo:-96.0216659,36.0981774
END:VEVENT
BEGIN:VEVENT
DTSTART;TZID=America/Chicago:20231005T190000
DTEND;TZID=America/Chicago:20231005T200000
DTSTAMP:20260425T230104
CREATED:20230928T180725Z
LAST-MODIFIED:20230928T180725Z
UID:10011328-1696532400-1696536000@www.saintcatherineschool.org
SUMMARY:7th Grade Volleyball Game
DESCRIPTION:
URL:https://www.saintcatherineschool.org/event/7th-grade-volleyball-game-11
LOCATION:Monte Cassino\, 2206 S. Lewis Ave.\, Tulsa\, OK\, 74114\, United States
CATEGORIES:Church of Saint Catherine,Saint Catherine School
ORGANIZER;CN="Caroline O'Connor":MAILTO:coconnor@saint-catherine.org
GEO:36.1314173;-95.9590244
X-APPLE-STRUCTURED-LOCATION;VALUE=URI;X-ADDRESS=Monte Cassino 2206 S. Lewis Ave. Tulsa OK 74114 United States;X-APPLE-RADIUS=500;X-TITLE=2206 S. Lewis Ave.:geo:-95.9590244,36.1314173
END:VEVENT
BEGIN:VEVENT
DTSTART;TZID=America/Chicago:20231005T200000
DTEND;TZID=America/Chicago:20231005T210000
DTSTAMP:20260425T230104
CREATED:20230928T180759Z
LAST-MODIFIED:20230928T180759Z
UID:10011329-1696536000-1696539600@www.saintcatherineschool.org
SUMMARY:8th Grade Volleyball Game
DESCRIPTION:
URL:https://www.saintcatherineschool.org/event/8th-grade-volleyball-game-7
LOCATION:Monte Cassino\, 2206 S. Lewis Ave.\, Tulsa\, OK\, 74114\, United States
CATEGORIES:Church of Saint Catherine,Saint Catherine School
ORGANIZER;CN="Caroline O'Connor":MAILTO:coconnor@saint-catherine.org
GEO:36.1314173;-95.9590244
X-APPLE-STRUCTURED-LOCATION;VALUE=URI;X-ADDRESS=Monte Cassino 2206 S. Lewis Ave. Tulsa OK 74114 United States;X-APPLE-RADIUS=500;X-TITLE=2206 S. Lewis Ave.:geo:-95.9590244,36.1314173
END:VEVENT
BEGIN:VEVENT
DTSTART;TZID=America/Chicago:20231006T081500
DTEND;TZID=America/Chicago:20231006T090000
DTSTAMP:20260425T230104
CREATED:20230718T180507Z
LAST-MODIFIED:20230718T183057Z
UID:10010056-1696580100-1696582800@www.saintcatherineschool.org
SUMMARY:Mass - Saint Catherine
DESCRIPTION:This Mass is said in English.
URL:https://www.saintcatherineschool.org/event/mass-saint-catherine-27/2023-10-06
LOCATION:OK
CATEGORIES:Church of Saint Catherine,Saint Catherine School
END:VEVENT
BEGIN:VEVENT
DTSTART;TZID=America/Chicago:20231006T140000
DTEND;TZID=America/Chicago:20231006T150000
DTSTAMP:20260425T230104
CREATED:20230708T234201Z
LAST-MODIFIED:20230708T234201Z
UID:10009779-1696600800-1696604400@www.saintcatherineschool.org
SUMMARY:Adoration
DESCRIPTION:
URL:https://www.saintcatherineschool.org/event/adoration-14
LOCATION:Saint Catherine of Alexandria\, 4532 S. 25th W. Ave.\, Tulsa\, OK\, 74107\, United States
CATEGORIES:Church of Saint Catherine,Saint Catherine School
ORGANIZER;CN="Fr. John Grant":MAILTO:fr.joh.grant@saint-catherine.org
GEO:36.0981774;-96.0216659
X-APPLE-STRUCTURED-LOCATION;VALUE=URI;X-ADDRESS=Saint Catherine of Alexandria 4532 S. 25th W. Ave. Tulsa OK 74107 United States;X-APPLE-RADIUS=500;X-TITLE=4532 S. 25th W. Ave.:geo:-96.0216659,36.0981774
END:VEVENT
BEGIN:VEVENT
DTSTART;TZID=America/Chicago:20231006T153000
DTEND;TZID=America/Chicago:20231006T163000
DTSTAMP:20260425T230104
CREATED:20230928T180852Z
LAST-MODIFIED:20230928T180852Z
UID:10011330-1696606200-1696609800@www.saintcatherineschool.org
SUMMARY:1st-4th Soccer Practice
DESCRIPTION:
URL:https://www.saintcatherineschool.org/event/1st-4th-soccer-practice
LOCATION:Saint Catherine School\, 2515 W. 46th St.\, Tulsa\, OK\, 74107\, United States
CATEGORIES:Church of Saint Catherine,Saint Catherine School
ORGANIZER;CN="Sam Naab":MAILTO:snaab@saint-catherine.org
GEO:36.0981282;-96.0219361
X-APPLE-STRUCTURED-LOCATION;VALUE=URI;X-ADDRESS=Saint Catherine School 2515 W. 46th St. Tulsa OK 74107 United States;X-APPLE-RADIUS=500;X-TITLE=2515 W. 46th St.:geo:-96.0219361,36.0981282
END:VEVENT
BEGIN:VEVENT
DTSTART;TZID=America/Chicago:20231007T100000
DTEND;TZID=America/Chicago:20231007T113000
DTSTAMP:20260425T230104
CREATED:20230907T174553Z
LAST-MODIFIED:20230928T161059Z
UID:10011308-1696672800-1696678200@www.saintcatherineschool.org
SUMMARY:1st-4th Grade Soccer Game
DESCRIPTION:
URL:https://www.saintcatherineschool.org/event/1s-4th-grade-soccer-game/2023-10-07
LOCATION:St. Augustine\, 1720 E Apache St\, Tulsa\, OK\, 74110\, United States
CATEGORIES:Church of Saint Catherine,Saint Catherine School
ORGANIZER;CN="Sam Naab":MAILTO:snaab@saint-catherine.org
GEO:36.1911097;-95.965663
X-APPLE-STRUCTURED-LOCATION;VALUE=URI;X-ADDRESS=St. Augustine 1720 E Apache St Tulsa OK 74110 United States;X-APPLE-RADIUS=500;X-TITLE=1720 E Apache St:geo:-95.965663,36.1911097
END:VEVENT
BEGIN:VEVENT
DTSTART;TZID=America/Chicago:20231007T110000
DTEND;TZID=America/Chicago:20231007T123000
DTSTAMP:20260425T230105
CREATED:20230928T181007Z
LAST-MODIFIED:20230928T181007Z
UID:10011331-1696676400-1696681800@www.saintcatherineschool.org
SUMMARY:Finance Council Meeting
DESCRIPTION:
URL:https://www.saintcatherineschool.org/event/finance-council-meeting-13
LOCATION:Saint Catherine of Alexandria\, 4532 S. 25th W. Ave.\, Tulsa\, OK\, 74107\, United States
CATEGORIES:Church of Saint Catherine,Saint Catherine School
ORGANIZER;CN="Fr. John Grant":MAILTO:fr.joh.grant@saint-catherine.org
GEO:36.0981774;-96.0216659
X-APPLE-STRUCTURED-LOCATION;VALUE=URI;X-ADDRESS=Saint Catherine of Alexandria 4532 S. 25th W. Ave. Tulsa OK 74107 United States;X-APPLE-RADIUS=500;X-TITLE=4532 S. 25th W. Ave.:geo:-96.0216659,36.0981774
END:VEVENT
BEGIN:VEVENT
DTSTART;TZID=America/Chicago:20231007T110000
DTEND;TZID=America/Chicago:20231007T130000
DTSTAMP:20260425T230105
CREATED:20230708T235034Z
LAST-MODIFIED:20230708T235034Z
UID:10009781-1696676400-1696683600@www.saintcatherineschool.org
SUMMARY:Finance Meeting
DESCRIPTION:
URL:https://www.saintcatherineschool.org/event/finance-meeting
LOCATION:Saint Catherine of Alexandria\, 4532 S. 25th W. Ave.\, Tulsa\, OK\, 74107\, United States
CATEGORIES:Church of Saint Catherine,Saint Catherine School
ORGANIZER;CN="Fr. John Grant":MAILTO:fr.joh.grant@saint-catherine.org
GEO:36.0981774;-96.0216659
X-APPLE-STRUCTURED-LOCATION;VALUE=URI;X-ADDRESS=Saint Catherine of Alexandria 4532 S. 25th W. Ave. Tulsa OK 74107 United States;X-APPLE-RADIUS=500;X-TITLE=4532 S. 25th W. Ave.:geo:-96.0216659,36.0981774
END:VEVENT
BEGIN:VEVENT
DTSTART;TZID=America/Chicago:20231007T153000
DTEND;TZID=America/Chicago:20231007T170000
DTSTAMP:20260425T230105
CREATED:20180123T023113Z
LAST-MODIFIED:20201202T201345Z
UID:10005878-1696692600-1696698000@www.saintcatherineschool.org
SUMMARY:Confessions
DESCRIPTION:Fr. Grant will hear confessions from 3:30-5:00.
URL:https://www.saintcatherineschool.org/event/confessions/2023-10-07
LOCATION:Saint Catherine of Alexandria\, 4532 S. 25th W. Ave.\, Tulsa\, OK\, 74107\, United States
CATEGORIES:Church of Saint Catherine,Saint Catherine School
GEO:36.0981774;-96.0216659
X-APPLE-STRUCTURED-LOCATION;VALUE=URI;X-ADDRESS=Saint Catherine of Alexandria 4532 S. 25th W. Ave. Tulsa OK 74107 United States;X-APPLE-RADIUS=500;X-TITLE=4532 S. 25th W. Ave.:geo:-96.0216659,36.0981774
END:VEVENT
BEGIN:VEVENT
DTSTART;TZID=America/Chicago:20231008T073000
DTEND;TZID=America/Chicago:20231008T080000
DTSTAMP:20260425T230105
CREATED:20221129T175640Z
LAST-MODIFIED:20230825T193319Z
UID:10011212-1696750200-1696752000@www.saintcatherineschool.org
SUMMARY:Confessions
DESCRIPTION:Confessions are directly after Mass at 12:00pm.
URL:https://www.saintcatherineschool.org/event/confessions-5/2023-10-08
LOCATION:Saint Catherine of Alexandria\, 4532 S. 25th W. Ave.\, Tulsa\, OK\, 74107\, United States
CATEGORIES:Church of Saint Catherine,Saint Catherine School
ORGANIZER;CN="Fr. John Grant":MAILTO:fr.joh.grant@saint-catherine.org
GEO:36.0981774;-96.0216659
X-APPLE-STRUCTURED-LOCATION;VALUE=URI;X-ADDRESS=Saint Catherine of Alexandria 4532 S. 25th W. Ave. Tulsa OK 74107 United States;X-APPLE-RADIUS=500;X-TITLE=4532 S. 25th W. Ave.:geo:-96.0216659,36.0981774
END:VEVENT
BEGIN:VEVENT
DTSTART;TZID=America/Chicago:20231008T110000
DTEND;TZID=America/Chicago:20231008T140000
DTSTAMP:20260425T230105
CREATED:20221129T193934Z
LAST-MODIFIED:20230825T193505Z
UID:10011262-1696762800-1696773600@www.saintcatherineschool.org
SUMMARY:Tonu Maria Mass
DESCRIPTION:
URL:https://www.saintcatherineschool.org/event/tonu-maria-mass-14/2023-10-08
LOCATION:Saint Catherine of Alexandria\, 4532 S. 25th W. Ave.\, Tulsa\, OK\, 74107\, United States
CATEGORIES:Church of Saint Catherine,Saint Catherine School
ORGANIZER;CN="Fr. Robert Kim":MAILTO:fr.robert.kim@dioceseoftulsa.org
GEO:36.0981774;-96.0216659
X-APPLE-STRUCTURED-LOCATION;VALUE=URI;X-ADDRESS=Saint Catherine of Alexandria 4532 S. 25th W. Ave. Tulsa OK 74107 United States;X-APPLE-RADIUS=500;X-TITLE=4532 S. 25th W. Ave.:geo:-96.0216659,36.0981774
END:VEVENT
BEGIN:VEVENT
DTSTART;VALUE=DATE:20231009
DTEND;VALUE=DATE:20231010
DTSTAMP:20260425T230105
CREATED:20230928T181508Z
LAST-MODIFIED:20230928T181508Z
UID:10011334-1696809600-1696895999@www.saintcatherineschool.org
SUMMARY:Uniform Exchange
DESCRIPTION:We will have a uniform exchange at the school.  When the kids come back from Fall Break\, they may no longer wear shorts. \nDates are: \nMonday\, October 9th – 2-3:30pm \nTuesday\, October 10th 2-3:30pm \nWednesday\, October 11th – 9-10:30am
URL:https://www.saintcatherineschool.org/event/uniform-exchange/2023-10-09
LOCATION:Saint Catherine School\, 2515 W. 46th St.\, Tulsa\, OK\, 74107\, United States
CATEGORIES:Church of Saint Catherine,Saint Catherine School
ORGANIZER;CN="Suzy Hayes":MAILTO:suzyhayes@saint-catherine.org
GEO:36.0981282;-96.0219361
X-APPLE-STRUCTURED-LOCATION;VALUE=URI;X-ADDRESS=Saint Catherine School 2515 W. 46th St. Tulsa OK 74107 United States;X-APPLE-RADIUS=500;X-TITLE=2515 W. 46th St.:geo:-96.0219361,36.0981282
END:VEVENT
BEGIN:VEVENT
DTSTART;TZID=America/Chicago:20231009T080000
DTEND;TZID=America/Chicago:20231009T100000
DTSTAMP:20260425T230105
CREATED:20230708T235135Z
LAST-MODIFIED:20230708T235135Z
UID:10009782-1696838400-1696845600@www.saintcatherineschool.org
SUMMARY:Picture Retake
DESCRIPTION:
URL:https://www.saintcatherineschool.org/event/picture-retake-2
LOCATION:Saint Catherine School\, 2515 W. 46th St.\, Tulsa\, OK\, 74107\, United States
CATEGORIES:Church of Saint Catherine,Saint Catherine School
ORGANIZER;CN="Michelle Anthamatten":MAILTO:manthamatten@saint-catherine.org
GEO:36.0981282;-96.0219361
X-APPLE-STRUCTURED-LOCATION;VALUE=URI;X-ADDRESS=Saint Catherine School 2515 W. 46th St. Tulsa OK 74107 United States;X-APPLE-RADIUS=500;X-TITLE=2515 W. 46th St.:geo:-96.0219361,36.0981282
END:VEVENT
BEGIN:VEVENT
DTSTART;TZID=America/Chicago:20231009T200000
DTEND;TZID=America/Chicago:20231009T210000
DTSTAMP:20260425T230105
CREATED:20230928T181100Z
LAST-MODIFIED:20230928T181100Z
UID:10011332-1696881600-1696885200@www.saintcatherineschool.org
SUMMARY:7th Grade Volleyball Game
DESCRIPTION:
URL:https://www.saintcatherineschool.org/event/7th-grade-volleyball-game-12
LOCATION:Marquette\, 1519 S Quincy Ave\, Tulsa\, OK\, 74120\, United States
CATEGORIES:Church of Saint Catherine,Saint Catherine School
ORGANIZER;CN="Caroline O'Connor":MAILTO:coconnor@saint-catherine.org
GEO:36.1401305;-95.9723673
X-APPLE-STRUCTURED-LOCATION;VALUE=URI;X-ADDRESS=Marquette 1519 S Quincy Ave Tulsa OK 74120 United States;X-APPLE-RADIUS=500;X-TITLE=1519 S Quincy Ave:geo:-95.9723673,36.1401305
END:VEVENT
BEGIN:VEVENT
DTSTART;TZID=America/Chicago:20231009T200000
DTEND;TZID=America/Chicago:20231009T210000
DTSTAMP:20260425T230105
CREATED:20230928T181135Z
LAST-MODIFIED:20230928T181135Z
UID:10011333-1696881600-1696885200@www.saintcatherineschool.org
SUMMARY:8th Grade Volleyball Game
DESCRIPTION:
URL:https://www.saintcatherineschool.org/event/8th-grade-volleyball-game-8
LOCATION:Monte Cassino\, 2206 S. Lewis Ave.\, Tulsa\, OK\, 74114\, United States
CATEGORIES:Church of Saint Catherine,Saint Catherine School
ORGANIZER;CN="Kayley Anthamatten":MAILTO:kayleya@saint-catherine.org
GEO:36.1314173;-95.9590244
X-APPLE-STRUCTURED-LOCATION;VALUE=URI;X-ADDRESS=Monte Cassino 2206 S. Lewis Ave. Tulsa OK 74114 United States;X-APPLE-RADIUS=500;X-TITLE=2206 S. Lewis Ave.:geo:-95.9590244,36.1314173
END:VEVENT
BEGIN:VEVENT
DTSTART;VALUE=DATE:20231010
DTEND;VALUE=DATE:20231011
DTSTAMP:20260425T230105
CREATED:20230928T181508Z
LAST-MODIFIED:20230928T181508Z
UID:10011335-1696896000-1696982399@www.saintcatherineschool.org
SUMMARY:Uniform Exchange
DESCRIPTION:We will have a uniform exchange at the school.  When the kids come back from Fall Break\, they may no longer wear shorts. \nDates are: \nMonday\, October 9th – 2-3:30pm \nTuesday\, October 10th 2-3:30pm \nWednesday\, October 11th – 9-10:30am
URL:https://www.saintcatherineschool.org/event/uniform-exchange/2023-10-10
LOCATION:Saint Catherine School\, 2515 W. 46th St.\, Tulsa\, OK\, 74107\, United States
CATEGORIES:Church of Saint Catherine,Saint Catherine School
ORGANIZER;CN="Suzy Hayes":MAILTO:suzyhayes@saint-catherine.org
GEO:36.0981282;-96.0219361
X-APPLE-STRUCTURED-LOCATION;VALUE=URI;X-ADDRESS=Saint Catherine School 2515 W. 46th St. Tulsa OK 74107 United States;X-APPLE-RADIUS=500;X-TITLE=2515 W. 46th St.:geo:-96.0219361,36.0981282
END:VEVENT
BEGIN:VEVENT
DTSTART;TZID=America/Chicago:20231010T081500
DTEND;TZID=America/Chicago:20231010T090000
DTSTAMP:20260425T230105
CREATED:20230718T180123Z
LAST-MODIFIED:20230718T183248Z
UID:10009919-1696925700-1696928400@www.saintcatherineschool.org
SUMMARY:Mass - Saint Catherine
DESCRIPTION:This Mass is said in English.
URL:https://www.saintcatherineschool.org/event/mass-saint-catherine-25/2023-10-10
LOCATION:Saint Catherine of Alexandria\, 4532 S. 25th W. Ave.\, Tulsa\, OK\, 74107\, United States
CATEGORIES:Church of Saint Catherine,Saint Catherine School
ORGANIZER;CN="Fr. John Grant":MAILTO:fr.joh.grant@saint-catherine.org
GEO:36.0981774;-96.0216659
X-APPLE-STRUCTURED-LOCATION;VALUE=URI;X-ADDRESS=Saint Catherine of Alexandria 4532 S. 25th W. Ave. Tulsa OK 74107 United States;X-APPLE-RADIUS=500;X-TITLE=4532 S. 25th W. Ave.:geo:-96.0216659,36.0981774
END:VEVENT
BEGIN:VEVENT
DTSTART;TZID=America/Chicago:20231010T151500
DTEND;TZID=America/Chicago:20231010T163000
DTSTAMP:20260425T230105
CREATED:20230928T161714Z
LAST-MODIFIED:20230928T161714Z
UID:10011313-1696950900-1696955400@www.saintcatherineschool.org
SUMMARY:7th Grade Volleyball Practice
DESCRIPTION:
URL:https://www.saintcatherineschool.org/event/7th-grade-volleyball-practice-8/2023-10-10
LOCATION:Saint Catherine School\, 2515 W. 46th St.\, Tulsa\, OK\, 74107\, United States
CATEGORIES:Church of Saint Catherine,Saint Catherine School
ORGANIZER;CN="Caroline O'Connor":MAILTO:coconnor@saint-catherine.org
GEO:36.0981282;-96.0219361
X-APPLE-STRUCTURED-LOCATION;VALUE=URI;X-ADDRESS=Saint Catherine School 2515 W. 46th St. Tulsa OK 74107 United States;X-APPLE-RADIUS=500;X-TITLE=2515 W. 46th St.:geo:-96.0219361,36.0981282
END:VEVENT
BEGIN:VEVENT
DTSTART;VALUE=DATE:20231011
DTEND;VALUE=DATE:20231012
DTSTAMP:20260425T230105
CREATED:20230928T181508Z
LAST-MODIFIED:20230928T181508Z
UID:10011336-1696982400-1697068799@www.saintcatherineschool.org
SUMMARY:Uniform Exchange
DESCRIPTION:We will have a uniform exchange at the school.  When the kids come back from Fall Break\, they may no longer wear shorts. \nDates are: \nMonday\, October 9th – 2-3:30pm \nTuesday\, October 10th 2-3:30pm \nWednesday\, October 11th – 9-10:30am
URL:https://www.saintcatherineschool.org/event/uniform-exchange/2023-10-11
LOCATION:Saint Catherine School\, 2515 W. 46th St.\, Tulsa\, OK\, 74107\, United States
CATEGORIES:Church of Saint Catherine,Saint Catherine School
ORGANIZER;CN="Suzy Hayes":MAILTO:suzyhayes@saint-catherine.org
GEO:36.0981282;-96.0219361
X-APPLE-STRUCTURED-LOCATION;VALUE=URI;X-ADDRESS=Saint Catherine School 2515 W. 46th St. Tulsa OK 74107 United States;X-APPLE-RADIUS=500;X-TITLE=2515 W. 46th St.:geo:-96.0219361,36.0981282
END:VEVENT
BEGIN:VEVENT
DTSTART;TZID=America/Chicago:20231011T080000
DTEND;TZID=America/Chicago:20231011T093000
DTSTAMP:20260425T230105
CREATED:20230928T161851Z
LAST-MODIFIED:20230928T161851Z
UID:10011316-1697011200-1697016600@www.saintcatherineschool.org
SUMMARY:Mass - Tonu Maria
DESCRIPTION:This Mass is spoken in Zomi.
URL:https://www.saintcatherineschool.org/event/mass-tonu-maria-13/2023-10-11
LOCATION:Saint Catherine of Alexandria\, 4532 S. 25th W. Ave.\, Tulsa\, OK\, 74107\, United States
CATEGORIES:Church of Saint Catherine,Saint Catherine School
ORGANIZER;CN="Fr. Robert Kim":MAILTO:fr.robert.kim@dioceseoftulsa.org
GEO:36.0981774;-96.0216659
X-APPLE-STRUCTURED-LOCATION;VALUE=URI;X-ADDRESS=Saint Catherine of Alexandria 4532 S. 25th W. Ave. Tulsa OK 74107 United States;X-APPLE-RADIUS=500;X-TITLE=4532 S. 25th W. Ave.:geo:-96.0216659,36.0981774
END:VEVENT
BEGIN:VEVENT
DTSTART;TZID=America/Chicago:20231011T080000
DTEND;TZID=America/Chicago:20231011T151500
DTSTAMP:20260425T230105
CREATED:20230708T235223Z
LAST-MODIFIED:20230708T235223Z
UID:10009789-1697011200-1697037300@www.saintcatherineschool.org
SUMMARY:End of First Quarter
DESCRIPTION:
URL:https://www.saintcatherineschool.org/event/end-of-first-quarter-2
LOCATION:Saint Catherine School\, 2515 W. 46th St.\, Tulsa\, OK\, 74107\, United States
CATEGORIES:Church of Saint Catherine,Saint Catherine School
ORGANIZER;CN="Michelle Anthamatten":MAILTO:manthamatten@saint-catherine.org
GEO:36.0981282;-96.0219361
X-APPLE-STRUCTURED-LOCATION;VALUE=URI;X-ADDRESS=Saint Catherine School 2515 W. 46th St. Tulsa OK 74107 United States;X-APPLE-RADIUS=500;X-TITLE=2515 W. 46th St.:geo:-96.0219361,36.0981282
END:VEVENT
BEGIN:VEVENT
DTSTART;TZID=America/Chicago:20231011T080000
DTEND;TZID=America/Chicago:20231011T151500
DTSTAMP:20260425T230105
CREATED:20230708T235306Z
LAST-MODIFIED:20230708T235306Z
UID:10009788-1697011200-1697037300@www.saintcatherineschool.org
SUMMARY:8th Grade to go to Go Life
DESCRIPTION:
URL:https://www.saintcatherineschool.org/event/8th-grade-to-go-to-go-life
LOCATION:Saint Catherine School\, 2515 W. 46th St.\, Tulsa\, OK\, 74107\, United States
CATEGORIES:Church of Saint Catherine,Saint Catherine School
ORGANIZER;CN="Fr. John Grant":MAILTO:fr.joh.grant@saint-catherine.org
GEO:36.0981282;-96.0219361
X-APPLE-STRUCTURED-LOCATION;VALUE=URI;X-ADDRESS=Saint Catherine School 2515 W. 46th St. Tulsa OK 74107 United States;X-APPLE-RADIUS=500;X-TITLE=2515 W. 46th St.:geo:-96.0219361,36.0981282
END:VEVENT
BEGIN:VEVENT
DTSTART;TZID=America/Chicago:20231012T080000
DTEND;TZID=America/Chicago:20231012T140000
DTSTAMP:20260425T230105
CREATED:20230708T235359Z
LAST-MODIFIED:20230928T160843Z
UID:10009762-1697097600-1697119200@www.saintcatherineschool.org
SUMMARY:NO School - Teacher In-Service at Bishop Kelley
DESCRIPTION:
URL:https://www.saintcatherineschool.org/event/teacher-in-service-at-bishop-kelley
LOCATION:Bisoph Kelley\, 3905 S Hudson Ave\, Tulsa\, 74135\, United States
CATEGORIES:Church of Saint Catherine,Saint Catherine School
ORGANIZER;CN="Michelle Anthamatten":MAILTO:manthamatten@saint-catherine.org
GEO:36.1065774;-95.9132567
X-APPLE-STRUCTURED-LOCATION;VALUE=URI;X-ADDRESS=Bisoph Kelley 3905 S Hudson Ave Tulsa 74135 United States;X-APPLE-RADIUS=500;X-TITLE=3905 S Hudson Ave:geo:-95.9132567,36.1065774
END:VEVENT
END:VCALENDAR