BEGIN:VCALENDAR
VERSION:2.0
PRODID:-//Saint Catherine of Alexandria School - ECPv6.15.20//NONSGML v1.0//EN
CALSCALE:GREGORIAN
METHOD:PUBLISH
X-WR-CALNAME:Saint Catherine of Alexandria School
X-ORIGINAL-URL:https://www.saintcatherineschool.org
X-WR-CALDESC:Events for Saint Catherine of Alexandria School
REFRESH-INTERVAL;VALUE=DURATION:PT1H
X-Robots-Tag:noindex
X-PUBLISHED-TTL:PT1H
BEGIN:VTIMEZONE
TZID:America/Chicago
BEGIN:DAYLIGHT
TZOFFSETFROM:-0600
TZOFFSETTO:-0500
TZNAME:CDT
DTSTART:20230312T080000
END:DAYLIGHT
BEGIN:STANDARD
TZOFFSETFROM:-0500
TZOFFSETTO:-0600
TZNAME:CST
DTSTART:20231105T070000
END:STANDARD
BEGIN:DAYLIGHT
TZOFFSETFROM:-0600
TZOFFSETTO:-0500
TZNAME:CDT
DTSTART:20240310T080000
END:DAYLIGHT
BEGIN:STANDARD
TZOFFSETFROM:-0500
TZOFFSETTO:-0600
TZNAME:CST
DTSTART:20241103T070000
END:STANDARD
BEGIN:DAYLIGHT
TZOFFSETFROM:-0600
TZOFFSETTO:-0500
TZNAME:CDT
DTSTART:20250309T080000
END:DAYLIGHT
BEGIN:STANDARD
TZOFFSETFROM:-0500
TZOFFSETTO:-0600
TZNAME:CST
DTSTART:20251102T070000
END:STANDARD
END:VTIMEZONE
BEGIN:VEVENT
DTSTART;TZID=America/Chicago:20240915T110000
DTEND;TZID=America/Chicago:20240915T130000
DTSTAMP:20260425T083057
CREATED:20240913T145357Z
LAST-MODIFIED:20240913T145357Z
UID:10011725-1726398000-1726405200@www.saintcatherineschool.org
SUMMARY:Mass - Zomi
DESCRIPTION:
URL:https://www.saintcatherineschool.org/event/mass-zomi-5
LOCATION:Saint Catherine of Alexandria\, 4532 S. 25th W. Ave.\, Tulsa\, OK\, 74107\, United States
CATEGORIES:Church of Saint Catherine,Saint Catherine School
ORGANIZER;CN="Fr. Robert Kim":MAILTO:fr.robert.kim@dioceseoftulsa.org
GEO:36.0981774;-96.0216659
X-APPLE-STRUCTURED-LOCATION;VALUE=URI;X-ADDRESS=Saint Catherine of Alexandria 4532 S. 25th W. Ave. Tulsa OK 74107 United States;X-APPLE-RADIUS=500;X-TITLE=4532 S. 25th W. Ave.:geo:-96.0216659,36.0981774
END:VEVENT
BEGIN:VEVENT
DTSTART;TZID=America/Chicago:20240916T153000
DTEND;TZID=America/Chicago:20240916T163000
DTSTAMP:20260425T083057
CREATED:20240913T145655Z
LAST-MODIFIED:20240913T145655Z
UID:10011728-1726500600-1726504200@www.saintcatherineschool.org
SUMMARY:Choir Practice
DESCRIPTION:
URL:https://www.saintcatherineschool.org/event/choir-practice
LOCATION:Saint Catherine School\, 2515 W. 46th St.\, Tulsa\, OK\, 74107\, United States
CATEGORIES:Church of Saint Catherine,Saint Catherine School
ORGANIZER;CN="Veronica Allen":MAILTO:vallen@saint-catherine.org
GEO:36.0981282;-96.0219361
X-APPLE-STRUCTURED-LOCATION;VALUE=URI;X-ADDRESS=Saint Catherine School 2515 W. 46th St. Tulsa OK 74107 United States;X-APPLE-RADIUS=500;X-TITLE=2515 W. 46th St.:geo:-96.0219361,36.0981282
END:VEVENT
BEGIN:VEVENT
DTSTART;TZID=America/Chicago:20240917T080000
DTEND;TZID=America/Chicago:20240917T090000
DTSTAMP:20260425T083057
CREATED:20240913T150042Z
LAST-MODIFIED:20240913T150042Z
UID:10011732-1726560000-1726563600@www.saintcatherineschool.org
SUMMARY:Mass - English
DESCRIPTION:
URL:https://www.saintcatherineschool.org/event/mass-english-14
LOCATION:Saint Catherine of Alexandria\, 4532 S. 25th W. Ave.\, Tulsa\, OK\, 74107\, United States
CATEGORIES:Church of Saint Catherine,Saint Catherine School
ORGANIZER;CN="Fr. Robert Kim":MAILTO:fr.robert.kim@dioceseoftulsa.org
GEO:36.0981774;-96.0216659
X-APPLE-STRUCTURED-LOCATION;VALUE=URI;X-ADDRESS=Saint Catherine of Alexandria 4532 S. 25th W. Ave. Tulsa OK 74107 United States;X-APPLE-RADIUS=500;X-TITLE=4532 S. 25th W. Ave.:geo:-96.0216659,36.0981774
END:VEVENT
BEGIN:VEVENT
DTSTART;TZID=America/Chicago:20240917T153000
DTEND;TZID=America/Chicago:20240917T163000
DTSTAMP:20260425T083057
CREATED:20240913T155852Z
LAST-MODIFIED:20240913T155852Z
UID:10011737-1726587000-1726590600@www.saintcatherineschool.org
SUMMARY:Red Soccer Practice
DESCRIPTION:
URL:https://www.saintcatherineschool.org/event/red-soccer-practice
LOCATION:Saint Catherine School\, 2515 W. 46th St.\, Tulsa\, OK\, 74107\, United States
CATEGORIES:Church of Saint Catherine,Saint Catherine School
ORGANIZER;CN="Sam Naab":MAILTO:snaab@saint-catherine.org
GEO:36.0981282;-96.0219361
X-APPLE-STRUCTURED-LOCATION;VALUE=URI;X-ADDRESS=Saint Catherine School 2515 W. 46th St. Tulsa OK 74107 United States;X-APPLE-RADIUS=500;X-TITLE=2515 W. 46th St.:geo:-96.0219361,36.0981282
END:VEVENT
BEGIN:VEVENT
DTSTART;TZID=America/Chicago:20240917T153000
DTEND;TZID=America/Chicago:20240917T163000
DTSTAMP:20260425T083057
CREATED:20240913T155928Z
LAST-MODIFIED:20240913T155928Z
UID:10011738-1726587000-1726590600@www.saintcatherineschool.org
SUMMARY:Volleyball Practice
DESCRIPTION:
URL:https://www.saintcatherineschool.org/event/volleyball-practice-12
LOCATION:Saint Catherine School\, 2515 W. 46th St.\, Tulsa\, OK\, 74107\, United States
CATEGORIES:Church of Saint Catherine,Saint Catherine School
ORGANIZER;CN="Sam Naab":MAILTO:snaab@saint-catherine.org
GEO:36.0981282;-96.0219361
X-APPLE-STRUCTURED-LOCATION;VALUE=URI;X-ADDRESS=Saint Catherine School 2515 W. 46th St. Tulsa OK 74107 United States;X-APPLE-RADIUS=500;X-TITLE=2515 W. 46th St.:geo:-96.0219361,36.0981282
END:VEVENT
BEGIN:VEVENT
DTSTART;TZID=America/Chicago:20240918T080000
DTEND;TZID=America/Chicago:20240918T090000
DTSTAMP:20260425T083057
CREATED:20240913T150119Z
LAST-MODIFIED:20240913T150119Z
UID:10011733-1726646400-1726650000@www.saintcatherineschool.org
SUMMARY:Mass - Zomi
DESCRIPTION:
URL:https://www.saintcatherineschool.org/event/mass-zomi-8
LOCATION:Saint Catherine of Alexandria\, 4532 S. 25th W. Ave.\, Tulsa\, OK\, 74107\, United States
CATEGORIES:Church of Saint Catherine,Saint Catherine School
ORGANIZER;CN="Fr. Robert Kim":MAILTO:fr.robert.kim@dioceseoftulsa.org
GEO:36.0981774;-96.0216659
X-APPLE-STRUCTURED-LOCATION;VALUE=URI;X-ADDRESS=Saint Catherine of Alexandria 4532 S. 25th W. Ave. Tulsa OK 74107 United States;X-APPLE-RADIUS=500;X-TITLE=4532 S. 25th W. Ave.:geo:-96.0216659,36.0981774
END:VEVENT
BEGIN:VEVENT
DTSTART;TZID=America/Chicago:20240918T153000
DTEND;TZID=America/Chicago:20240918T163000
DTSTAMP:20260425T083057
CREATED:20240913T160034Z
LAST-MODIFIED:20240913T160034Z
UID:10011739-1726673400-1726677000@www.saintcatherineschool.org
SUMMARY:Blue Soccer Practice
DESCRIPTION:
URL:https://www.saintcatherineschool.org/event/blue-soccer-practice
LOCATION:Saint Catherine School\, 2515 W. 46th St.\, Tulsa\, OK\, 74107\, United States
CATEGORIES:Church of Saint Catherine,Saint Catherine School
ORGANIZER;CN="Sam Naab":MAILTO:snaab@saint-catherine.org
GEO:36.0981282;-96.0219361
X-APPLE-STRUCTURED-LOCATION;VALUE=URI;X-ADDRESS=Saint Catherine School 2515 W. 46th St. Tulsa OK 74107 United States;X-APPLE-RADIUS=500;X-TITLE=2515 W. 46th St.:geo:-96.0219361,36.0981282
END:VEVENT
BEGIN:VEVENT
DTSTART;TZID=America/Chicago:20240918T153000
DTEND;TZID=America/Chicago:20240918T163000
DTSTAMP:20260425T083057
CREATED:20240913T170014Z
LAST-MODIFIED:20240913T170014Z
UID:10011742-1726673400-1726677000@www.saintcatherineschool.org
SUMMARY:Little Flowers - 3rd and 4th grade
DESCRIPTION:
URL:https://www.saintcatherineschool.org/event/little-flowers-3rd-and-4th-grade
LOCATION:Saint Catherine School\, 2515 W. 46th St.\, Tulsa\, OK\, 74107\, United States
CATEGORIES:Church of Saint Catherine,Saint Catherine School
GEO:36.0981282;-96.0219361
X-APPLE-STRUCTURED-LOCATION;VALUE=URI;X-ADDRESS=Saint Catherine School 2515 W. 46th St. Tulsa OK 74107 United States;X-APPLE-RADIUS=500;X-TITLE=2515 W. 46th St.:geo:-96.0219361,36.0981282
END:VEVENT
BEGIN:VEVENT
DTSTART;TZID=America/Chicago:20240918T153000
DTEND;TZID=America/Chicago:20240918T170000
DTSTAMP:20260425T083057
CREATED:20240913T170148Z
LAST-MODIFIED:20240913T170148Z
UID:10011743-1726673400-1726678800@www.saintcatherineschool.org
SUMMARY:Volleyball Practice
DESCRIPTION:
URL:https://www.saintcatherineschool.org/event/volleyball-practice-13
LOCATION:Saint Catherine School\, 2515 W. 46th St.\, Tulsa\, OK\, 74107\, United States
CATEGORIES:Church of Saint Catherine,Saint Catherine School
ORGANIZER;CN="Sam Naab":MAILTO:snaab@saint-catherine.org
GEO:36.0981282;-96.0219361
X-APPLE-STRUCTURED-LOCATION;VALUE=URI;X-ADDRESS=Saint Catherine School 2515 W. 46th St. Tulsa OK 74107 United States;X-APPLE-RADIUS=500;X-TITLE=2515 W. 46th St.:geo:-96.0219361,36.0981282
END:VEVENT
BEGIN:VEVENT
DTSTART;TZID=America/Chicago:20240919T080000
DTEND;TZID=America/Chicago:20240919T090000
DTSTAMP:20260425T083057
CREATED:20240913T155749Z
LAST-MODIFIED:20240913T155749Z
UID:10011735-1726732800-1726736400@www.saintcatherineschool.org
SUMMARY:Mass - English
DESCRIPTION:
URL:https://www.saintcatherineschool.org/event/mass-english-15
LOCATION:Saint Catherine of Alexandria\, 4532 S. 25th W. Ave.\, Tulsa\, OK\, 74107\, United States
CATEGORIES:Church of Saint Catherine,Saint Catherine School
ORGANIZER;CN="Fr. Robert Kim":MAILTO:fr.robert.kim@dioceseoftulsa.org
GEO:36.0981774;-96.0216659
X-APPLE-STRUCTURED-LOCATION;VALUE=URI;X-ADDRESS=Saint Catherine of Alexandria 4532 S. 25th W. Ave. Tulsa OK 74107 United States;X-APPLE-RADIUS=500;X-TITLE=4532 S. 25th W. Ave.:geo:-96.0216659,36.0981774
END:VEVENT
BEGIN:VEVENT
DTSTART;TZID=America/Chicago:20240919T153000
DTEND;TZID=America/Chicago:20240919T170000
DTSTAMP:20260425T083057
CREATED:20240913T160201Z
LAST-MODIFIED:20240913T160201Z
UID:10011740-1726759800-1726765200@www.saintcatherineschool.org
SUMMARY:Lego Club
DESCRIPTION:
URL:https://www.saintcatherineschool.org/event/lego-club-5
LOCATION:Saint Catherine School\, 2515 W. 46th St.\, Tulsa\, OK\, 74107\, United States
CATEGORIES:Church of Saint Catherine,Saint Catherine School
ORGANIZER;CN="Andrea Warner":MAILTO:andrea.warner.mail@gmail.com
GEO:36.0981282;-96.0219361
X-APPLE-STRUCTURED-LOCATION;VALUE=URI;X-ADDRESS=Saint Catherine School 2515 W. 46th St. Tulsa OK 74107 United States;X-APPLE-RADIUS=500;X-TITLE=2515 W. 46th St.:geo:-96.0219361,36.0981282
END:VEVENT
BEGIN:VEVENT
DTSTART;TZID=America/Chicago:20240920T080000
DTEND;TZID=America/Chicago:20240920T090000
DTSTAMP:20260425T083057
CREATED:20240913T155815Z
LAST-MODIFIED:20240913T155815Z
UID:10011736-1726819200-1726822800@www.saintcatherineschool.org
SUMMARY:Mass - English
DESCRIPTION:
URL:https://www.saintcatherineschool.org/event/mass-english-16
LOCATION:Saint Catherine of Alexandria\, 4532 S. 25th W. Ave.\, Tulsa\, OK\, 74107\, United States
CATEGORIES:Church of Saint Catherine,Saint Catherine School
ORGANIZER;CN="Fr. Robert Kim":MAILTO:fr.robert.kim@dioceseoftulsa.org
GEO:36.0981774;-96.0216659
X-APPLE-STRUCTURED-LOCATION;VALUE=URI;X-ADDRESS=Saint Catherine of Alexandria 4532 S. 25th W. Ave. Tulsa OK 74107 United States;X-APPLE-RADIUS=500;X-TITLE=4532 S. 25th W. Ave.:geo:-96.0216659,36.0981774
END:VEVENT
BEGIN:VEVENT
DTSTART;TZID=America/Chicago:20240920T080000
DTEND;TZID=America/Chicago:20240920T100000
DTSTAMP:20260425T083057
CREATED:20240701T010234Z
LAST-MODIFIED:20240701T010234Z
UID:10011596-1726819200-1726826400@www.saintcatherineschool.org
SUMMARY:Picture Retake
DESCRIPTION:
URL:https://www.saintcatherineschool.org/event/picture-retake-3
LOCATION:Saint Catherine School\, 2515 W. 46th St.\, Tulsa\, OK\, 74107\, United States
CATEGORIES:Church of Saint Catherine,Saint Catherine School
ORGANIZER;CN="Michelle Anthamatten":MAILTO:manthamatten@saint-catherine.org
GEO:36.0981282;-96.0219361
X-APPLE-STRUCTURED-LOCATION;VALUE=URI;X-ADDRESS=Saint Catherine School 2515 W. 46th St. Tulsa OK 74107 United States;X-APPLE-RADIUS=500;X-TITLE=2515 W. 46th St.:geo:-96.0219361,36.0981282
END:VEVENT
BEGIN:VEVENT
DTSTART;TZID=America/Chicago:20240920T153000
DTEND;TZID=America/Chicago:20240920T163000
DTSTAMP:20260425T083057
CREATED:20240913T160245Z
LAST-MODIFIED:20240913T160245Z
UID:10011741-1726846200-1726849800@www.saintcatherineschool.org
SUMMARY:Red Soccer Practice
DESCRIPTION:
URL:https://www.saintcatherineschool.org/event/red-soccer-practice-2
LOCATION:Saint Catherine School\, 2515 W. 46th St.\, Tulsa\, OK\, 74107\, United States
CATEGORIES:Church of Saint Catherine,Saint Catherine School
ORGANIZER;CN="Sam Naab":MAILTO:snaab@saint-catherine.org
GEO:36.0981282;-96.0219361
X-APPLE-STRUCTURED-LOCATION;VALUE=URI;X-ADDRESS=Saint Catherine School 2515 W. 46th St. Tulsa OK 74107 United States;X-APPLE-RADIUS=500;X-TITLE=2515 W. 46th St.:geo:-96.0219361,36.0981282
END:VEVENT
BEGIN:VEVENT
DTSTART;TZID=America/Chicago:20240921T100000
DTEND;TZID=America/Chicago:20240921T110000
DTSTAMP:20260425T083057
CREATED:20240701T010039Z
LAST-MODIFIED:20240701T010039Z
UID:10011594-1726912800-1726916400@www.saintcatherineschool.org
SUMMARY:Soccer game
DESCRIPTION:
URL:https://www.saintcatherineschool.org/event/soccer-game-2
LOCATION:St. Augustine\, 1720 E Apache St\, Tulsa\, OK\, 74110\, United States
CATEGORIES:Church of Saint Catherine,Saint Catherine School
ORGANIZER;CN="Sam Naab":MAILTO:snaab@saint-catherine.org
GEO:36.1911097;-95.965663
X-APPLE-STRUCTURED-LOCATION;VALUE=URI;X-ADDRESS=St. Augustine 1720 E Apache St Tulsa OK 74110 United States;X-APPLE-RADIUS=500;X-TITLE=1720 E Apache St:geo:-95.965663,36.1911097
END:VEVENT
BEGIN:VEVENT
DTSTART;TZID=America/Chicago:20240921T153000
DTEND;TZID=America/Chicago:20240921T170000
DTSTAMP:20260425T083057
CREATED:20180123T023113Z
LAST-MODIFIED:20201202T201345Z
UID:10005928-1726932600-1726938000@www.saintcatherineschool.org
SUMMARY:Confessions
DESCRIPTION:Fr. Grant will hear confessions from 3:30-5:00.
URL:https://www.saintcatherineschool.org/event/confessions/2024-09-21
LOCATION:Saint Catherine of Alexandria\, 4532 S. 25th W. Ave.\, Tulsa\, OK\, 74107\, United States
CATEGORIES:Church of Saint Catherine,Saint Catherine School
GEO:36.0981774;-96.0216659
X-APPLE-STRUCTURED-LOCATION;VALUE=URI;X-ADDRESS=Saint Catherine of Alexandria 4532 S. 25th W. Ave. Tulsa OK 74107 United States;X-APPLE-RADIUS=500;X-TITLE=4532 S. 25th W. Ave.:geo:-96.0216659,36.0981774
END:VEVENT
BEGIN:VEVENT
DTSTART;TZID=America/Chicago:20240922T080000
DTEND;TZID=America/Chicago:20240922T090000
DTSTAMP:20260425T083057
CREATED:20240913T145301Z
LAST-MODIFIED:20240913T145301Z
UID:10011723-1726992000-1726995600@www.saintcatherineschool.org
SUMMARY:Mass - English
DESCRIPTION:
URL:https://www.saintcatherineschool.org/event/mass-english-12
LOCATION:Saint Catherine of Alexandria\, 4532 S. 25th W. Ave.\, Tulsa\, OK\, 74107\, United States
CATEGORIES:Church of Saint Catherine,Saint Catherine School
ORGANIZER;CN="Fr. Robert Kim":MAILTO:fr.robert.kim@dioceseoftulsa.org
GEO:36.0981774;-96.0216659
X-APPLE-STRUCTURED-LOCATION;VALUE=URI;X-ADDRESS=Saint Catherine of Alexandria 4532 S. 25th W. Ave. Tulsa OK 74107 United States;X-APPLE-RADIUS=500;X-TITLE=4532 S. 25th W. Ave.:geo:-96.0216659,36.0981774
END:VEVENT
BEGIN:VEVENT
DTSTART;TZID=America/Chicago:20240922T110000
DTEND;TZID=America/Chicago:20240922T130000
DTSTAMP:20260425T083057
CREATED:20240913T145426Z
LAST-MODIFIED:20240913T145426Z
UID:10011726-1727002800-1727010000@www.saintcatherineschool.org
SUMMARY:Mass - Zomi
DESCRIPTION:
URL:https://www.saintcatherineschool.org/event/mass-zomi-6
LOCATION:Saint Catherine of Alexandria\, 4532 S. 25th W. Ave.\, Tulsa\, OK\, 74107\, United States
CATEGORIES:Church of Saint Catherine,Saint Catherine School
ORGANIZER;CN="Fr. Robert Kim":MAILTO:fr.robert.kim@dioceseoftulsa.org
GEO:36.0981774;-96.0216659
X-APPLE-STRUCTURED-LOCATION;VALUE=URI;X-ADDRESS=Saint Catherine of Alexandria 4532 S. 25th W. Ave. Tulsa OK 74107 United States;X-APPLE-RADIUS=500;X-TITLE=4532 S. 25th W. Ave.:geo:-96.0216659,36.0981774
END:VEVENT
BEGIN:VEVENT
DTSTART;TZID=America/Chicago:20240923T070000
DTEND;TZID=America/Chicago:20240923T200000
DTSTAMP:20260425T083057
CREATED:20240913T145847Z
LAST-MODIFIED:20240913T145847Z
UID:10011729-1727074800-1727121600@www.saintcatherineschool.org
SUMMARY:Volleyball Game
DESCRIPTION:
URL:https://www.saintcatherineschool.org/event/volleyball-game-24
LOCATION:Monte Cassino\, 2206 S. Lewis Ave.\, Tulsa\, OK\, 74114\, United States
CATEGORIES:Church of Saint Catherine,Saint Catherine School
ORGANIZER;CN="Sam Naab":MAILTO:snaab@saint-catherine.org
GEO:36.1314173;-95.9590244
X-APPLE-STRUCTURED-LOCATION;VALUE=URI;X-ADDRESS=Monte Cassino 2206 S. Lewis Ave. Tulsa OK 74114 United States;X-APPLE-RADIUS=500;X-TITLE=2206 S. Lewis Ave.:geo:-95.9590244,36.1314173
END:VEVENT
BEGIN:VEVENT
DTSTART;TZID=America/Chicago:20240923T153000
DTEND;TZID=America/Chicago:20240923T163000
DTSTAMP:20260425T083057
CREATED:20240913T155700Z
LAST-MODIFIED:20240913T155700Z
UID:10011734-1727105400-1727109000@www.saintcatherineschool.org
SUMMARY:Choir Practice
DESCRIPTION:
URL:https://www.saintcatherineschool.org/event/choir-practice-2
LOCATION:Saint Catherine School\, 2515 W. 46th St.\, Tulsa\, OK\, 74107\, United States
CATEGORIES:Church of Saint Catherine,Saint Catherine School
ORGANIZER;CN="Veronica Allen":MAILTO:vallen@saint-catherine.org
GEO:36.0981282;-96.0219361
X-APPLE-STRUCTURED-LOCATION;VALUE=URI;X-ADDRESS=Saint Catherine School 2515 W. 46th St. Tulsa OK 74107 United States;X-APPLE-RADIUS=500;X-TITLE=2515 W. 46th St.:geo:-96.0219361,36.0981282
END:VEVENT
BEGIN:VEVENT
DTSTART;TZID=America/Chicago:20240924T080000
DTEND;TZID=America/Chicago:20240924T090000
DTSTAMP:20260425T083057
CREATED:20240913T170349Z
LAST-MODIFIED:20240913T170349Z
UID:10011744-1727164800-1727168400@www.saintcatherineschool.org
SUMMARY:Mass - English
DESCRIPTION:
URL:https://www.saintcatherineschool.org/event/mass-english-17
LOCATION:Saint Catherine School\, 2515 W. 46th St.\, Tulsa\, OK\, 74107\, United States
CATEGORIES:Church of Saint Catherine,Saint Catherine School
ORGANIZER;CN="Fr. Robert Kim":MAILTO:fr.robert.kim@dioceseoftulsa.org
GEO:36.0981282;-96.0219361
X-APPLE-STRUCTURED-LOCATION;VALUE=URI;X-ADDRESS=Saint Catherine School 2515 W. 46th St. Tulsa OK 74107 United States;X-APPLE-RADIUS=500;X-TITLE=2515 W. 46th St.:geo:-96.0219361,36.0981282
END:VEVENT
BEGIN:VEVENT
DTSTART;TZID=America/Chicago:20240924T100000
DTEND;TZID=America/Chicago:20240924T120000
DTSTAMP:20260425T083057
CREATED:20240913T171040Z
LAST-MODIFIED:20240913T171040Z
UID:10011750-1727172000-1727179200@www.saintcatherineschool.org
SUMMARY:PK4 Field Trip
DESCRIPTION:
URL:https://www.saintcatherineschool.org/event/pk4-field-trip-3
LOCATION:Buildville\, South 101st East Avenue 6910\, Tulsa\, OK\, 74134\, United States
CATEGORIES:Church of Saint Catherine,Saint Catherine School
ORGANIZER;CN="Tanya Choate":MAILTO:tchoate@saint-catherine.org
GEO:36.0636448;-95.8652968
X-APPLE-STRUCTURED-LOCATION;VALUE=URI;X-ADDRESS=Buildville South 101st East Avenue 6910 Tulsa OK 74134 United States;X-APPLE-RADIUS=500;X-TITLE=South 101st East Avenue 6910:geo:-95.8652968,36.0636448
END:VEVENT
BEGIN:VEVENT
DTSTART;TZID=America/Chicago:20240924T153000
DTEND;TZID=America/Chicago:20240924T163000
DTSTAMP:20260425T083057
CREATED:20240913T170628Z
LAST-MODIFIED:20240913T170628Z
UID:10011748-1727191800-1727195400@www.saintcatherineschool.org
SUMMARY:Red and Blue Soccer Practice
DESCRIPTION:
URL:https://www.saintcatherineschool.org/event/red-and-blue-soccer-practice
LOCATION:Saint Catherine School\, 2515 W. 46th St.\, Tulsa\, OK\, 74107\, United States
CATEGORIES:Church of Saint Catherine,Saint Catherine School
ORGANIZER;CN="Sam Naab":MAILTO:snaab@saint-catherine.org
GEO:36.0981282;-96.0219361
X-APPLE-STRUCTURED-LOCATION;VALUE=URI;X-ADDRESS=Saint Catherine School 2515 W. 46th St. Tulsa OK 74107 United States;X-APPLE-RADIUS=500;X-TITLE=2515 W. 46th St.:geo:-96.0219361,36.0981282
END:VEVENT
BEGIN:VEVENT
DTSTART;TZID=America/Chicago:20240924T153000
DTEND;TZID=America/Chicago:20240924T170000
DTSTAMP:20260425T083057
CREATED:20240913T170703Z
LAST-MODIFIED:20240913T170703Z
UID:10011749-1727191800-1727197200@www.saintcatherineschool.org
SUMMARY:Volleyball Practice
DESCRIPTION:
URL:https://www.saintcatherineschool.org/event/volleyball-practice-14
LOCATION:Saint Catherine School\, 2515 W. 46th St.\, Tulsa\, OK\, 74107\, United States
CATEGORIES:Church of Saint Catherine,Saint Catherine School
ORGANIZER;CN="Sam Naab":MAILTO:snaab@saint-catherine.org
GEO:36.0981282;-96.0219361
X-APPLE-STRUCTURED-LOCATION;VALUE=URI;X-ADDRESS=Saint Catherine School 2515 W. 46th St. Tulsa OK 74107 United States;X-APPLE-RADIUS=500;X-TITLE=2515 W. 46th St.:geo:-96.0219361,36.0981282
END:VEVENT
BEGIN:VEVENT
DTSTART;TZID=America/Chicago:20240925T080000
DTEND;TZID=America/Chicago:20240925T090000
DTSTAMP:20260425T083057
CREATED:20240913T170414Z
LAST-MODIFIED:20240913T170414Z
UID:10011745-1727251200-1727254800@www.saintcatherineschool.org
SUMMARY:Mass - Zomi
DESCRIPTION:
URL:https://www.saintcatherineschool.org/event/mass-zomi-9
LOCATION:Saint Catherine School\, 2515 W. 46th St.\, Tulsa\, OK\, 74107\, United States
CATEGORIES:Church of Saint Catherine,Saint Catherine School
ORGANIZER;CN="Fr. Robert Kim":MAILTO:fr.robert.kim@dioceseoftulsa.org
GEO:36.0981282;-96.0219361
X-APPLE-STRUCTURED-LOCATION;VALUE=URI;X-ADDRESS=Saint Catherine School 2515 W. 46th St. Tulsa OK 74107 United States;X-APPLE-RADIUS=500;X-TITLE=2515 W. 46th St.:geo:-96.0219361,36.0981282
END:VEVENT
BEGIN:VEVENT
DTSTART;TZID=America/Chicago:20240925T153000
DTEND;TZID=America/Chicago:20240925T170000
DTSTAMP:20260425T083057
CREATED:20240913T171258Z
LAST-MODIFIED:20240913T171258Z
UID:10011751-1727278200-1727283600@www.saintcatherineschool.org
SUMMARY:Volleyball Practice
DESCRIPTION:
URL:https://www.saintcatherineschool.org/event/volleyball-practice-15
LOCATION:Saint Catherine School\, 2515 W. 46th St.\, Tulsa\, OK\, 74107\, United States
CATEGORIES:Church of Saint Catherine,Saint Catherine School
ORGANIZER;CN="Sam Naab":MAILTO:snaab@saint-catherine.org
GEO:36.0981282;-96.0219361
X-APPLE-STRUCTURED-LOCATION;VALUE=URI;X-ADDRESS=Saint Catherine School 2515 W. 46th St. Tulsa OK 74107 United States;X-APPLE-RADIUS=500;X-TITLE=2515 W. 46th St.:geo:-96.0219361,36.0981282
END:VEVENT
BEGIN:VEVENT
DTSTART;TZID=America/Chicago:20240925T180000
DTEND;TZID=America/Chicago:20240925T200000
DTSTAMP:20260425T083057
CREATED:20240913T171424Z
LAST-MODIFIED:20240913T171424Z
UID:10011752-1727287200-1727294400@www.saintcatherineschool.org
SUMMARY:BK and Cascia Hall Parent Night
DESCRIPTION:
URL:https://www.saintcatherineschool.org/event/bk-and-cascia-hall-parent-night
LOCATION:Saint Catherine School\, 2515 W. 46th St.\, Tulsa\, OK\, 74107\, United States
CATEGORIES:Church of Saint Catherine,Saint Catherine School
ORGANIZER;CN="Sam Naab":MAILTO:snaab@saint-catherine.org
GEO:36.0981282;-96.0219361
X-APPLE-STRUCTURED-LOCATION;VALUE=URI;X-ADDRESS=Saint Catherine School 2515 W. 46th St. Tulsa OK 74107 United States;X-APPLE-RADIUS=500;X-TITLE=2515 W. 46th St.:geo:-96.0219361,36.0981282
END:VEVENT
BEGIN:VEVENT
DTSTART;TZID=America/Chicago:20240926T080000
DTEND;TZID=America/Chicago:20240926T090000
DTSTAMP:20260425T083057
CREATED:20240913T170447Z
LAST-MODIFIED:20240913T170447Z
UID:10011746-1727337600-1727341200@www.saintcatherineschool.org
SUMMARY:Mass - English
DESCRIPTION:
URL:https://www.saintcatherineschool.org/event/mass-english-18
LOCATION:Saint Catherine School\, 2515 W. 46th St.\, Tulsa\, OK\, 74107\, United States
CATEGORIES:Church of Saint Catherine,Saint Catherine School
ORGANIZER;CN="Fr. Robert Kim":MAILTO:fr.robert.kim@dioceseoftulsa.org
GEO:36.0981282;-96.0219361
X-APPLE-STRUCTURED-LOCATION;VALUE=URI;X-ADDRESS=Saint Catherine School 2515 W. 46th St. Tulsa OK 74107 United States;X-APPLE-RADIUS=500;X-TITLE=2515 W. 46th St.:geo:-96.0219361,36.0981282
END:VEVENT
BEGIN:VEVENT
DTSTART;TZID=America/Chicago:20240926T153000
DTEND;TZID=America/Chicago:20240926T170000
DTSTAMP:20260425T083057
CREATED:20240913T171450Z
LAST-MODIFIED:20240913T171450Z
UID:10011753-1727364600-1727370000@www.saintcatherineschool.org
SUMMARY:Lego Club
DESCRIPTION:
URL:https://www.saintcatherineschool.org/event/lego-club-6
LOCATION:Saint Catherine School\, 2515 W. 46th St.\, Tulsa\, OK\, 74107\, United States
CATEGORIES:Church of Saint Catherine,Saint Catherine School
ORGANIZER;CN="Andrea Warner":MAILTO:andrea.warner.mail@gmail.com
GEO:36.0981282;-96.0219361
X-APPLE-STRUCTURED-LOCATION;VALUE=URI;X-ADDRESS=Saint Catherine School 2515 W. 46th St. Tulsa OK 74107 United States;X-APPLE-RADIUS=500;X-TITLE=2515 W. 46th St.:geo:-96.0219361,36.0981282
END:VEVENT
BEGIN:VEVENT
DTSTART;TZID=America/Chicago:20240926T190000
DTEND;TZID=America/Chicago:20240926T200000
DTSTAMP:20260425T083057
CREATED:20240913T171528Z
LAST-MODIFIED:20240913T171528Z
UID:10011754-1727377200-1727380800@www.saintcatherineschool.org
SUMMARY:Volleyball Game
DESCRIPTION:
URL:https://www.saintcatherineschool.org/event/volleyball-game-26
LOCATION:St. Pius\, 1717 S. 75th E. Ave.\, Tulsa\, OK\, 74112\, United States
CATEGORIES:Church of Saint Catherine,Saint Catherine School
ORGANIZER;CN="Sam Naab":MAILTO:snaab@saint-catherine.org
GEO:36.1377658;-95.8926129
X-APPLE-STRUCTURED-LOCATION;VALUE=URI;X-ADDRESS=St. Pius 1717 S. 75th E. Ave. Tulsa OK 74112 United States;X-APPLE-RADIUS=500;X-TITLE=1717 S. 75th E. Ave.:geo:-95.8926129,36.1377658
END:VEVENT
END:VCALENDAR