BEGIN:VCALENDAR
VERSION:2.0
PRODID:-//Saint Catherine of Alexandria School - ECPv6.15.20//NONSGML v1.0//EN
CALSCALE:GREGORIAN
METHOD:PUBLISH
X-ORIGINAL-URL:https://www.saintcatherineschool.org
X-WR-CALDESC:Events for Saint Catherine of Alexandria School
REFRESH-INTERVAL;VALUE=DURATION:PT1H
X-Robots-Tag:noindex
X-PUBLISHED-TTL:PT1H
BEGIN:VTIMEZONE
TZID:America/Chicago
BEGIN:DAYLIGHT
TZOFFSETFROM:-0600
TZOFFSETTO:-0500
TZNAME:CDT
DTSTART:20220313T080000
END:DAYLIGHT
BEGIN:STANDARD
TZOFFSETFROM:-0500
TZOFFSETTO:-0600
TZNAME:CST
DTSTART:20221106T070000
END:STANDARD
BEGIN:DAYLIGHT
TZOFFSETFROM:-0600
TZOFFSETTO:-0500
TZNAME:CDT
DTSTART:20230312T080000
END:DAYLIGHT
BEGIN:STANDARD
TZOFFSETFROM:-0500
TZOFFSETTO:-0600
TZNAME:CST
DTSTART:20231105T070000
END:STANDARD
BEGIN:DAYLIGHT
TZOFFSETFROM:-0600
TZOFFSETTO:-0500
TZNAME:CDT
DTSTART:20240310T080000
END:DAYLIGHT
BEGIN:STANDARD
TZOFFSETFROM:-0500
TZOFFSETTO:-0600
TZNAME:CST
DTSTART:20241103T070000
END:STANDARD
END:VTIMEZONE
BEGIN:VEVENT
DTSTART;TZID=America/Chicago:20230401T100000
DTEND;TZID=America/Chicago:20230401T110000
DTSTAMP:20260425T213013
CREATED:20230307T152531Z
LAST-MODIFIED:20230307T152711Z
UID:10009699-1680343200-1680346800@www.saintcatherineschool.org
SUMMARY:1st - 4th grade soccer game
DESCRIPTION:.
URL:https://www.saintcatherineschool.org/event/1st-4th-grade-soccer-game/2023-04-01
LOCATION:St. Augustine\, 1720 E Apache St\, Tulsa\, OK\, 74110\, United States
CATEGORIES:Church of Saint Catherine,Saint Catherine School
ORGANIZER;CN="Sam Naab":MAILTO:snaab@saint-catherine.org
GEO:36.1911097;-95.965663
X-APPLE-STRUCTURED-LOCATION;VALUE=URI;X-ADDRESS=St. Augustine 1720 E Apache St Tulsa OK 74110 United States;X-APPLE-RADIUS=500;X-TITLE=1720 E Apache St:geo:-95.965663,36.1911097
END:VEVENT
BEGIN:VEVENT
DTSTART;TZID=America/Chicago:20230401T120000
DTEND;TZID=America/Chicago:20230401T130000
DTSTAMP:20260425T213013
CREATED:20180123T015350Z
LAST-MODIFIED:20180123T015350Z
UID:10007014-1680350400-1680354000@www.saintcatherineschool.org
SUMMARY:Mass
DESCRIPTION:Mass begins at 5pm in the Church.
URL:https://www.saintcatherineschool.org/event/mass-8/2023-04-01
LOCATION:OK
CATEGORIES:Church of Saint Catherine,Saint Catherine School
END:VEVENT
BEGIN:VEVENT
DTSTART;TZID=America/Chicago:20230401T153000
DTEND;TZID=America/Chicago:20230401T163000
DTSTAMP:20260425T213013
CREATED:20230307T143621Z
LAST-MODIFIED:20230307T143621Z
UID:10009532-1680363000-1680366600@www.saintcatherineschool.org
SUMMARY:Track Practice
DESCRIPTION:
URL:https://www.saintcatherineschool.org/event/track-practice-12/2023-04-01
LOCATION:Saint Catherine School\, 2515 W. 46th St.\, Tulsa\, OK\, 74107\, United States
CATEGORIES:Church of Saint Catherine,Saint Catherine School
ORGANIZER;CN="Monique McAtee":MAILTO:mmcatee@saint-catherine.org
GEO:36.0981282;-96.0219361
X-APPLE-STRUCTURED-LOCATION;VALUE=URI;X-ADDRESS=Saint Catherine School 2515 W. 46th St. Tulsa OK 74107 United States;X-APPLE-RADIUS=500;X-TITLE=2515 W. 46th St.:geo:-96.0219361,36.0981282
END:VEVENT
BEGIN:VEVENT
DTSTART;TZID=America/Chicago:20230401T153000
DTEND;TZID=America/Chicago:20230401T170000
DTSTAMP:20260425T213013
CREATED:20180123T023113Z
LAST-MODIFIED:20201202T201345Z
UID:10005851-1680363000-1680368400@www.saintcatherineschool.org
SUMMARY:Confessions
DESCRIPTION:Fr. Grant will hear confessions from 3:30-5:00.
URL:https://www.saintcatherineschool.org/event/confessions/2023-04-01
LOCATION:Saint Catherine of Alexandria\, 4532 S. 25th W. Ave.\, Tulsa\, OK\, 74107\, United States
CATEGORIES:Church of Saint Catherine,Saint Catherine School
GEO:36.0981774;-96.0216659
X-APPLE-STRUCTURED-LOCATION;VALUE=URI;X-ADDRESS=Saint Catherine of Alexandria 4532 S. 25th W. Ave. Tulsa OK 74107 United States;X-APPLE-RADIUS=500;X-TITLE=4532 S. 25th W. Ave.:geo:-96.0216659,36.0981774
END:VEVENT
BEGIN:VEVENT
DTSTART;TZID=America/Chicago:20230402T073000
DTEND;TZID=America/Chicago:20230402T080000
DTSTAMP:20260425T213013
CREATED:20221129T175640Z
LAST-MODIFIED:20230825T193319Z
UID:10011185-1680420600-1680422400@www.saintcatherineschool.org
SUMMARY:Confessions
DESCRIPTION:Confessions are directly after Mass at 12:00pm.
URL:https://www.saintcatherineschool.org/event/confessions-5/2023-04-02
LOCATION:Saint Catherine of Alexandria\, 4532 S. 25th W. Ave.\, Tulsa\, OK\, 74107\, United States
CATEGORIES:Church of Saint Catherine,Saint Catherine School
ORGANIZER;CN="Fr. John Grant":MAILTO:fr.joh.grant@saint-catherine.org
GEO:36.0981774;-96.0216659
X-APPLE-STRUCTURED-LOCATION;VALUE=URI;X-ADDRESS=Saint Catherine of Alexandria 4532 S. 25th W. Ave. Tulsa OK 74107 United States;X-APPLE-RADIUS=500;X-TITLE=4532 S. 25th W. Ave.:geo:-96.0216659,36.0981774
END:VEVENT
BEGIN:VEVENT
DTSTART;TZID=America/Chicago:20230402T110000
DTEND;TZID=America/Chicago:20230402T140000
DTSTAMP:20260425T213013
CREATED:20221129T193934Z
LAST-MODIFIED:20230825T193505Z
UID:10011235-1680433200-1680444000@www.saintcatherineschool.org
SUMMARY:Tonu Maria Mass
DESCRIPTION:
URL:https://www.saintcatherineschool.org/event/tonu-maria-mass-14/2023-04-02
LOCATION:Saint Catherine of Alexandria\, 4532 S. 25th W. Ave.\, Tulsa\, OK\, 74107\, United States
CATEGORIES:Church of Saint Catherine,Saint Catherine School
ORGANIZER;CN="Fr. Robert Kim":MAILTO:fr.robert.kim@dioceseoftulsa.org
GEO:36.0981774;-96.0216659
X-APPLE-STRUCTURED-LOCATION;VALUE=URI;X-ADDRESS=Saint Catherine of Alexandria 4532 S. 25th W. Ave. Tulsa OK 74107 United States;X-APPLE-RADIUS=500;X-TITLE=4532 S. 25th W. Ave.:geo:-96.0216659,36.0981774
END:VEVENT
BEGIN:VEVENT
DTSTART;TZID=America/Chicago:20230402T153000
DTEND;TZID=America/Chicago:20230402T163000
DTSTAMP:20260425T213013
CREATED:20230307T143621Z
LAST-MODIFIED:20230307T143621Z
UID:10009533-1680449400-1680453000@www.saintcatherineschool.org
SUMMARY:Track Practice
DESCRIPTION:
URL:https://www.saintcatherineschool.org/event/track-practice-12/2023-04-02
LOCATION:Saint Catherine School\, 2515 W. 46th St.\, Tulsa\, OK\, 74107\, United States
CATEGORIES:Church of Saint Catherine,Saint Catherine School
ORGANIZER;CN="Monique McAtee":MAILTO:mmcatee@saint-catherine.org
GEO:36.0981282;-96.0219361
X-APPLE-STRUCTURED-LOCATION;VALUE=URI;X-ADDRESS=Saint Catherine School 2515 W. 46th St. Tulsa OK 74107 United States;X-APPLE-RADIUS=500;X-TITLE=2515 W. 46th St.:geo:-96.0219361,36.0981282
END:VEVENT
BEGIN:VEVENT
DTSTART;TZID=America/Chicago:20230403T153000
DTEND;TZID=America/Chicago:20230403T163000
DTSTAMP:20260425T213013
CREATED:20230307T143621Z
LAST-MODIFIED:20230307T143621Z
UID:10009534-1680535800-1680539400@www.saintcatherineschool.org
SUMMARY:Track Practice
DESCRIPTION:
URL:https://www.saintcatherineschool.org/event/track-practice-12/2023-04-03
LOCATION:Saint Catherine School\, 2515 W. 46th St.\, Tulsa\, OK\, 74107\, United States
CATEGORIES:Church of Saint Catherine,Saint Catherine School
ORGANIZER;CN="Monique McAtee":MAILTO:mmcatee@saint-catherine.org
GEO:36.0981282;-96.0219361
X-APPLE-STRUCTURED-LOCATION;VALUE=URI;X-ADDRESS=Saint Catherine School 2515 W. 46th St. Tulsa OK 74107 United States;X-APPLE-RADIUS=500;X-TITLE=2515 W. 46th St.:geo:-96.0219361,36.0981282
END:VEVENT
BEGIN:VEVENT
DTSTART;TZID=America/Chicago:20230403T153000
DTEND;TZID=America/Chicago:20230403T163000
DTSTAMP:20260425T213013
CREATED:20230307T145402Z
LAST-MODIFIED:20230307T145427Z
UID:10009484-1680535800-1680539400@www.saintcatherineschool.org
SUMMARY:3rd and 4th soccer practice
DESCRIPTION:
URL:https://www.saintcatherineschool.org/event/3rd-and-4th-soccer-practice-2/2023-04-03
LOCATION:Saint Catherine School\, 2515 W. 46th St.\, Tulsa\, OK\, 74107\, United States
CATEGORIES:Church of Saint Catherine,Saint Catherine School
ORGANIZER;CN="Sam Naab":MAILTO:snaab@saint-catherine.org
GEO:36.0981282;-96.0219361
X-APPLE-STRUCTURED-LOCATION;VALUE=URI;X-ADDRESS=Saint Catherine School 2515 W. 46th St. Tulsa OK 74107 United States;X-APPLE-RADIUS=500;X-TITLE=2515 W. 46th St.:geo:-96.0219361,36.0981282
END:VEVENT
BEGIN:VEVENT
DTSTART;TZID=America/Chicago:20230403T153000
DTEND;TZID=America/Chicago:20230403T170000
DTSTAMP:20260425T213013
CREATED:20230307T145247Z
LAST-MODIFIED:20230307T145247Z
UID:10009490-1680535800-1680541200@www.saintcatherineschool.org
SUMMARY:Volleyball Club
DESCRIPTION:Volleyball Club will meet on Mondays unless Ms. Anthamatten sends you an emails saying that it is cancelled.
URL:https://www.saintcatherineschool.org/event/volleyball-club-5/2023-04-03
LOCATION:St. Catherine Activity Center\, 2515 West 46th Street\, Tulsa\, 74107-6629\, United States
CATEGORIES:Church of Saint Catherine,Saint Catherine School
ORGANIZER;CN="Kayley Anthamatten":MAILTO:kayleya@saint-catherine.org
GEO:36.0981282;-96.0219361
X-APPLE-STRUCTURED-LOCATION;VALUE=URI;X-ADDRESS=St. Catherine Activity Center 2515 West 46th Street Tulsa 74107-6629 United States;X-APPLE-RADIUS=500;X-TITLE=2515 West 46th Street:geo:-96.0219361,36.0981282
END:VEVENT
BEGIN:VEVENT
DTSTART;TZID=America/Chicago:20230404T081500
DTEND;TZID=America/Chicago:20230404T090000
DTSTAMP:20260425T213013
CREATED:20230120T172231Z
LAST-MODIFIED:20230120T172231Z
UID:10008175-1680596100-1680598800@www.saintcatherineschool.org
SUMMARY:Mass - Saint Catherine
DESCRIPTION:
URL:https://www.saintcatherineschool.org/event/mass-saint-catherine-19/2023-04-04
LOCATION:Saint Catherine of Alexandria\, 4532 S. 25th W. Ave.\, Tulsa\, OK\, 74107\, United States
CATEGORIES:Church of Saint Catherine,Saint Catherine School
ORGANIZER;CN="Fr. John Grant":MAILTO:fr.joh.grant@saint-catherine.org
GEO:36.0981774;-96.0216659
X-APPLE-STRUCTURED-LOCATION;VALUE=URI;X-ADDRESS=Saint Catherine of Alexandria 4532 S. 25th W. Ave. Tulsa OK 74107 United States;X-APPLE-RADIUS=500;X-TITLE=4532 S. 25th W. Ave.:geo:-96.0216659,36.0981774
END:VEVENT
BEGIN:VEVENT
DTSTART;TZID=America/Chicago:20230404T153000
DTEND;TZID=America/Chicago:20230404T163000
DTSTAMP:20260425T213013
CREATED:20230307T143621Z
LAST-MODIFIED:20230307T143621Z
UID:10009535-1680622200-1680625800@www.saintcatherineschool.org
SUMMARY:Track Practice
DESCRIPTION:
URL:https://www.saintcatherineschool.org/event/track-practice-12/2023-04-04
LOCATION:Saint Catherine School\, 2515 W. 46th St.\, Tulsa\, OK\, 74107\, United States
CATEGORIES:Church of Saint Catherine,Saint Catherine School
ORGANIZER;CN="Monique McAtee":MAILTO:mmcatee@saint-catherine.org
GEO:36.0981282;-96.0219361
X-APPLE-STRUCTURED-LOCATION;VALUE=URI;X-ADDRESS=Saint Catherine School 2515 W. 46th St. Tulsa OK 74107 United States;X-APPLE-RADIUS=500;X-TITLE=2515 W. 46th St.:geo:-96.0219361,36.0981282
END:VEVENT
BEGIN:VEVENT
DTSTART;TZID=America/Chicago:20230404T153000
DTEND;TZID=America/Chicago:20230404T163000
DTSTAMP:20260425T213013
CREATED:20230307T143832Z
LAST-MODIFIED:20230307T143832Z
UID:10009501-1680622200-1680625800@www.saintcatherineschool.org
SUMMARY:Track Practice
DESCRIPTION:
URL:https://www.saintcatherineschool.org/event/track-practice-14/2023-04-04
LOCATION:Saint Catherine School\, 2515 W. 46th St.\, Tulsa\, OK\, 74107\, United States
CATEGORIES:Church of Saint Catherine,Saint Catherine School
ORGANIZER;CN="Monique McAtee":MAILTO:mmcatee@saint-catherine.org
GEO:36.0981282;-96.0219361
X-APPLE-STRUCTURED-LOCATION;VALUE=URI;X-ADDRESS=Saint Catherine School 2515 W. 46th St. Tulsa OK 74107 United States;X-APPLE-RADIUS=500;X-TITLE=2515 W. 46th St.:geo:-96.0219361,36.0981282
END:VEVENT
BEGIN:VEVENT
DTSTART;TZID=America/Chicago:20230404T153000
DTEND;TZID=America/Chicago:20230404T170000
DTSTAMP:20260425T213013
CREATED:20230307T151417Z
LAST-MODIFIED:20230307T151417Z
UID:10009461-1680622200-1680627600@www.saintcatherineschool.org
SUMMARY:Middle School Soccer Practice
DESCRIPTION:
URL:https://www.saintcatherineschool.org/event/middle-school-soccer-practice/2023-04-04
LOCATION:Saint Catherine School\, 2515 W. 46th St.\, Tulsa\, OK\, 74107\, United States
CATEGORIES:Church of Saint Catherine,Saint Catherine School
ORGANIZER;CN="Sam Naab":MAILTO:snaab@saint-catherine.org
GEO:36.0981282;-96.0219361
X-APPLE-STRUCTURED-LOCATION;VALUE=URI;X-ADDRESS=Saint Catherine School 2515 W. 46th St. Tulsa OK 74107 United States;X-APPLE-RADIUS=500;X-TITLE=2515 W. 46th St.:geo:-96.0219361,36.0981282
END:VEVENT
BEGIN:VEVENT
DTSTART;TZID=America/Chicago:20230405T080000
DTEND;TZID=America/Chicago:20230405T090000
DTSTAMP:20260425T213013
CREATED:20230120T172320Z
LAST-MODIFIED:20230120T172407Z
UID:10009645-1680681600-1680685200@www.saintcatherineschool.org
SUMMARY:Mass - Tonu Maria
DESCRIPTION:
URL:https://www.saintcatherineschool.org/event/mass-tonu-maria-11/2023-04-05
LOCATION:Saint Catherine of Alexandria\, 4532 S. 25th W. Ave.\, Tulsa\, OK\, 74107\, United States
CATEGORIES:Church of Saint Catherine,Saint Catherine School
ORGANIZER;CN="Fr. Robert Kim":MAILTO:fr.robert.kim@dioceseoftulsa.org
GEO:36.0981774;-96.0216659
X-APPLE-STRUCTURED-LOCATION;VALUE=URI;X-ADDRESS=Saint Catherine of Alexandria 4532 S. 25th W. Ave. Tulsa OK 74107 United States;X-APPLE-RADIUS=500;X-TITLE=4532 S. 25th W. Ave.:geo:-96.0216659,36.0981774
END:VEVENT
BEGIN:VEVENT
DTSTART;TZID=America/Chicago:20230405T153000
DTEND;TZID=America/Chicago:20230405T163000
DTSTAMP:20260425T213013
CREATED:20220825T212418Z
LAST-MODIFIED:20220825T212418Z
UID:10007960-1680708600-1680712200@www.saintcatherineschool.org
SUMMARY:Little Flowers Meeting
DESCRIPTION:
URL:https://www.saintcatherineschool.org/event/little-flowers-meeting-13
LOCATION:Saint Catherine School\, 2515 W. 46th St.\, Tulsa\, OK\, 74107\, United States
CATEGORIES:Church of Saint Catherine,Saint Catherine School
GEO:36.0981282;-96.0219361
X-APPLE-STRUCTURED-LOCATION;VALUE=URI;X-ADDRESS=Saint Catherine School 2515 W. 46th St. Tulsa OK 74107 United States;X-APPLE-RADIUS=500;X-TITLE=2515 W. 46th St.:geo:-96.0219361,36.0981282
END:VEVENT
BEGIN:VEVENT
DTSTART;TZID=America/Chicago:20230405T153000
DTEND;TZID=America/Chicago:20230405T163000
DTSTAMP:20260425T213013
CREATED:20230307T143621Z
LAST-MODIFIED:20230307T143621Z
UID:10009536-1680708600-1680712200@www.saintcatherineschool.org
SUMMARY:Track Practice
DESCRIPTION:
URL:https://www.saintcatherineschool.org/event/track-practice-12/2023-04-05
LOCATION:Saint Catherine School\, 2515 W. 46th St.\, Tulsa\, OK\, 74107\, United States
CATEGORIES:Church of Saint Catherine,Saint Catherine School
ORGANIZER;CN="Monique McAtee":MAILTO:mmcatee@saint-catherine.org
GEO:36.0981282;-96.0219361
X-APPLE-STRUCTURED-LOCATION;VALUE=URI;X-ADDRESS=Saint Catherine School 2515 W. 46th St. Tulsa OK 74107 United States;X-APPLE-RADIUS=500;X-TITLE=2515 W. 46th St.:geo:-96.0219361,36.0981282
END:VEVENT
BEGIN:VEVENT
DTSTART;TZID=America/Chicago:20230406T081500
DTEND;TZID=America/Chicago:20230406T090000
DTSTAMP:20260425T213013
CREATED:20230120T172528Z
LAST-MODIFIED:20230120T172528Z
UID:10009666-1680768900-1680771600@www.saintcatherineschool.org
SUMMARY:Mass - Saint Catherine
DESCRIPTION:
URL:https://www.saintcatherineschool.org/event/mass-saint-catherine-20/2023-04-06
LOCATION:Saint Catherine of Alexandria\, 4532 S. 25th W. Ave.\, Tulsa\, OK\, 74107\, United States
CATEGORIES:Church of Saint Catherine,Saint Catherine School
ORGANIZER;CN="Fr. John Grant":MAILTO:fr.joh.grant@saint-catherine.org
GEO:36.0981774;-96.0216659
X-APPLE-STRUCTURED-LOCATION;VALUE=URI;X-ADDRESS=Saint Catherine of Alexandria 4532 S. 25th W. Ave. Tulsa OK 74107 United States;X-APPLE-RADIUS=500;X-TITLE=4532 S. 25th W. Ave.:geo:-96.0216659,36.0981774
END:VEVENT
BEGIN:VEVENT
DTSTART;TZID=America/Chicago:20230406T153000
DTEND;TZID=America/Chicago:20230406T163000
DTSTAMP:20260425T213013
CREATED:20230307T143621Z
LAST-MODIFIED:20230307T143621Z
UID:10009537-1680795000-1680798600@www.saintcatherineschool.org
SUMMARY:Track Practice
DESCRIPTION:
URL:https://www.saintcatherineschool.org/event/track-practice-12/2023-04-06
LOCATION:Saint Catherine School\, 2515 W. 46th St.\, Tulsa\, OK\, 74107\, United States
CATEGORIES:Church of Saint Catherine,Saint Catherine School
ORGANIZER;CN="Monique McAtee":MAILTO:mmcatee@saint-catherine.org
GEO:36.0981282;-96.0219361
X-APPLE-STRUCTURED-LOCATION;VALUE=URI;X-ADDRESS=Saint Catherine School 2515 W. 46th St. Tulsa OK 74107 United States;X-APPLE-RADIUS=500;X-TITLE=2515 W. 46th St.:geo:-96.0219361,36.0981282
END:VEVENT
BEGIN:VEVENT
DTSTART;TZID=America/Chicago:20230406T153000
DTEND;TZID=America/Chicago:20230406T163000
DTSTAMP:20260425T213013
CREATED:20230307T143917Z
LAST-MODIFIED:20230307T143917Z
UID:10009496-1680795000-1680798600@www.saintcatherineschool.org
SUMMARY:Track Practice
DESCRIPTION:
URL:https://www.saintcatherineschool.org/event/track-practice-15/2023-04-06
LOCATION:Saint Catherine School\, 2515 W. 46th St.\, Tulsa\, OK\, 74107\, United States
CATEGORIES:Church of Saint Catherine,Saint Catherine School
ORGANIZER;CN="Monique McAtee":MAILTO:mmcatee@saint-catherine.org
GEO:36.0981282;-96.0219361
X-APPLE-STRUCTURED-LOCATION;VALUE=URI;X-ADDRESS=Saint Catherine School 2515 W. 46th St. Tulsa OK 74107 United States;X-APPLE-RADIUS=500;X-TITLE=2515 W. 46th St.:geo:-96.0219361,36.0981282
END:VEVENT
BEGIN:VEVENT
DTSTART;VALUE=DATE:20230407
DTEND;VALUE=DATE:20230408
DTSTAMP:20260425T213013
CREATED:20220728T202406Z
LAST-MODIFIED:20220728T202406Z
UID:10009216-1680825600-1680911999@www.saintcatherineschool.org
SUMMARY:Good Friday - No School
DESCRIPTION:
URL:https://www.saintcatherineschool.org/event/good-friday-no-school-3
LOCATION:Saint Catherine School\, 2515 W. 46th St.\, Tulsa\, OK\, 74107\, United States
CATEGORIES:Church of Saint Catherine,Saint Catherine School
ORGANIZER;CN="Michelle Anthamatten":MAILTO:manthamatten@saint-catherine.org
GEO:36.0981282;-96.0219361
X-APPLE-STRUCTURED-LOCATION;VALUE=URI;X-ADDRESS=Saint Catherine School 2515 W. 46th St. Tulsa OK 74107 United States;X-APPLE-RADIUS=500;X-TITLE=2515 W. 46th St.:geo:-96.0219361,36.0981282
END:VEVENT
BEGIN:VEVENT
DTSTART;TZID=America/Chicago:20230407T081500
DTEND;TZID=America/Chicago:20230407T090000
DTSTAMP:20260425T213013
CREATED:20230120T172700Z
LAST-MODIFIED:20230120T172700Z
UID:10009656-1680855300-1680858000@www.saintcatherineschool.org
SUMMARY:Mass - Saint Catherine
DESCRIPTION:
URL:https://www.saintcatherineschool.org/event/mass-saint-catherine-21/2023-04-07
LOCATION:Saint Catherine of Alexandria\, 4532 S. 25th W. Ave.\, Tulsa\, OK\, 74107\, United States
CATEGORIES:Church of Saint Catherine,Saint Catherine School
ORGANIZER;CN="Fr. John Grant":MAILTO:fr.joh.grant@saint-catherine.org
GEO:36.0981774;-96.0216659
X-APPLE-STRUCTURED-LOCATION;VALUE=URI;X-ADDRESS=Saint Catherine of Alexandria 4532 S. 25th W. Ave. Tulsa OK 74107 United States;X-APPLE-RADIUS=500;X-TITLE=4532 S. 25th W. Ave.:geo:-96.0216659,36.0981774
END:VEVENT
BEGIN:VEVENT
DTSTART;TZID=America/Chicago:20230407T153000
DTEND;TZID=America/Chicago:20230407T163000
DTSTAMP:20260425T213013
CREATED:20230307T143621Z
LAST-MODIFIED:20230307T143621Z
UID:10009538-1680881400-1680885000@www.saintcatherineschool.org
SUMMARY:Track Practice
DESCRIPTION:
URL:https://www.saintcatherineschool.org/event/track-practice-12/2023-04-07
LOCATION:Saint Catherine School\, 2515 W. 46th St.\, Tulsa\, OK\, 74107\, United States
CATEGORIES:Church of Saint Catherine,Saint Catherine School
ORGANIZER;CN="Monique McAtee":MAILTO:mmcatee@saint-catherine.org
GEO:36.0981282;-96.0219361
X-APPLE-STRUCTURED-LOCATION;VALUE=URI;X-ADDRESS=Saint Catherine School 2515 W. 46th St. Tulsa OK 74107 United States;X-APPLE-RADIUS=500;X-TITLE=2515 W. 46th St.:geo:-96.0219361,36.0981282
END:VEVENT
BEGIN:VEVENT
DTSTART;TZID=America/Chicago:20230407T153000
DTEND;TZID=America/Chicago:20230407T163000
DTSTAMP:20260425T213013
CREATED:20230307T145533Z
LAST-MODIFIED:20230307T145533Z
UID:10009477-1680881400-1680885000@www.saintcatherineschool.org
SUMMARY:1st and 2nd soccer practice
DESCRIPTION:
URL:https://www.saintcatherineschool.org/event/1st-and-2nd-soccer-practice/2023-04-07
LOCATION:Saint Catherine School\, 2515 W. 46th St.\, Tulsa\, OK\, 74107\, United States
CATEGORIES:Church of Saint Catherine,Saint Catherine School
ORGANIZER;CN="Sam Naab":MAILTO:snaab@saint-catherine.org
GEO:36.0981282;-96.0219361
X-APPLE-STRUCTURED-LOCATION;VALUE=URI;X-ADDRESS=Saint Catherine School 2515 W. 46th St. Tulsa OK 74107 United States;X-APPLE-RADIUS=500;X-TITLE=2515 W. 46th St.:geo:-96.0219361,36.0981282
END:VEVENT
BEGIN:VEVENT
DTSTART;TZID=America/Chicago:20230407T153000
DTEND;TZID=America/Chicago:20230407T170000
DTSTAMP:20260425T213013
CREATED:20230307T151500Z
LAST-MODIFIED:20230307T151500Z
UID:10009687-1680881400-1680886800@www.saintcatherineschool.org
SUMMARY:Middle School Soccer Practice
DESCRIPTION:
URL:https://www.saintcatherineschool.org/event/middle-school-soccer-practice-2/2023-04-07
LOCATION:Saint Catherine School\, 2515 W. 46th St.\, Tulsa\, OK\, 74107\, United States
CATEGORIES:Church of Saint Catherine,Saint Catherine School
ORGANIZER;CN="Sam Naab":MAILTO:snaab@saint-catherine.org
GEO:36.0981282;-96.0219361
X-APPLE-STRUCTURED-LOCATION;VALUE=URI;X-ADDRESS=Saint Catherine School 2515 W. 46th St. Tulsa OK 74107 United States;X-APPLE-RADIUS=500;X-TITLE=2515 W. 46th St.:geo:-96.0219361,36.0981282
END:VEVENT
BEGIN:VEVENT
DTSTART;TZID=America/Chicago:20230408T120000
DTEND;TZID=America/Chicago:20230408T130000
DTSTAMP:20260425T213013
CREATED:20180123T015350Z
LAST-MODIFIED:20180123T015350Z
UID:10007015-1680955200-1680958800@www.saintcatherineschool.org
SUMMARY:Mass
DESCRIPTION:Mass begins at 5pm in the Church.
URL:https://www.saintcatherineschool.org/event/mass-8/2023-04-08
LOCATION:OK
CATEGORIES:Church of Saint Catherine,Saint Catherine School
END:VEVENT
BEGIN:VEVENT
DTSTART;TZID=America/Chicago:20230408T153000
DTEND;TZID=America/Chicago:20230408T163000
DTSTAMP:20260425T213013
CREATED:20230307T143621Z
LAST-MODIFIED:20230307T143621Z
UID:10009539-1680967800-1680971400@www.saintcatherineschool.org
SUMMARY:Track Practice
DESCRIPTION:
URL:https://www.saintcatherineschool.org/event/track-practice-12/2023-04-08
LOCATION:Saint Catherine School\, 2515 W. 46th St.\, Tulsa\, OK\, 74107\, United States
CATEGORIES:Church of Saint Catherine,Saint Catherine School
ORGANIZER;CN="Monique McAtee":MAILTO:mmcatee@saint-catherine.org
GEO:36.0981282;-96.0219361
X-APPLE-STRUCTURED-LOCATION;VALUE=URI;X-ADDRESS=Saint Catherine School 2515 W. 46th St. Tulsa OK 74107 United States;X-APPLE-RADIUS=500;X-TITLE=2515 W. 46th St.:geo:-96.0219361,36.0981282
END:VEVENT
BEGIN:VEVENT
DTSTART;TZID=America/Chicago:20230408T153000
DTEND;TZID=America/Chicago:20230408T170000
DTSTAMP:20260425T213013
CREATED:20180123T023113Z
LAST-MODIFIED:20201202T201345Z
UID:10005852-1680967800-1680973200@www.saintcatherineschool.org
SUMMARY:Confessions
DESCRIPTION:Fr. Grant will hear confessions from 3:30-5:00.
URL:https://www.saintcatherineschool.org/event/confessions/2023-04-08
LOCATION:Saint Catherine of Alexandria\, 4532 S. 25th W. Ave.\, Tulsa\, OK\, 74107\, United States
CATEGORIES:Church of Saint Catherine,Saint Catherine School
GEO:36.0981774;-96.0216659
X-APPLE-STRUCTURED-LOCATION;VALUE=URI;X-ADDRESS=Saint Catherine of Alexandria 4532 S. 25th W. Ave. Tulsa OK 74107 United States;X-APPLE-RADIUS=500;X-TITLE=4532 S. 25th W. Ave.:geo:-96.0216659,36.0981774
END:VEVENT
BEGIN:VEVENT
DTSTART;TZID=America/Chicago:20230409T073000
DTEND;TZID=America/Chicago:20230409T080000
DTSTAMP:20260425T213013
CREATED:20221129T175640Z
LAST-MODIFIED:20230825T193319Z
UID:10011186-1681025400-1681027200@www.saintcatherineschool.org
SUMMARY:Confessions
DESCRIPTION:Confessions are directly after Mass at 12:00pm.
URL:https://www.saintcatherineschool.org/event/confessions-5/2023-04-09
LOCATION:Saint Catherine of Alexandria\, 4532 S. 25th W. Ave.\, Tulsa\, OK\, 74107\, United States
CATEGORIES:Church of Saint Catherine,Saint Catherine School
ORGANIZER;CN="Fr. John Grant":MAILTO:fr.joh.grant@saint-catherine.org
GEO:36.0981774;-96.0216659
X-APPLE-STRUCTURED-LOCATION;VALUE=URI;X-ADDRESS=Saint Catherine of Alexandria 4532 S. 25th W. Ave. Tulsa OK 74107 United States;X-APPLE-RADIUS=500;X-TITLE=4532 S. 25th W. Ave.:geo:-96.0216659,36.0981774
END:VEVENT
BEGIN:VEVENT
DTSTART;TZID=America/Chicago:20230409T110000
DTEND;TZID=America/Chicago:20230409T140000
DTSTAMP:20260425T213013
CREATED:20221129T193934Z
LAST-MODIFIED:20230825T193505Z
UID:10011236-1681038000-1681048800@www.saintcatherineschool.org
SUMMARY:Tonu Maria Mass
DESCRIPTION:
URL:https://www.saintcatherineschool.org/event/tonu-maria-mass-14/2023-04-09
LOCATION:Saint Catherine of Alexandria\, 4532 S. 25th W. Ave.\, Tulsa\, OK\, 74107\, United States
CATEGORIES:Church of Saint Catherine,Saint Catherine School
ORGANIZER;CN="Fr. Robert Kim":MAILTO:fr.robert.kim@dioceseoftulsa.org
GEO:36.0981774;-96.0216659
X-APPLE-STRUCTURED-LOCATION;VALUE=URI;X-ADDRESS=Saint Catherine of Alexandria 4532 S. 25th W. Ave. Tulsa OK 74107 United States;X-APPLE-RADIUS=500;X-TITLE=4532 S. 25th W. Ave.:geo:-96.0216659,36.0981774
END:VEVENT
END:VCALENDAR