BEGIN:VCALENDAR
VERSION:2.0
PRODID:-//Saint Catherine of Alexandria School - ECPv6.15.20//NONSGML v1.0//EN
CALSCALE:GREGORIAN
METHOD:PUBLISH
X-WR-CALNAME:Saint Catherine of Alexandria School
X-ORIGINAL-URL:https://www.saintcatherineschool.org
X-WR-CALDESC:Events for Saint Catherine of Alexandria School
REFRESH-INTERVAL;VALUE=DURATION:PT1H
X-Robots-Tag:noindex
X-PUBLISHED-TTL:PT1H
BEGIN:VTIMEZONE
TZID:America/Chicago
BEGIN:DAYLIGHT
TZOFFSETFROM:-0600
TZOFFSETTO:-0500
TZNAME:CDT
DTSTART:20220313T080000
END:DAYLIGHT
BEGIN:STANDARD
TZOFFSETFROM:-0500
TZOFFSETTO:-0600
TZNAME:CST
DTSTART:20221106T070000
END:STANDARD
BEGIN:DAYLIGHT
TZOFFSETFROM:-0600
TZOFFSETTO:-0500
TZNAME:CDT
DTSTART:20230312T080000
END:DAYLIGHT
BEGIN:STANDARD
TZOFFSETFROM:-0500
TZOFFSETTO:-0600
TZNAME:CST
DTSTART:20231105T070000
END:STANDARD
BEGIN:DAYLIGHT
TZOFFSETFROM:-0600
TZOFFSETTO:-0500
TZNAME:CDT
DTSTART:20240310T080000
END:DAYLIGHT
BEGIN:STANDARD
TZOFFSETFROM:-0500
TZOFFSETTO:-0600
TZNAME:CST
DTSTART:20241103T070000
END:STANDARD
END:VTIMEZONE
BEGIN:VEVENT
DTSTART;TZID=America/Chicago:20230716T073000
DTEND;TZID=America/Chicago:20230716T080000
DTSTAMP:20260425T200241
CREATED:20221129T175640Z
LAST-MODIFIED:20230825T193319Z
UID:10011200-1689492600-1689494400@www.saintcatherineschool.org
SUMMARY:Confessions
DESCRIPTION:Confessions are directly after Mass at 12:00pm.
URL:https://www.saintcatherineschool.org/event/confessions-5/2023-07-16
LOCATION:Saint Catherine of Alexandria\, 4532 S. 25th W. Ave.\, Tulsa\, OK\, 74107\, United States
CATEGORIES:Church of Saint Catherine,Saint Catherine School
ORGANIZER;CN="Fr. John Grant":MAILTO:fr.joh.grant@saint-catherine.org
GEO:36.0981774;-96.0216659
X-APPLE-STRUCTURED-LOCATION;VALUE=URI;X-ADDRESS=Saint Catherine of Alexandria 4532 S. 25th W. Ave. Tulsa OK 74107 United States;X-APPLE-RADIUS=500;X-TITLE=4532 S. 25th W. Ave.:geo:-96.0216659,36.0981774
END:VEVENT
BEGIN:VEVENT
DTSTART;TZID=America/Chicago:20230716T110000
DTEND;TZID=America/Chicago:20230716T140000
DTSTAMP:20260425T200241
CREATED:20221129T193934Z
LAST-MODIFIED:20230825T193505Z
UID:10011250-1689505200-1689516000@www.saintcatherineschool.org
SUMMARY:Tonu Maria Mass
DESCRIPTION:
URL:https://www.saintcatherineschool.org/event/tonu-maria-mass-14/2023-07-16
LOCATION:Saint Catherine of Alexandria\, 4532 S. 25th W. Ave.\, Tulsa\, OK\, 74107\, United States
CATEGORIES:Church of Saint Catherine,Saint Catherine School
ORGANIZER;CN="Fr. Robert Kim":MAILTO:fr.robert.kim@dioceseoftulsa.org
GEO:36.0981774;-96.0216659
X-APPLE-STRUCTURED-LOCATION;VALUE=URI;X-ADDRESS=Saint Catherine of Alexandria 4532 S. 25th W. Ave. Tulsa OK 74107 United States;X-APPLE-RADIUS=500;X-TITLE=4532 S. 25th W. Ave.:geo:-96.0216659,36.0981774
END:VEVENT
BEGIN:VEVENT
DTSTART;TZID=America/Chicago:20230716T153000
DTEND;TZID=America/Chicago:20230716T163000
DTSTAMP:20260425T200241
CREATED:20230307T143621Z
LAST-MODIFIED:20230307T143621Z
UID:10009638-1689521400-1689525000@www.saintcatherineschool.org
SUMMARY:Track Practice
DESCRIPTION:
URL:https://www.saintcatherineschool.org/event/track-practice-12/2023-07-16
LOCATION:Saint Catherine School\, 2515 W. 46th St.\, Tulsa\, OK\, 74107\, United States
CATEGORIES:Church of Saint Catherine,Saint Catherine School
ORGANIZER;CN="Monique McAtee":MAILTO:mmcatee@saint-catherine.org
GEO:36.0981282;-96.0219361
X-APPLE-STRUCTURED-LOCATION;VALUE=URI;X-ADDRESS=Saint Catherine School 2515 W. 46th St. Tulsa OK 74107 United States;X-APPLE-RADIUS=500;X-TITLE=2515 W. 46th St.:geo:-96.0219361,36.0981282
END:VEVENT
BEGIN:VEVENT
DTSTART;TZID=America/Chicago:20230717T153000
DTEND;TZID=America/Chicago:20230717T163000
DTSTAMP:20260425T200241
CREATED:20230307T143621Z
LAST-MODIFIED:20230307T143621Z
UID:10009639-1689607800-1689611400@www.saintcatherineschool.org
SUMMARY:Track Practice
DESCRIPTION:
URL:https://www.saintcatherineschool.org/event/track-practice-12/2023-07-17
LOCATION:Saint Catherine School\, 2515 W. 46th St.\, Tulsa\, OK\, 74107\, United States
CATEGORIES:Church of Saint Catherine,Saint Catherine School
ORGANIZER;CN="Monique McAtee":MAILTO:mmcatee@saint-catherine.org
GEO:36.0981282;-96.0219361
X-APPLE-STRUCTURED-LOCATION;VALUE=URI;X-ADDRESS=Saint Catherine School 2515 W. 46th St. Tulsa OK 74107 United States;X-APPLE-RADIUS=500;X-TITLE=2515 W. 46th St.:geo:-96.0219361,36.0981282
END:VEVENT
BEGIN:VEVENT
DTSTART;TZID=America/Chicago:20230718T081500
DTEND;TZID=America/Chicago:20230718T090000
DTSTAMP:20260425T200241
CREATED:20230524T174307Z
LAST-MODIFIED:20230524T174307Z
UID:10009747-1689668100-1689670800@www.saintcatherineschool.org
SUMMARY:Mass - Saint Catherine
DESCRIPTION:
URL:https://www.saintcatherineschool.org/event/mass-saint-catherine-22/2023-07-18
LOCATION:Saint Catherine of Alexandria\, 4532 S. 25th W. Ave.\, Tulsa\, OK\, 74107\, United States
CATEGORIES:Church of Saint Catherine,Saint Catherine School
ORGANIZER;CN="Fr. John Grant":MAILTO:fr.joh.grant@saint-catherine.org
GEO:36.0981774;-96.0216659
X-APPLE-STRUCTURED-LOCATION;VALUE=URI;X-ADDRESS=Saint Catherine of Alexandria 4532 S. 25th W. Ave. Tulsa OK 74107 United States;X-APPLE-RADIUS=500;X-TITLE=4532 S. 25th W. Ave.:geo:-96.0216659,36.0981774
END:VEVENT
BEGIN:VEVENT
DTSTART;TZID=America/Chicago:20230720T081500
DTEND;TZID=America/Chicago:20230720T090000
DTSTAMP:20260425T200241
CREATED:20230524T174441Z
LAST-MODIFIED:20230524T174441Z
UID:10009729-1689840900-1689843600@www.saintcatherineschool.org
SUMMARY:Mass - Saint Catherine
DESCRIPTION:
URL:https://www.saintcatherineschool.org/event/mass-saint-catherine-23/2023-07-20
LOCATION:Saint Catherine of Alexandria\, 4532 S. 25th W. Ave.\, Tulsa\, OK\, 74107\, United States
CATEGORIES:Church of Saint Catherine,Saint Catherine School
ORGANIZER;CN="Fr. John Grant":MAILTO:fr.joh.grant@saint-catherine.org
GEO:36.0981774;-96.0216659
X-APPLE-STRUCTURED-LOCATION;VALUE=URI;X-ADDRESS=Saint Catherine of Alexandria 4532 S. 25th W. Ave. Tulsa OK 74107 United States;X-APPLE-RADIUS=500;X-TITLE=4532 S. 25th W. Ave.:geo:-96.0216659,36.0981774
END:VEVENT
BEGIN:VEVENT
DTSTART;TZID=America/Chicago:20230721T081500
DTEND;TZID=America/Chicago:20230721T090000
DTSTAMP:20260425T200241
CREATED:20230524T174527Z
LAST-MODIFIED:20230524T174553Z
UID:10009713-1689927300-1689930000@www.saintcatherineschool.org
SUMMARY:Mass - Saint Catherine
DESCRIPTION:
URL:https://www.saintcatherineschool.org/event/mass-saint-catherine-24/2023-07-21
LOCATION:Saint Catherine of Alexandria\, 4532 S. 25th W. Ave.\, Tulsa\, OK\, 74107\, United States
CATEGORIES:Church of Saint Catherine,Saint Catherine School
ORGANIZER;CN="Fr. John Grant":MAILTO:fr.joh.grant@saint-catherine.org
GEO:36.0981774;-96.0216659
X-APPLE-STRUCTURED-LOCATION;VALUE=URI;X-ADDRESS=Saint Catherine of Alexandria 4532 S. 25th W. Ave. Tulsa OK 74107 United States;X-APPLE-RADIUS=500;X-TITLE=4532 S. 25th W. Ave.:geo:-96.0216659,36.0981774
END:VEVENT
BEGIN:VEVENT
DTSTART;TZID=America/Chicago:20230722T153000
DTEND;TZID=America/Chicago:20230722T170000
DTSTAMP:20260425T200241
CREATED:20180123T023113Z
LAST-MODIFIED:20201202T201345Z
UID:10005867-1690039800-1690045200@www.saintcatherineschool.org
SUMMARY:Confessions
DESCRIPTION:Fr. Grant will hear confessions from 3:30-5:00.
URL:https://www.saintcatherineschool.org/event/confessions/2023-07-22
LOCATION:Saint Catherine of Alexandria\, 4532 S. 25th W. Ave.\, Tulsa\, OK\, 74107\, United States
CATEGORIES:Church of Saint Catherine,Saint Catherine School
GEO:36.0981774;-96.0216659
X-APPLE-STRUCTURED-LOCATION;VALUE=URI;X-ADDRESS=Saint Catherine of Alexandria 4532 S. 25th W. Ave. Tulsa OK 74107 United States;X-APPLE-RADIUS=500;X-TITLE=4532 S. 25th W. Ave.:geo:-96.0216659,36.0981774
END:VEVENT
END:VCALENDAR