BEGIN:VCALENDAR
VERSION:2.0
PRODID:-//Saint Catherine of Alexandria School - ECPv6.15.20//NONSGML v1.0//EN
CALSCALE:GREGORIAN
METHOD:PUBLISH
X-ORIGINAL-URL:https://www.saintcatherineschool.org
X-WR-CALDESC:Events for Saint Catherine of Alexandria School
REFRESH-INTERVAL;VALUE=DURATION:PT1H
X-Robots-Tag:noindex
X-PUBLISHED-TTL:PT1H
BEGIN:VTIMEZONE
TZID:America/Chicago
BEGIN:DAYLIGHT
TZOFFSETFROM:-0600
TZOFFSETTO:-0500
TZNAME:CDT
DTSTART:20230312T080000
END:DAYLIGHT
BEGIN:STANDARD
TZOFFSETFROM:-0500
TZOFFSETTO:-0600
TZNAME:CST
DTSTART:20231105T070000
END:STANDARD
BEGIN:DAYLIGHT
TZOFFSETFROM:-0600
TZOFFSETTO:-0500
TZNAME:CDT
DTSTART:20240310T080000
END:DAYLIGHT
BEGIN:STANDARD
TZOFFSETFROM:-0500
TZOFFSETTO:-0600
TZNAME:CST
DTSTART:20241103T070000
END:STANDARD
BEGIN:DAYLIGHT
TZOFFSETFROM:-0600
TZOFFSETTO:-0500
TZNAME:CDT
DTSTART:20250309T080000
END:DAYLIGHT
BEGIN:STANDARD
TZOFFSETFROM:-0500
TZOFFSETTO:-0600
TZNAME:CST
DTSTART:20251102T070000
END:STANDARD
END:VTIMEZONE
BEGIN:VEVENT
DTSTART;TZID=America/Chicago:20240421T073000
DTEND;TZID=America/Chicago:20240421T080000
DTSTAMP:20260425T055822
CREATED:20240404T173415Z
LAST-MODIFIED:20240404T173415Z
UID:10011511-1713684600-1713686400@www.saintcatherineschool.org
SUMMARY:Confession
DESCRIPTION:
URL:https://www.saintcatherineschool.org/event/confession-8
LOCATION:Saint Catherine of Alexandria\, 4532 S. 25th W. Ave.\, Tulsa\, OK\, 74107\, United States
CATEGORIES:Church of Saint Catherine,Saint Catherine School
ORGANIZER;CN="Fr. John Grant":MAILTO:fr.joh.grant@saint-catherine.org
GEO:36.0981774;-96.0216659
X-APPLE-STRUCTURED-LOCATION;VALUE=URI;X-ADDRESS=Saint Catherine of Alexandria 4532 S. 25th W. Ave. Tulsa OK 74107 United States;X-APPLE-RADIUS=500;X-TITLE=4532 S. 25th W. Ave.:geo:-96.0216659,36.0981774
END:VEVENT
BEGIN:VEVENT
DTSTART;TZID=America/Chicago:20240421T080000
DTEND;TZID=America/Chicago:20240421T090000
DTSTAMP:20260425T055822
CREATED:20240404T172502Z
LAST-MODIFIED:20240404T172502Z
UID:10011501-1713686400-1713690000@www.saintcatherineschool.org
SUMMARY:Mass - Saint Catherine
DESCRIPTION:
URL:https://www.saintcatherineschool.org/event/mass-saint-catherine-55
LOCATION:Saint Catherine of Alexandria\, 4532 S. 25th W. Ave.\, Tulsa\, OK\, 74107\, United States
CATEGORIES:Church of Saint Catherine,Saint Catherine School
ORGANIZER;CN="Fr. John Grant":MAILTO:fr.joh.grant@saint-catherine.org
GEO:36.0981774;-96.0216659
X-APPLE-STRUCTURED-LOCATION;VALUE=URI;X-ADDRESS=Saint Catherine of Alexandria 4532 S. 25th W. Ave. Tulsa OK 74107 United States;X-APPLE-RADIUS=500;X-TITLE=4532 S. 25th W. Ave.:geo:-96.0216659,36.0981774
END:VEVENT
BEGIN:VEVENT
DTSTART;TZID=America/Chicago:20240421T110000
DTEND;TZID=America/Chicago:20240421T120000
DTSTAMP:20260425T055822
CREATED:20240404T172603Z
LAST-MODIFIED:20240404T172603Z
UID:10011502-1713697200-1713700800@www.saintcatherineschool.org
SUMMARY:Mass - Tonu Maria
DESCRIPTION:
URL:https://www.saintcatherineschool.org/event/mass-tonu-maria-26
LOCATION:Saint Catherine of Alexandria\, 4532 S. 25th W. Ave.\, Tulsa\, OK\, 74107\, United States
CATEGORIES:Church of Saint Catherine,Saint Catherine School
ORGANIZER;CN="Fr. Robert Kim":MAILTO:fr.robert.kim@dioceseoftulsa.org
GEO:36.0981774;-96.0216659
X-APPLE-STRUCTURED-LOCATION;VALUE=URI;X-ADDRESS=Saint Catherine of Alexandria 4532 S. 25th W. Ave. Tulsa OK 74107 United States;X-APPLE-RADIUS=500;X-TITLE=4532 S. 25th W. Ave.:geo:-96.0216659,36.0981774
END:VEVENT
BEGIN:VEVENT
DTSTART;TZID=America/Chicago:20240422T100000
DTEND;TZID=America/Chicago:20240422T140000
DTSTAMP:20260425T055822
CREATED:20240404T155828Z
LAST-MODIFIED:20240404T155828Z
UID:10011486-1713780000-1713794400@www.saintcatherineschool.org
SUMMARY:1st Grade to Fiesta Acres
DESCRIPTION:
URL:https://www.saintcatherineschool.org/event/1st-grade-to-fiesta-acres
LOCATION:Saint Catherine School\, 2515 W. 46th St.\, Tulsa\, OK\, 74107\, United States
CATEGORIES:Church of Saint Catherine,Saint Catherine School
ORGANIZER;CN="Betsy Chavez":MAILTO:bchavez@saint-catherine.org
GEO:36.0981282;-96.0219361
X-APPLE-STRUCTURED-LOCATION;VALUE=URI;X-ADDRESS=Saint Catherine School 2515 W. 46th St. Tulsa OK 74107 United States;X-APPLE-RADIUS=500;X-TITLE=2515 W. 46th St.:geo:-96.0219361,36.0981282
END:VEVENT
BEGIN:VEVENT
DTSTART;TZID=America/Chicago:20240422T153000
DTEND;TZID=America/Chicago:20240422T163000
DTSTAMP:20260425T055822
CREATED:20240404T181103Z
LAST-MODIFIED:20240404T181202Z
UID:10011523-1713799800-1713803400@www.saintcatherineschool.org
SUMMARY:Fire Soccer Practice
DESCRIPTION:
URL:https://www.saintcatherineschool.org/event/fire-soccer-practice-3
LOCATION:Saint Catherine School\, 2515 W. 46th St.\, Tulsa\, OK\, 74107\, United States
CATEGORIES:Church of Saint Catherine,Saint Catherine School
ORGANIZER;CN="Sam Naab":MAILTO:snaab@saint-catherine.org
GEO:36.0981282;-96.0219361
X-APPLE-STRUCTURED-LOCATION;VALUE=URI;X-ADDRESS=Saint Catherine School 2515 W. 46th St. Tulsa OK 74107 United States;X-APPLE-RADIUS=500;X-TITLE=2515 W. 46th St.:geo:-96.0219361,36.0981282
END:VEVENT
BEGIN:VEVENT
DTSTART;TZID=America/Chicago:20240422T153000
DTEND;TZID=America/Chicago:20240422T170000
DTSTAMP:20260425T055822
CREATED:20240404T155548Z
LAST-MODIFIED:20240404T155548Z
UID:10011483-1713799800-1713805200@www.saintcatherineschool.org
SUMMARY:Volleyball Club
DESCRIPTION:
URL:https://www.saintcatherineschool.org/event/volleyball-club-13
LOCATION:Saint Catherine School\, 2515 W. 46th St.\, Tulsa\, OK\, 74107\, United States
CATEGORIES:Church of Saint Catherine,Saint Catherine School
ORGANIZER;CN="Kayley Anthamatten":MAILTO:kayleya@saint-catherine.org
GEO:36.0981282;-96.0219361
X-APPLE-STRUCTURED-LOCATION;VALUE=URI;X-ADDRESS=Saint Catherine School 2515 W. 46th St. Tulsa OK 74107 United States;X-APPLE-RADIUS=500;X-TITLE=2515 W. 46th St.:geo:-96.0219361,36.0981282
END:VEVENT
BEGIN:VEVENT
DTSTART;TZID=America/Chicago:20240423T081500
DTEND;TZID=America/Chicago:20240423T090000
DTSTAMP:20260425T055822
CREATED:20230718T183503Z
LAST-MODIFIED:20230718T183503Z
UID:10010238-1713860100-1713862800@www.saintcatherineschool.org
SUMMARY:Mass - Saint Cathrine
DESCRIPTION:This Mass is said in English.
URL:https://www.saintcatherineschool.org/event/mass-saint-cathrine/2024-04-23
LOCATION:OK
CATEGORIES:Church of Saint Catherine,Saint Catherine School
END:VEVENT
BEGIN:VEVENT
DTSTART;TZID=America/Chicago:20240423T081500
DTEND;TZID=America/Chicago:20240423T090000
DTSTAMP:20260425T055822
CREATED:20240404T143847Z
LAST-MODIFIED:20240404T143847Z
UID:10011472-1713860100-1713862800@www.saintcatherineschool.org
SUMMARY:Mass - Saint Catherine
DESCRIPTION:This Mass is said in English.
URL:https://www.saintcatherineschool.org/event/mass-saint-catherine-47
LOCATION:Saint Catherine of Alexandria\, 4532 S. 25th W. Ave.\, Tulsa\, OK\, 74107\, United States
CATEGORIES:Church of Saint Catherine,Saint Catherine School
ORGANIZER;CN="Fr. John Grant":MAILTO:fr.joh.grant@saint-catherine.org
GEO:36.0981774;-96.0216659
X-APPLE-STRUCTURED-LOCATION;VALUE=URI;X-ADDRESS=Saint Catherine of Alexandria 4532 S. 25th W. Ave. Tulsa OK 74107 United States;X-APPLE-RADIUS=500;X-TITLE=4532 S. 25th W. Ave.:geo:-96.0216659,36.0981774
END:VEVENT
BEGIN:VEVENT
DTSTART;TZID=America/Chicago:20240423T153000
DTEND;TZID=America/Chicago:20240423T170000
DTSTAMP:20260425T055822
CREATED:20240404T184251Z
LAST-MODIFIED:20240404T184251Z
UID:10011538-1713886200-1713891600@www.saintcatherineschool.org
SUMMARY:Real Madrid/FC Barcelona Practice
DESCRIPTION:
URL:https://www.saintcatherineschool.org/event/real-madrid-fc-barcelona-practice
LOCATION:Saint Catherine School\, 2515 W. 46th St.\, Tulsa\, OK\, 74107\, United States
CATEGORIES:Church of Saint Catherine,Saint Catherine School
ORGANIZER;CN="Sam Naab":MAILTO:snaab@saint-catherine.org
GEO:36.0981282;-96.0219361
X-APPLE-STRUCTURED-LOCATION;VALUE=URI;X-ADDRESS=Saint Catherine School 2515 W. 46th St. Tulsa OK 74107 United States;X-APPLE-RADIUS=500;X-TITLE=2515 W. 46th St.:geo:-96.0219361,36.0981282
END:VEVENT
BEGIN:VEVENT
DTSTART;TZID=America/Chicago:20240424T080000
DTEND;TZID=America/Chicago:20240424T090000
DTSTAMP:20260425T055822
CREATED:20240404T154553Z
LAST-MODIFIED:20240404T154553Z
UID:10011475-1713945600-1713949200@www.saintcatherineschool.org
SUMMARY:Mass - Tonu Maria
DESCRIPTION:This Mass is said in Zomi.
URL:https://www.saintcatherineschool.org/event/mass-tonu-maria-22
LOCATION:Saint Catherine of Alexandria\, 4532 S. 25th W. Ave.\, Tulsa\, OK\, 74107\, United States
CATEGORIES:Church of Saint Catherine,Saint Catherine School
ORGANIZER;CN="Fr. Robert Kim":MAILTO:fr.robert.kim@dioceseoftulsa.org
GEO:36.0981774;-96.0216659
X-APPLE-STRUCTURED-LOCATION;VALUE=URI;X-ADDRESS=Saint Catherine of Alexandria 4532 S. 25th W. Ave. Tulsa OK 74107 United States;X-APPLE-RADIUS=500;X-TITLE=4532 S. 25th W. Ave.:geo:-96.0216659,36.0981774
END:VEVENT
BEGIN:VEVENT
DTSTART;VALUE=DATE:20240425
DTEND;VALUE=DATE:20240426
DTSTAMP:20260425T055822
CREATED:20230709T020813Z
LAST-MODIFIED:20230709T020846Z
UID:10009838-1714003200-1714089599@www.saintcatherineschool.org
SUMMARY:Fr. Grant's Birthday
DESCRIPTION:
URL:https://www.saintcatherineschool.org/event/fr-grants-birthday-2
LOCATION:Saint Catherine School\, 2515 W. 46th St.\, Tulsa\, OK\, 74107\, United States
CATEGORIES:Church of Saint Catherine,Saint Catherine School
ORGANIZER;CN="Michelle Anthamatten":MAILTO:manthamatten@saint-catherine.org
GEO:36.0981282;-96.0219361
X-APPLE-STRUCTURED-LOCATION;VALUE=URI;X-ADDRESS=Saint Catherine School 2515 W. 46th St. Tulsa OK 74107 United States;X-APPLE-RADIUS=500;X-TITLE=2515 W. 46th St.:geo:-96.0219361,36.0981282
END:VEVENT
BEGIN:VEVENT
DTSTART;TZID=America/Chicago:20240425T081500
DTEND;TZID=America/Chicago:20240425T090000
DTSTAMP:20260425T055822
CREATED:20230718T183741Z
LAST-MODIFIED:20230718T183741Z
UID:10010263-1714032900-1714035600@www.saintcatherineschool.org
SUMMARY:Mass - Saint Catherine
DESCRIPTION:This Mass is said in English.
URL:https://www.saintcatherineschool.org/event/mass-saint-catherine-29/2024-04-25
LOCATION:OK
CATEGORIES:Church of Saint Catherine,Saint Catherine School
END:VEVENT
BEGIN:VEVENT
DTSTART;TZID=America/Chicago:20240425T081500
DTEND;TZID=America/Chicago:20240425T090000
DTSTAMP:20260425T055822
CREATED:20240404T143921Z
LAST-MODIFIED:20240404T143921Z
UID:10011473-1714032900-1714035600@www.saintcatherineschool.org
SUMMARY:Mass - Saint Catherine
DESCRIPTION:This Mass is said in English.
URL:https://www.saintcatherineschool.org/event/mass-saint-catherine-48
LOCATION:Saint Catherine of Alexandria\, 4532 S. 25th W. Ave.\, Tulsa\, OK\, 74107\, United States
CATEGORIES:Church of Saint Catherine,Saint Catherine School
ORGANIZER;CN="Fr. John Grant":MAILTO:fr.joh.grant@saint-catherine.org
GEO:36.0981774;-96.0216659
X-APPLE-STRUCTURED-LOCATION;VALUE=URI;X-ADDRESS=Saint Catherine of Alexandria 4532 S. 25th W. Ave. Tulsa OK 74107 United States;X-APPLE-RADIUS=500;X-TITLE=4532 S. 25th W. Ave.:geo:-96.0216659,36.0981774
END:VEVENT
BEGIN:VEVENT
DTSTART;TZID=America/Chicago:20240425T153000
DTEND;TZID=America/Chicago:20240425T163000
DTSTAMP:20260425T055822
CREATED:20240404T181456Z
LAST-MODIFIED:20240404T181456Z
UID:10011527-1714059000-1714062600@www.saintcatherineschool.org
SUMMARY:Hurricane Soccer Practice
DESCRIPTION:
URL:https://www.saintcatherineschool.org/event/hurricane-soccer-practice-3
LOCATION:Saint Catherine School\, 2515 W. 46th St.\, Tulsa\, OK\, 74107\, United States
CATEGORIES:Church of Saint Catherine,Saint Catherine School
ORGANIZER;CN="Sam Naab":MAILTO:snaab@saint-catherine.org
GEO:36.0981282;-96.0219361
X-APPLE-STRUCTURED-LOCATION;VALUE=URI;X-ADDRESS=Saint Catherine School 2515 W. 46th St. Tulsa OK 74107 United States;X-APPLE-RADIUS=500;X-TITLE=2515 W. 46th St.:geo:-96.0219361,36.0981282
END:VEVENT
BEGIN:VEVENT
DTSTART;TZID=America/Chicago:20240426T081500
DTEND;TZID=America/Chicago:20240426T090000
DTSTAMP:20260425T055822
CREATED:20230718T184032Z
LAST-MODIFIED:20230718T184032Z
UID:10010288-1714119300-1714122000@www.saintcatherineschool.org
SUMMARY:Mass - Saint Catherine
DESCRIPTION:This Mass is said in English.
URL:https://www.saintcatherineschool.org/event/mass-saint-catherine-31/2024-04-26
LOCATION:OK
CATEGORIES:Church of Saint Catherine,Saint Catherine School
END:VEVENT
BEGIN:VEVENT
DTSTART;TZID=America/Chicago:20240426T081500
DTEND;TZID=America/Chicago:20240426T090000
DTSTAMP:20260425T055822
CREATED:20240404T150520Z
LAST-MODIFIED:20240404T150520Z
UID:10011474-1714119300-1714122000@www.saintcatherineschool.org
SUMMARY:Mass - Saint Catherine
DESCRIPTION:This Mass is said in English.
URL:https://www.saintcatherineschool.org/event/mass-saint-catherine-49
LOCATION:Saint Catherine of Alexandria\, 4532 S. 25th W. Ave.\, Tulsa\, OK\, 74107\, United States
CATEGORIES:Church of Saint Catherine,Saint Catherine School
ORGANIZER;CN="Fr. John Grant":MAILTO:fr.joh.grant@saint-catherine.org
GEO:36.0981774;-96.0216659
X-APPLE-STRUCTURED-LOCATION;VALUE=URI;X-ADDRESS=Saint Catherine of Alexandria 4532 S. 25th W. Ave. Tulsa OK 74107 United States;X-APPLE-RADIUS=500;X-TITLE=4532 S. 25th W. Ave.:geo:-96.0216659,36.0981774
END:VEVENT
BEGIN:VEVENT
DTSTART;TZID=America/Chicago:20240426T153000
DTEND;TZID=America/Chicago:20240426T163000
DTSTAMP:20260425T055822
CREATED:20240404T181911Z
LAST-MODIFIED:20240404T181911Z
UID:10011533-1714145400-1714149000@www.saintcatherineschool.org
SUMMARY:Blizzard Soccer Practice
DESCRIPTION:
URL:https://www.saintcatherineschool.org/event/blizzard-soccer-practice-4
LOCATION:Saint Catherine School\, 2515 W. 46th St.\, Tulsa\, OK\, 74107\, United States
CATEGORIES:Church of Saint Catherine,Saint Catherine School
ORGANIZER;CN="Sam Naab":MAILTO:snaab@saint-catherine.org
GEO:36.0981282;-96.0219361
X-APPLE-STRUCTURED-LOCATION;VALUE=URI;X-ADDRESS=Saint Catherine School 2515 W. 46th St. Tulsa OK 74107 United States;X-APPLE-RADIUS=500;X-TITLE=2515 W. 46th St.:geo:-96.0219361,36.0981282
END:VEVENT
BEGIN:VEVENT
DTSTART;TZID=America/Chicago:20240427T100000
DTEND;TZID=America/Chicago:20240427T110000
DTSTAMP:20260425T055822
CREATED:20240404T171411Z
LAST-MODIFIED:20240404T171411Z
UID:10011495-1714212000-1714215600@www.saintcatherineschool.org
SUMMARY:Elementary Soccer Game
DESCRIPTION:
URL:https://www.saintcatherineschool.org/event/elementary-soccer-game-5
LOCATION:St. Augustine\, 1720 E Apache St\, Tulsa\, OK\, 74110\, United States
CATEGORIES:Church of Saint Catherine,Saint Catherine School
ORGANIZER;CN="Sam Naab":MAILTO:snaab@saint-catherine.org
GEO:36.1911097;-95.965663
X-APPLE-STRUCTURED-LOCATION;VALUE=URI;X-ADDRESS=St. Augustine 1720 E Apache St Tulsa OK 74110 United States;X-APPLE-RADIUS=500;X-TITLE=1720 E Apache St:geo:-95.965663,36.1911097
END:VEVENT
BEGIN:VEVENT
DTSTART;TZID=America/Chicago:20240427T153000
DTEND;TZID=America/Chicago:20240427T164500
DTSTAMP:20260425T055822
CREATED:20240404T173802Z
LAST-MODIFIED:20240404T173802Z
UID:10011516-1714231800-1714236300@www.saintcatherineschool.org
SUMMARY:Confession
DESCRIPTION:
URL:https://www.saintcatherineschool.org/event/confession-13
LOCATION:Saint Catherine of Alexandria\, 4532 S. 25th W. Ave.\, Tulsa\, OK\, 74107\, United States
CATEGORIES:Church of Saint Catherine,Saint Catherine School
ORGANIZER;CN="Fr. John Grant":MAILTO:fr.joh.grant@saint-catherine.org
GEO:36.0981774;-96.0216659
X-APPLE-STRUCTURED-LOCATION;VALUE=URI;X-ADDRESS=Saint Catherine of Alexandria 4532 S. 25th W. Ave. Tulsa OK 74107 United States;X-APPLE-RADIUS=500;X-TITLE=4532 S. 25th W. Ave.:geo:-96.0216659,36.0981774
END:VEVENT
BEGIN:VEVENT
DTSTART;TZID=America/Chicago:20240427T153000
DTEND;TZID=America/Chicago:20240427T170000
DTSTAMP:20260425T055822
CREATED:20180123T023113Z
LAST-MODIFIED:20201202T201345Z
UID:10005907-1714231800-1714237200@www.saintcatherineschool.org
SUMMARY:Confessions
DESCRIPTION:Fr. Grant will hear confessions from 3:30-5:00.
URL:https://www.saintcatherineschool.org/event/confessions/2024-04-27
LOCATION:Saint Catherine of Alexandria\, 4532 S. 25th W. Ave.\, Tulsa\, OK\, 74107\, United States
CATEGORIES:Church of Saint Catherine,Saint Catherine School
GEO:36.0981774;-96.0216659
X-APPLE-STRUCTURED-LOCATION;VALUE=URI;X-ADDRESS=Saint Catherine of Alexandria 4532 S. 25th W. Ave. Tulsa OK 74107 United States;X-APPLE-RADIUS=500;X-TITLE=4532 S. 25th W. Ave.:geo:-96.0216659,36.0981774
END:VEVENT
BEGIN:VEVENT
DTSTART;TZID=America/Chicago:20240427T170000
DTEND;TZID=America/Chicago:20240427T180000
DTSTAMP:20260425T055822
CREATED:20240404T173038Z
LAST-MODIFIED:20240404T173038Z
UID:10011508-1714237200-1714240800@www.saintcatherineschool.org
SUMMARY:Mass - Saint Catherine
DESCRIPTION:
URL:https://www.saintcatherineschool.org/event/mass-saint-catherine-60
LOCATION:Saint Catherine of Alexandria\, 4532 S. 25th W. Ave.\, Tulsa\, OK\, 74107\, United States
CATEGORIES:Church of Saint Catherine,Saint Catherine School
ORGANIZER;CN="Fr. John Grant":MAILTO:fr.joh.grant@saint-catherine.org
GEO:36.0981774;-96.0216659
X-APPLE-STRUCTURED-LOCATION;VALUE=URI;X-ADDRESS=Saint Catherine of Alexandria 4532 S. 25th W. Ave. Tulsa OK 74107 United States;X-APPLE-RADIUS=500;X-TITLE=4532 S. 25th W. Ave.:geo:-96.0216659,36.0981774
END:VEVENT
END:VCALENDAR