BEGIN:VCALENDAR
VERSION:2.0
PRODID:-//Saint Catherine of Alexandria School - ECPv6.15.20//NONSGML v1.0//EN
CALSCALE:GREGORIAN
METHOD:PUBLISH
X-WR-CALNAME:Saint Catherine of Alexandria School
X-ORIGINAL-URL:https://www.saintcatherineschool.org
X-WR-CALDESC:Events for Saint Catherine of Alexandria School
REFRESH-INTERVAL;VALUE=DURATION:PT1H
X-Robots-Tag:noindex
X-PUBLISHED-TTL:PT1H
BEGIN:VTIMEZONE
TZID:America/Chicago
BEGIN:DAYLIGHT
TZOFFSETFROM:-0600
TZOFFSETTO:-0500
TZNAME:CDT
DTSTART:20240310T080000
END:DAYLIGHT
BEGIN:STANDARD
TZOFFSETFROM:-0500
TZOFFSETTO:-0600
TZNAME:CST
DTSTART:20241103T070000
END:STANDARD
BEGIN:DAYLIGHT
TZOFFSETFROM:-0600
TZOFFSETTO:-0500
TZNAME:CDT
DTSTART:20250309T080000
END:DAYLIGHT
BEGIN:STANDARD
TZOFFSETFROM:-0500
TZOFFSETTO:-0600
TZNAME:CST
DTSTART:20251102T070000
END:STANDARD
BEGIN:DAYLIGHT
TZOFFSETFROM:-0600
TZOFFSETTO:-0500
TZNAME:CDT
DTSTART:20260308T080000
END:DAYLIGHT
BEGIN:STANDARD
TZOFFSETFROM:-0500
TZOFFSETTO:-0600
TZNAME:CST
DTSTART:20261101T070000
END:STANDARD
END:VTIMEZONE
BEGIN:VEVENT
DTSTART;TZID=America/Chicago:20250817T110000
DTEND;TZID=America/Chicago:20250817T130000
DTSTAMP:20260424T004620
CREATED:20250814T145912Z
LAST-MODIFIED:20250814T145912Z
UID:10013156-1755428400-1755435600@www.saintcatherineschool.org
SUMMARY:Mass in Zomi
DESCRIPTION:
URL:https://www.saintcatherineschool.org/event/mass-in-zomi-2
LOCATION:Saint Catherine of Alexandria\, 4532 S. 25th W. Ave.\, Tulsa\, OK\, 74107\, United States
CATEGORIES:Church of Saint Catherine,Saint Catherine School
ORGANIZER;CN="Fr. Robert Kim":MAILTO:fr.robert.kim@dioceseoftulsa.org
GEO:36.0981774;-96.0216659
X-APPLE-STRUCTURED-LOCATION;VALUE=URI;X-ADDRESS=Saint Catherine of Alexandria 4532 S. 25th W. Ave. Tulsa OK 74107 United States;X-APPLE-RADIUS=500;X-TITLE=4532 S. 25th W. Ave.:geo:-96.0216659,36.0981774
END:VEVENT
BEGIN:VEVENT
DTSTART;TZID=America/Chicago:20250819T080000
DTEND;TZID=America/Chicago:20250819T090000
DTSTAMP:20260424T004620
CREATED:20250814T150128Z
LAST-MODIFIED:20250814T150128Z
UID:10013157-1755590400-1755594000@www.saintcatherineschool.org
SUMMARY:Mass in English
DESCRIPTION:
URL:https://www.saintcatherineschool.org/event/mass-in-english-5
LOCATION:Saint Catherine of Alexandria\, 4532 S. 25th W. Ave.\, Tulsa\, OK\, 74107\, United States
CATEGORIES:Church of Saint Catherine,Saint Catherine School
ORGANIZER;CN="Fr. Robert Kim":MAILTO:fr.robert.kim@dioceseoftulsa.org
GEO:36.0981774;-96.0216659
X-APPLE-STRUCTURED-LOCATION;VALUE=URI;X-ADDRESS=Saint Catherine of Alexandria 4532 S. 25th W. Ave. Tulsa OK 74107 United States;X-APPLE-RADIUS=500;X-TITLE=4532 S. 25th W. Ave.:geo:-96.0216659,36.0981774
END:VEVENT
BEGIN:VEVENT
DTSTART;TZID=America/Chicago:20250820T080000
DTEND;TZID=America/Chicago:20250820T110000
DTSTAMP:20260424T004620
CREATED:20250813T205047Z
LAST-MODIFIED:20250813T205047Z
UID:10013151-1755676800-1755687600@www.saintcatherineschool.org
SUMMARY:School Picture Day
DESCRIPTION:Students should wear nice outfits- no jeans\, no shorts (except uniform shorts)\, no T-shirts\, no sloppy clothing. No tank tops/spaghetti straps without a sweater. Skirts for girls must follow the uniform skirt regulation length policy. \nYour child may wear nice shoes (no slides or flip flops or crocs)\, but please do not forget they may still have recess and PE that day. They may bring an extra pair in which to change. \n\nSTUDENTS SHOULD NOT WEAR GREEN CLOTHING FOR PICTURES. THEY WILL NOT SHOW UP IN THEIR PICTURE IF THEY ARE WEARING GREEN.
URL:https://www.saintcatherineschool.org/event/school-picture-day
LOCATION:Saint Catherine School\, 2515 W. 46th St.\, Tulsa\, OK\, 74107\, United States
CATEGORIES:Church of Saint Catherine,Saint Catherine School
ORGANIZER;CN="Michelle Anthamatten":MAILTO:manthamatten@saint-catherine.org
GEO:36.0981282;-96.0219361
X-APPLE-STRUCTURED-LOCATION;VALUE=URI;X-ADDRESS=Saint Catherine School 2515 W. 46th St. Tulsa OK 74107 United States;X-APPLE-RADIUS=500;X-TITLE=2515 W. 46th St.:geo:-96.0219361,36.0981282
END:VEVENT
BEGIN:VEVENT
DTSTART;TZID=America/Chicago:20250821T080000
DTEND;TZID=America/Chicago:20250821T090000
DTSTAMP:20260424T004620
CREATED:20250814T150156Z
LAST-MODIFIED:20250814T150156Z
UID:10013158-1755763200-1755766800@www.saintcatherineschool.org
SUMMARY:Mass in English
DESCRIPTION:
URL:https://www.saintcatherineschool.org/event/mass-in-english-6
LOCATION:Saint Catherine of Alexandria\, 4532 S. 25th W. Ave.\, Tulsa\, OK\, 74107\, United States
CATEGORIES:Church of Saint Catherine,Saint Catherine School
ORGANIZER;CN="Fr. Robert Kim":MAILTO:fr.robert.kim@dioceseoftulsa.org
GEO:36.0981774;-96.0216659
X-APPLE-STRUCTURED-LOCATION;VALUE=URI;X-ADDRESS=Saint Catherine of Alexandria 4532 S. 25th W. Ave. Tulsa OK 74107 United States;X-APPLE-RADIUS=500;X-TITLE=4532 S. 25th W. Ave.:geo:-96.0216659,36.0981774
END:VEVENT
BEGIN:VEVENT
DTSTART;TZID=America/Chicago:20250822T080000
DTEND;TZID=America/Chicago:20250822T090000
DTSTAMP:20260424T004620
CREATED:20250814T150228Z
LAST-MODIFIED:20250814T150228Z
UID:10013159-1755849600-1755853200@www.saintcatherineschool.org
SUMMARY:Mass in English
DESCRIPTION:
URL:https://www.saintcatherineschool.org/event/mass-in-english-7
LOCATION:Saint Catherine of Alexandria\, 4532 S. 25th W. Ave.\, Tulsa\, OK\, 74107\, United States
CATEGORIES:Church of Saint Catherine,Saint Catherine School
ORGANIZER;CN="Fr. Robert Kim":MAILTO:fr.robert.kim@dioceseoftulsa.org
GEO:36.0981774;-96.0216659
X-APPLE-STRUCTURED-LOCATION;VALUE=URI;X-ADDRESS=Saint Catherine of Alexandria 4532 S. 25th W. Ave. Tulsa OK 74107 United States;X-APPLE-RADIUS=500;X-TITLE=4532 S. 25th W. Ave.:geo:-96.0216659,36.0981774
END:VEVENT
BEGIN:VEVENT
DTSTART;TZID=America/Chicago:20250823T080000
DTEND;TZID=America/Chicago:20250823T170000
DTSTAMP:20260424T004620
CREATED:20250813T205447Z
LAST-MODIFIED:20250814T150622Z
UID:10013153-1755936000-1755968400@www.saintcatherineschool.org
SUMMARY:Faith Formation
DESCRIPTION:This year’s Faith Formation is at the Renaissance Hotel hosted by the Diocese of Tulsa. \nhttps://dioceseoftulsa.org/faith-formation-conference-registration-1 \n 
URL:https://www.saintcatherineschool.org/event/faith-formation-4
LOCATION:Renaissance Hotel\, 6808 S 107th E Ave\, Tulsa\, 74133\, United States
CATEGORIES:Church of Saint Catherine,Saint Catherine School
ORGANIZER;CN="Fr. Robert Kim":MAILTO:fr.robert.kim@dioceseoftulsa.org
GEO:36.0650097;-95.8578923
X-APPLE-STRUCTURED-LOCATION;VALUE=URI;X-ADDRESS=Renaissance Hotel 6808 S 107th E Ave Tulsa 74133 United States;X-APPLE-RADIUS=500;X-TITLE=6808 S 107th E Ave:geo:-95.8578923,36.0650097
END:VEVENT
BEGIN:VEVENT
DTSTART;TZID=America/Chicago:20250823T100000
DTEND;TZID=America/Chicago:20250823T110000
DTSTAMP:20260424T004620
CREATED:20250822T152741Z
LAST-MODIFIED:20250822T152741Z
UID:10013168-1755943200-1755946800@www.saintcatherineschool.org
SUMMARY:Volleyball Game - Girls Team
DESCRIPTION:
URL:https://www.saintcatherineschool.org/event/volleyball-game-girls-team
LOCATION:Marquette\, 1519 S Quincy Ave\, Tulsa\, OK\, 74120\, United States
CATEGORIES:Church of Saint Catherine,Saint Catherine School
ORGANIZER;CN="Aidan Couch":MAILTO:acouch@saint-catherine.org
GEO:36.1401305;-95.9723673
X-APPLE-STRUCTURED-LOCATION;VALUE=URI;X-ADDRESS=Marquette 1519 S Quincy Ave Tulsa OK 74120 United States;X-APPLE-RADIUS=500;X-TITLE=1519 S Quincy Ave:geo:-95.9723673,36.1401305
END:VEVENT
BEGIN:VEVENT
DTSTART;TZID=America/Chicago:20250823T170000
DTEND;TZID=America/Chicago:20250823T180000
DTSTAMP:20260424T004620
CREATED:20250814T150256Z
LAST-MODIFIED:20250814T150256Z
UID:10013160-1755968400-1755972000@www.saintcatherineschool.org
SUMMARY:Mass in English
DESCRIPTION:
URL:https://www.saintcatherineschool.org/event/mass-in-english-8
LOCATION:Saint Catherine of Alexandria\, 4532 S. 25th W. Ave.\, Tulsa\, OK\, 74107\, United States
CATEGORIES:Church of Saint Catherine,Saint Catherine School
ORGANIZER;CN="Fr. Robert Kim":MAILTO:fr.robert.kim@dioceseoftulsa.org
GEO:36.0981774;-96.0216659
X-APPLE-STRUCTURED-LOCATION;VALUE=URI;X-ADDRESS=Saint Catherine of Alexandria 4532 S. 25th W. Ave. Tulsa OK 74107 United States;X-APPLE-RADIUS=500;X-TITLE=4532 S. 25th W. Ave.:geo:-96.0216659,36.0981774
END:VEVENT
END:VCALENDAR