BEGIN:VCALENDAR
VERSION:2.0
PRODID:-//Saint Catherine of Alexandria School - ECPv6.15.20//NONSGML v1.0//EN
CALSCALE:GREGORIAN
METHOD:PUBLISH
X-WR-CALNAME:Saint Catherine of Alexandria School
X-ORIGINAL-URL:https://www.saintcatherineschool.org
X-WR-CALDESC:Events for Saint Catherine of Alexandria School
REFRESH-INTERVAL;VALUE=DURATION:PT1H
X-Robots-Tag:noindex
X-PUBLISHED-TTL:PT1H
BEGIN:VTIMEZONE
TZID:America/Chicago
BEGIN:DAYLIGHT
TZOFFSETFROM:-0600
TZOFFSETTO:-0500
TZNAME:CDT
DTSTART:20160313T080000
END:DAYLIGHT
BEGIN:STANDARD
TZOFFSETFROM:-0500
TZOFFSETTO:-0600
TZNAME:CST
DTSTART:20161106T070000
END:STANDARD
BEGIN:DAYLIGHT
TZOFFSETFROM:-0600
TZOFFSETTO:-0500
TZNAME:CDT
DTSTART:20170312T080000
END:DAYLIGHT
BEGIN:STANDARD
TZOFFSETFROM:-0500
TZOFFSETTO:-0600
TZNAME:CST
DTSTART:20171105T070000
END:STANDARD
BEGIN:DAYLIGHT
TZOFFSETFROM:-0600
TZOFFSETTO:-0500
TZNAME:CDT
DTSTART:20180311T080000
END:DAYLIGHT
BEGIN:STANDARD
TZOFFSETFROM:-0500
TZOFFSETTO:-0600
TZNAME:CST
DTSTART:20181104T070000
END:STANDARD
BEGIN:DAYLIGHT
TZOFFSETFROM:-0600
TZOFFSETTO:-0500
TZNAME:CDT
DTSTART:20190310T080000
END:DAYLIGHT
BEGIN:STANDARD
TZOFFSETFROM:-0500
TZOFFSETTO:-0600
TZNAME:CST
DTSTART:20191103T070000
END:STANDARD
BEGIN:DAYLIGHT
TZOFFSETFROM:-0600
TZOFFSETTO:-0500
TZNAME:CDT
DTSTART:20200308T080000
END:DAYLIGHT
BEGIN:STANDARD
TZOFFSETFROM:-0500
TZOFFSETTO:-0600
TZNAME:CST
DTSTART:20201101T070000
END:STANDARD
BEGIN:DAYLIGHT
TZOFFSETFROM:-0600
TZOFFSETTO:-0500
TZNAME:CDT
DTSTART:20210314T080000
END:DAYLIGHT
BEGIN:STANDARD
TZOFFSETFROM:-0500
TZOFFSETTO:-0600
TZNAME:CST
DTSTART:20211107T070000
END:STANDARD
BEGIN:DAYLIGHT
TZOFFSETFROM:-0600
TZOFFSETTO:-0500
TZNAME:CDT
DTSTART:20220313T080000
END:DAYLIGHT
BEGIN:STANDARD
TZOFFSETFROM:-0500
TZOFFSETTO:-0600
TZNAME:CST
DTSTART:20221106T070000
END:STANDARD
BEGIN:DAYLIGHT
TZOFFSETFROM:-0600
TZOFFSETTO:-0500
TZNAME:CDT
DTSTART:20230312T080000
END:DAYLIGHT
BEGIN:STANDARD
TZOFFSETFROM:-0500
TZOFFSETTO:-0600
TZNAME:CST
DTSTART:20231105T070000
END:STANDARD
BEGIN:DAYLIGHT
TZOFFSETFROM:-0600
TZOFFSETTO:-0500
TZNAME:CDT
DTSTART:20240310T080000
END:DAYLIGHT
BEGIN:STANDARD
TZOFFSETFROM:-0500
TZOFFSETTO:-0600
TZNAME:CST
DTSTART:20241103T070000
END:STANDARD
BEGIN:DAYLIGHT
TZOFFSETFROM:-0600
TZOFFSETTO:-0500
TZNAME:CDT
DTSTART:20250309T080000
END:DAYLIGHT
BEGIN:STANDARD
TZOFFSETFROM:-0500
TZOFFSETTO:-0600
TZNAME:CST
DTSTART:20251102T070000
END:STANDARD
BEGIN:DAYLIGHT
TZOFFSETFROM:-0600
TZOFFSETTO:-0500
TZNAME:CDT
DTSTART:20260308T080000
END:DAYLIGHT
BEGIN:STANDARD
TZOFFSETFROM:-0500
TZOFFSETTO:-0600
TZNAME:CST
DTSTART:20261101T070000
END:STANDARD
END:VTIMEZONE
BEGIN:VEVENT
DTSTART;TZID=America/Chicago:20251027T190000
DTEND;TZID=America/Chicago:20251027T200000
DTSTAMP:20260423T185627
CREATED:20250822T155254Z
LAST-MODIFIED:20250822T155254Z
UID:10013183-1761591600-1761595200@www.saintcatherineschool.org
SUMMARY:Volleyball Game - Boys Team
DESCRIPTION:All Saints
URL:https://www.saintcatherineschool.org/event/volleyball-game-boys-team-7
LOCATION:All Saints\, 299 S. 9th St.\, Broken Arrow\, OK\, 74012\, United States
CATEGORIES:Church of Saint Catherine,Saint Catherine School
ORGANIZER;CN="Aidan Couch":MAILTO:acouch@saint-catherine.org
GEO:36.0507831;-95.7789131
X-APPLE-STRUCTURED-LOCATION;VALUE=URI;X-ADDRESS=All Saints 299 S. 9th St. Broken Arrow OK 74012 United States;X-APPLE-RADIUS=500;X-TITLE=299 S. 9th St.:geo:-95.7789131,36.0507831
END:VEVENT
BEGIN:VEVENT
DTSTART;TZID=America/Chicago:20251020T190000
DTEND;TZID=America/Chicago:20251020T200000
DTSTAMP:20260423T185627
CREATED:20250822T153522Z
LAST-MODIFIED:20250822T154015Z
UID:10013175-1760986800-1760990400@www.saintcatherineschool.org
SUMMARY:Volleyball Game - Girls Team
DESCRIPTION:All Saints
URL:https://www.saintcatherineschool.org/event/volleyball-game-girls-team-8
LOCATION:All Saints\, 299 S. 9th St.\, Broken Arrow\, OK\, 74012\, United States
CATEGORIES:Church of Saint Catherine,Saint Catherine School
ORGANIZER;CN="Aidan Couch":MAILTO:acouch@saint-catherine.org
GEO:36.0507831;-95.7789131
X-APPLE-STRUCTURED-LOCATION;VALUE=URI;X-ADDRESS=All Saints 299 S. 9th St. Broken Arrow OK 74012 United States;X-APPLE-RADIUS=500;X-TITLE=299 S. 9th St.:geo:-95.7789131,36.0507831
END:VEVENT
BEGIN:VEVENT
DTSTART;TZID=America/Chicago:20230918T190000
DTEND;TZID=America/Chicago:20230918T200000
DTSTAMP:20260423T185627
CREATED:20230829T160946Z
LAST-MODIFIED:20230829T160946Z
UID:10011289-1695063600-1695067200@www.saintcatherineschool.org
SUMMARY:7th Grade Volleyball Game
DESCRIPTION:
URL:https://www.saintcatherineschool.org/event/7th-grade-volleyball-game-7
LOCATION:All Saints\, 299 S. 9th St.\, Broken Arrow\, OK\, 74012\, United States
CATEGORIES:Church of Saint Catherine,Saint Catherine School
ORGANIZER;CN="Caroline O'Connor":MAILTO:coconnor@saint-catherine.org
GEO:36.0507831;-95.7789131
X-APPLE-STRUCTURED-LOCATION;VALUE=URI;X-ADDRESS=All Saints 299 S. 9th St. Broken Arrow OK 74012 United States;X-APPLE-RADIUS=500;X-TITLE=299 S. 9th St.:geo:-95.7789131,36.0507831
END:VEVENT
BEGIN:VEVENT
DTSTART;TZID=America/Chicago:20221008T120000
DTEND;TZID=America/Chicago:20221008T130000
DTSTAMP:20260423T185627
CREATED:20221004T181618Z
LAST-MODIFIED:20221004T181618Z
UID:10009220-1665230400-1665234000@www.saintcatherineschool.org
SUMMARY:7th Grade Volleyball Game
DESCRIPTION:7th
URL:https://www.saintcatherineschool.org/event/7th-grade-volleyball-game-2
LOCATION:All Saints\, 299 S. 9th St.\, Broken Arrow\, OK\, 74012\, United States
CATEGORIES:Church of Saint Catherine,Saint Catherine School
ORGANIZER;CN="Kayley Anthamatten":MAILTO:kayleya@saint-catherine.org
GEO:36.0507831;-95.7789131
X-APPLE-STRUCTURED-LOCATION;VALUE=URI;X-ADDRESS=All Saints 299 S. 9th St. Broken Arrow OK 74012 United States;X-APPLE-RADIUS=500;X-TITLE=299 S. 9th St.:geo:-95.7789131,36.0507831
END:VEVENT
BEGIN:VEVENT
DTSTART;TZID=America/Chicago:20221006T180000
DTEND;TZID=America/Chicago:20221006T190000
DTSTAMP:20260423T185627
CREATED:20221004T180113Z
LAST-MODIFIED:20221004T180321Z
UID:10009225-1665079200-1665082800@www.saintcatherineschool.org
SUMMARY:6th Grade Volleyball Game
DESCRIPTION:
URL:https://www.saintcatherineschool.org/event/6th-grade-volleyball-game-6
LOCATION:All Saints\, 299 S. 9th St.\, Broken Arrow\, OK\, 74012\, United States
CATEGORIES:Church of Saint Catherine,Saint Catherine School
ORGANIZER;CN="Kayley Anthamatten":MAILTO:kayleya@saint-catherine.org
GEO:36.0507831;-95.7789131
X-APPLE-STRUCTURED-LOCATION;VALUE=URI;X-ADDRESS=All Saints 299 S. 9th St. Broken Arrow OK 74012 United States;X-APPLE-RADIUS=500;X-TITLE=299 S. 9th St.:geo:-95.7789131,36.0507831
END:VEVENT
BEGIN:VEVENT
DTSTART;TZID=America/Chicago:20210222T193000
DTEND;TZID=America/Chicago:20210222T203000
DTSTAMP:20260423T185627
CREATED:20210208T194130Z
LAST-MODIFIED:20210208T194130Z
UID:10007550-1614022200-1614025800@www.saintcatherineschool.org
SUMMARY:Basketball game
DESCRIPTION:The middle school will have a game at All Saints at 7:30.
URL:https://www.saintcatherineschool.org/event/basketball-game-6
LOCATION:All Saints\, 299 S. 9th St.\, Broken Arrow\, OK\, 74012\, United States
CATEGORIES:Saint Catherine School
GEO:36.0507831;-95.7789131
X-APPLE-STRUCTURED-LOCATION;VALUE=URI;X-ADDRESS=All Saints 299 S. 9th St. Broken Arrow OK 74012 United States;X-APPLE-RADIUS=500;X-TITLE=299 S. 9th St.:geo:-95.7789131,36.0507831
END:VEVENT
BEGIN:VEVENT
DTSTART;TZID=America/Chicago:20201029T200000
DTEND;TZID=America/Chicago:20201029T210000
DTSTAMP:20260423T185627
CREATED:20201001T004442Z
LAST-MODIFIED:20201001T004442Z
UID:10008607-1604001600-1604005200@www.saintcatherineschool.org
SUMMARY:Volleyball Game
DESCRIPTION:The Middle School Volleyball Team has a game at All Saints at 8pm.
URL:https://www.saintcatherineschool.org/event/volleyball-game-23
LOCATION:All Saints\, 299 S. 9th St.\, Broken Arrow\, OK\, 74012\, United States
CATEGORIES:Saint Catherine School
ORGANIZER;CN="Kayley Anthamatten":MAILTO:kayleya@saint-catherine.org
GEO:36.0507831;-95.7789131
X-APPLE-STRUCTURED-LOCATION;VALUE=URI;X-ADDRESS=All Saints 299 S. 9th St. Broken Arrow OK 74012 United States;X-APPLE-RADIUS=500;X-TITLE=299 S. 9th St.:geo:-95.7789131,36.0507831
END:VEVENT
BEGIN:VEVENT
DTSTART;TZID=America/Chicago:20201029T200000
DTEND;TZID=America/Chicago:20201029T210000
DTSTAMP:20260423T185627
CREATED:20200915T194425Z
LAST-MODIFIED:20200915T194425Z
UID:10008569-1604001600-1604005200@www.saintcatherineschool.org
SUMMARY:Volleyball Game
DESCRIPTION:The middle school volleyball team will have a game at All Saints against All Saints.
URL:https://www.saintcatherineschool.org/event/volleyball-game-17
LOCATION:All Saints\, 299 S. 9th St.\, Broken Arrow\, OK\, 74012\, United States
CATEGORIES:Church of Saint Catherine
ORGANIZER;CN="Kayley Anthamatten":MAILTO:kayleya@saint-catherine.org
GEO:36.0507831;-95.7789131
X-APPLE-STRUCTURED-LOCATION;VALUE=URI;X-ADDRESS=All Saints 299 S. 9th St. Broken Arrow OK 74012 United States;X-APPLE-RADIUS=500;X-TITLE=299 S. 9th St.:geo:-95.7789131,36.0507831
END:VEVENT
BEGIN:VEVENT
DTSTART;TZID=America/Chicago:20201022T180000
DTEND;TZID=America/Chicago:20201022T190000
DTSTAMP:20260423T185627
CREATED:20201001T003504Z
LAST-MODIFIED:20201001T003504Z
UID:10008652-1603389600-1603393200@www.saintcatherineschool.org
SUMMARY:Volleyball Game
DESCRIPTION:The Middle School Volleyball Team will have a game at All Saints at 6pm.
URL:https://www.saintcatherineschool.org/event/volleyball-game-21
LOCATION:All Saints\, 299 S. 9th St.\, Broken Arrow\, OK\, 74012\, United States
CATEGORIES:Saint Catherine School
ORGANIZER;CN="Kayley Anthamatten":MAILTO:kayleya@saint-catherine.org
GEO:36.0507831;-95.7789131
X-APPLE-STRUCTURED-LOCATION;VALUE=URI;X-ADDRESS=All Saints 299 S. 9th St. Broken Arrow OK 74012 United States;X-APPLE-RADIUS=500;X-TITLE=299 S. 9th St.:geo:-95.7789131,36.0507831
END:VEVENT
BEGIN:VEVENT
DTSTART;TZID=America/Chicago:20201022T180000
DTEND;TZID=America/Chicago:20201022T190000
DTSTAMP:20260423T185627
CREATED:20200915T193957Z
LAST-MODIFIED:20200915T193957Z
UID:10008584-1603389600-1603393200@www.saintcatherineschool.org
SUMMARY:Volleyball Game
DESCRIPTION:The middle school volleyball team will have a game at All Saints against All Saints.
URL:https://www.saintcatherineschool.org/event/volleyball-game-15
LOCATION:All Saints\, 299 S. 9th St.\, Broken Arrow\, OK\, 74012\, United States
CATEGORIES:Church of Saint Catherine
ORGANIZER;CN="Kayley Anthamatten":MAILTO:kayleya@saint-catherine.org
GEO:36.0507831;-95.7789131
X-APPLE-STRUCTURED-LOCATION;VALUE=URI;X-ADDRESS=All Saints 299 S. 9th St. Broken Arrow OK 74012 United States;X-APPLE-RADIUS=500;X-TITLE=299 S. 9th St.:geo:-95.7789131,36.0507831
END:VEVENT
BEGIN:VEVENT
DTSTART;TZID=America/Chicago:20201010T150000
DTEND;TZID=America/Chicago:20201010T160000
DTSTAMP:20260423T185627
CREATED:20201001T001949Z
LAST-MODIFIED:20201001T001949Z
UID:10007457-1602342000-1602345600@www.saintcatherineschool.org
SUMMARY:Volleyball Game
DESCRIPTION:The Middle School Volleyball Team will have a game at All Saints at 3pm.
URL:https://www.saintcatherineschool.org/event/volleyball-game-19
LOCATION:All Saints\, 299 S. 9th St.\, Broken Arrow\, OK\, 74012\, United States
CATEGORIES:Saint Catherine School
ORGANIZER;CN="Kayley Anthamatten":MAILTO:kayleya@saint-catherine.org
GEO:36.0507831;-95.7789131
X-APPLE-STRUCTURED-LOCATION;VALUE=URI;X-ADDRESS=All Saints 299 S. 9th St. Broken Arrow OK 74012 United States;X-APPLE-RADIUS=500;X-TITLE=299 S. 9th St.:geo:-95.7789131,36.0507831
END:VEVENT
BEGIN:VEVENT
DTSTART;TZID=America/Chicago:20201010T150000
DTEND;TZID=America/Chicago:20201010T160000
DTSTAMP:20260423T185627
CREATED:20200915T193352Z
LAST-MODIFIED:20200915T193352Z
UID:10008571-1602342000-1602345600@www.saintcatherineschool.org
SUMMARY:Volleyball Game
DESCRIPTION:The middle school volleyball team will have a game at All Saints against St. Pius.
URL:https://www.saintcatherineschool.org/event/volleyball-game-13
LOCATION:All Saints\, 299 S. 9th St.\, Broken Arrow\, OK\, 74012\, United States
CATEGORIES:Church of Saint Catherine
ORGANIZER;CN="Kayley Anthamatten":MAILTO:kayleya@saint-catherine.org
GEO:36.0507831;-95.7789131
X-APPLE-STRUCTURED-LOCATION;VALUE=URI;X-ADDRESS=All Saints 299 S. 9th St. Broken Arrow OK 74012 United States;X-APPLE-RADIUS=500;X-TITLE=299 S. 9th St.:geo:-95.7789131,36.0507831
END:VEVENT
BEGIN:VEVENT
DTSTART;TZID=America/Chicago:20200926T130000
DTEND;TZID=America/Chicago:20200926T140000
DTSTAMP:20260423T185627
CREATED:20200915T192734Z
LAST-MODIFIED:20200915T192903Z
UID:10008568-1601125200-1601128800@www.saintcatherineschool.org
SUMMARY:Volleyball Game
DESCRIPTION:The middle school volleyball team has a game at All Saints against St. Pius.
URL:https://www.saintcatherineschool.org/event/volleyball-game-11
LOCATION:All Saints\, 299 S. 9th St.\, Broken Arrow\, OK\, 74012\, United States
CATEGORIES:Church of Saint Catherine
ORGANIZER;CN="Kayley Anthamatten":MAILTO:kayleya@saint-catherine.org
GEO:36.0507831;-95.7789131
X-APPLE-STRUCTURED-LOCATION;VALUE=URI;X-ADDRESS=All Saints 299 S. 9th St. Broken Arrow OK 74012 United States;X-APPLE-RADIUS=500;X-TITLE=299 S. 9th St.:geo:-95.7789131,36.0507831
END:VEVENT
BEGIN:VEVENT
DTSTART;TZID=America/Chicago:20200213T180000
DTEND;TZID=America/Chicago:20200213T190000
DTSTAMP:20260423T185627
CREATED:20200203T162349Z
LAST-MODIFIED:20200203T162349Z
UID:10008502-1581616800-1581620400@www.saintcatherineschool.org
SUMMARY:Middle School Basketball Game
DESCRIPTION:The middle school will have a game at All Saints at 6pm.
URL:https://www.saintcatherineschool.org/event/middle-school-basketball-game-17
LOCATION:All Saints\, 299 S. 9th St.\, Broken Arrow\, OK\, 74012\, United States
CATEGORIES:Saint Catherine School
ORGANIZER;CN="Andrea Warner":MAILTO:andrea.warner.mail@gmail.com
GEO:36.0507831;-95.7789131
X-APPLE-STRUCTURED-LOCATION;VALUE=URI;X-ADDRESS=All Saints 299 S. 9th St. Broken Arrow OK 74012 United States;X-APPLE-RADIUS=500;X-TITLE=299 S. 9th St.:geo:-95.7789131,36.0507831
END:VEVENT
BEGIN:VEVENT
DTSTART;TZID=America/Chicago:20200203T180000
DTEND;TZID=America/Chicago:20200203T190000
DTSTAMP:20260423T185627
CREATED:20200203T155909Z
LAST-MODIFIED:20200203T155909Z
UID:10008444-1580752800-1580756400@www.saintcatherineschool.org
SUMMARY:Middle School Basketball Game
DESCRIPTION:The middle school basketball team will have a game at All Saints at 6pm.
URL:https://www.saintcatherineschool.org/event/middle-school-basketball-game-16
LOCATION:All Saints\, 299 S. 9th St.\, Broken Arrow\, OK\, 74012\, United States
CATEGORIES:Saint Catherine School
ORGANIZER;CN="Andrea Warner":MAILTO:andrea.warner.mail@gmail.com
GEO:36.0507831;-95.7789131
X-APPLE-STRUCTURED-LOCATION;VALUE=URI;X-ADDRESS=All Saints 299 S. 9th St. Broken Arrow OK 74012 United States;X-APPLE-RADIUS=500;X-TITLE=299 S. 9th St.:geo:-95.7789131,36.0507831
END:VEVENT
BEGIN:VEVENT
DTSTART;TZID=America/Chicago:20190221T200000
DTEND;TZID=America/Chicago:20190221T210000
DTSTAMP:20260423T185627
CREATED:20181217T180813Z
LAST-MODIFIED:20181217T180813Z
UID:10007654-1550779200-1550782800@www.saintcatherineschool.org
SUMMARY:Middle School Basketball Game
DESCRIPTION:The middle school basketball game will be Thursday\, February 21st at 8pm at All Saints.
URL:https://www.saintcatherineschool.org/event/middle-school-basketball-game-10
LOCATION:All Saints\, 299 S. 9th St.\, Broken Arrow\, OK\, 74012\, United States
CATEGORIES:Saint Catherine School
ORGANIZER;CN="April Adalim":MAILTO:aadalim@saint-catherine.org
GEO:36.0507831;-95.7789131
X-APPLE-STRUCTURED-LOCATION;VALUE=URI;X-ADDRESS=All Saints 299 S. 9th St. Broken Arrow OK 74012 United States;X-APPLE-RADIUS=500;X-TITLE=299 S. 9th St.:geo:-95.7789131,36.0507831
END:VEVENT
BEGIN:VEVENT
DTSTART;TZID=America/Chicago:20190128T190000
DTEND;TZID=America/Chicago:20190128T200000
DTSTAMP:20260423T185627
CREATED:20181217T180126Z
LAST-MODIFIED:20181217T181012Z
UID:10007683-1548702000-1548705600@www.saintcatherineschool.org
SUMMARY:Middle School Basketball Game
DESCRIPTION:The middle school basketball game will be Monday\, January 28th at 7pm at All Saints.
URL:https://www.saintcatherineschool.org/event/middle-school-basketball
LOCATION:All Saints\, 299 S. 9th St.\, Broken Arrow\, OK\, 74012\, United States
CATEGORIES:Saint Catherine School
ORGANIZER;CN="April Adalim":MAILTO:aadalim@saint-catherine.org
GEO:36.0507831;-95.7789131
X-APPLE-STRUCTURED-LOCATION;VALUE=URI;X-ADDRESS=All Saints 299 S. 9th St. Broken Arrow OK 74012 United States;X-APPLE-RADIUS=500;X-TITLE=299 S. 9th St.:geo:-95.7789131,36.0507831
END:VEVENT
BEGIN:VEVENT
DTSTART;TZID=America/Chicago:20190117T200000
DTEND;TZID=America/Chicago:20190117T210000
DTSTAMP:20260423T185627
CREATED:20181217T175656Z
LAST-MODIFIED:20181217T175656Z
UID:10007698-1547755200-1547758800@www.saintcatherineschool.org
SUMMARY:Middle School Basketball Game
DESCRIPTION:The middle school basketball game will be Thursday\, January 17th at 8pm at All Saints.
URL:https://www.saintcatherineschool.org/event/middle-school-basketball-game-4
LOCATION:All Saints\, 299 S. 9th St.\, Broken Arrow\, OK\, 74012\, United States
CATEGORIES:Saint Catherine School
ORGANIZER;CN="April Adalim":MAILTO:aadalim@saint-catherine.org
GEO:36.0507831;-95.7789131
X-APPLE-STRUCTURED-LOCATION;VALUE=URI;X-ADDRESS=All Saints 299 S. 9th St. Broken Arrow OK 74012 United States;X-APPLE-RADIUS=500;X-TITLE=299 S. 9th St.:geo:-95.7789131,36.0507831
END:VEVENT
BEGIN:VEVENT
DTSTART;TZID=America/Chicago:20171016T140000
DTEND;TZID=America/Chicago:20171016T150000
DTSTAMP:20260423T185627
CREATED:20170927T063452Z
LAST-MODIFIED:20170927T063452Z
UID:10005347-1508162400-1508166000@www.saintcatherineschool.org
SUMMARY:6th Grade Volleyball Game 7pm
DESCRIPTION:The 6th grade will have at volleyball game at All Saints at 7pm.
URL:https://www.saintcatherineschool.org/event/6th-grade-volleyball-game-7pm
LOCATION:All Saints\, 299 S. 9th St.\, Broken Arrow\, OK\, 74012\, United States
CATEGORIES:Saint Catherine School
ORGANIZER;CN="Mrs. Guglielmo":MAILTO:pjguglielmo@gmail.com
GEO:36.0507831;-95.7789131
X-APPLE-STRUCTURED-LOCATION;VALUE=URI;X-ADDRESS=All Saints 299 S. 9th St. Broken Arrow OK 74012 United States;X-APPLE-RADIUS=500;X-TITLE=299 S. 9th St.:geo:-95.7789131,36.0507831
END:VEVENT
BEGIN:VEVENT
DTSTART;TZID=America/Chicago:20171012T130000
DTEND;TZID=America/Chicago:20171012T140000
DTSTAMP:20260423T185627
CREATED:20170927T063218Z
LAST-MODIFIED:20170927T064054Z
UID:10005348-1507813200-1507816800@www.saintcatherineschool.org
SUMMARY:6th Grade Volleyball Game 6pm
DESCRIPTION:The 6th grade will have a volleyball game at All Saints at 6pm.
URL:https://www.saintcatherineschool.org/event/6th-grade-volleyball-game-5
LOCATION:All Saints\, 299 S. 9th St.\, Broken Arrow\, OK\, 74012\, United States
CATEGORIES:Saint Catherine School
ORGANIZER;CN="Mrs. Guglielmo":MAILTO:pjguglielmo@gmail.com
GEO:36.0507831;-95.7789131
X-APPLE-STRUCTURED-LOCATION;VALUE=URI;X-ADDRESS=All Saints 299 S. 9th St. Broken Arrow OK 74012 United States;X-APPLE-RADIUS=500;X-TITLE=299 S. 9th St.:geo:-95.7789131,36.0507831
END:VEVENT
BEGIN:VEVENT
DTSTART;TZID=America/Chicago:20171009T150000
DTEND;TZID=America/Chicago:20171009T160000
DTSTAMP:20260423T185627
CREATED:20170927T065436Z
LAST-MODIFIED:20170927T065436Z
UID:10007073-1507561200-1507564800@www.saintcatherineschool.org
SUMMARY:8th Grade Volleyball Game 8pm
DESCRIPTION:The 8th grade will have a volleyball game at All Saints at 8pm.
URL:https://www.saintcatherineschool.org/event/8th-grade-volleyball-game-8pm-3
LOCATION:All Saints\, 299 S. 9th St.\, Broken Arrow\, OK\, 74012\, United States
CATEGORIES:Saint Catherine School
ORGANIZER;CN="April Adalim":MAILTO:aadalim@saint-catherine.org
GEO:36.0507831;-95.7789131
X-APPLE-STRUCTURED-LOCATION;VALUE=URI;X-ADDRESS=All Saints 299 S. 9th St. Broken Arrow OK 74012 United States;X-APPLE-RADIUS=500;X-TITLE=299 S. 9th St.:geo:-95.7789131,36.0507831
END:VEVENT
BEGIN:VEVENT
DTSTART;TZID=America/Chicago:20171002T030000
DTEND;TZID=America/Chicago:20171002T120000
DTSTAMP:20260423T185627
CREATED:20170927T064845Z
LAST-MODIFIED:20170927T064845Z
UID:10005342-1506913200-1506945600@www.saintcatherineschool.org
SUMMARY:8th Grade Volleyball Game 8pm
DESCRIPTION:The 8th grade will have a volleyball game at All Saints at 8pm.
URL:https://www.saintcatherineschool.org/event/8th-grade-volleyball-game-8pm
LOCATION:All Saints\, 299 S. 9th St.\, Broken Arrow\, OK\, 74012\, United States
CATEGORIES:Saint Catherine School
ORGANIZER;CN="April Adalim":MAILTO:aadalim@saint-catherine.org
GEO:36.0507831;-95.7789131
X-APPLE-STRUCTURED-LOCATION;VALUE=URI;X-ADDRESS=All Saints 299 S. 9th St. Broken Arrow OK 74012 United States;X-APPLE-RADIUS=500;X-TITLE=299 S. 9th St.:geo:-95.7789131,36.0507831
END:VEVENT
END:VCALENDAR