BEGIN:VCALENDAR
VERSION:2.0
PRODID:-//Saint Catherine of Alexandria School - ECPv6.15.20//NONSGML v1.0//EN
CALSCALE:GREGORIAN
METHOD:PUBLISH
X-WR-CALNAME:Saint Catherine of Alexandria School
X-ORIGINAL-URL:https://www.saintcatherineschool.org
X-WR-CALDESC:Events for Saint Catherine of Alexandria School
REFRESH-INTERVAL;VALUE=DURATION:PT1H
X-Robots-Tag:noindex
X-PUBLISHED-TTL:PT1H
BEGIN:VTIMEZONE
TZID:America/Chicago
BEGIN:DAYLIGHT
TZOFFSETFROM:-0600
TZOFFSETTO:-0500
TZNAME:CDT
DTSTART:20160313T080000
END:DAYLIGHT
BEGIN:STANDARD
TZOFFSETFROM:-0500
TZOFFSETTO:-0600
TZNAME:CST
DTSTART:20161106T070000
END:STANDARD
BEGIN:DAYLIGHT
TZOFFSETFROM:-0600
TZOFFSETTO:-0500
TZNAME:CDT
DTSTART:20170312T080000
END:DAYLIGHT
BEGIN:STANDARD
TZOFFSETFROM:-0500
TZOFFSETTO:-0600
TZNAME:CST
DTSTART:20171105T070000
END:STANDARD
BEGIN:DAYLIGHT
TZOFFSETFROM:-0600
TZOFFSETTO:-0500
TZNAME:CDT
DTSTART:20180311T080000
END:DAYLIGHT
BEGIN:STANDARD
TZOFFSETFROM:-0500
TZOFFSETTO:-0600
TZNAME:CST
DTSTART:20181104T070000
END:STANDARD
BEGIN:DAYLIGHT
TZOFFSETFROM:-0600
TZOFFSETTO:-0500
TZNAME:CDT
DTSTART:20190310T080000
END:DAYLIGHT
BEGIN:STANDARD
TZOFFSETFROM:-0500
TZOFFSETTO:-0600
TZNAME:CST
DTSTART:20191103T070000
END:STANDARD
END:VTIMEZONE
BEGIN:VEVENT
DTSTART;VALUE=DATE:20180215
DTEND;VALUE=DATE:20180217
DTSTAMP:20260424T160152
CREATED:20180104T090611Z
LAST-MODIFIED:20180104T090611Z
UID:10005123-1518717600-1518803999@www.saintcatherineschool.org
SUMMARY:Teacher Professional Development Day - NO SCHOOL
DESCRIPTION:The teachers will be at Bishop Kelley today from 8-12:30 for professional development.  There is no school.
URL:https://www.saintcatherineschool.org/event/teacher-professional-development-day-no-school
LOCATION:Bishop Kelley – Commons\, 3905 S Hudson Ave\, Tulsa\, OK\, 74135\, United States
CATEGORIES:Saint Catherine School
GEO:36.1080678;-95.9105957
X-APPLE-STRUCTURED-LOCATION;VALUE=URI;X-ADDRESS=Bishop Kelley – Commons 3905 S Hudson Ave Tulsa OK 74135 United States;X-APPLE-RADIUS=500;X-TITLE=3905 S Hudson Ave:geo:-95.9105957,36.1080678
END:VEVENT
BEGIN:VEVENT
DTSTART;TZID=America/Chicago:20180106T020000
DTEND;TZID=America/Chicago:20180106T060000
DTSTAMP:20260424T160152
CREATED:20180104T083514Z
LAST-MODIFIED:20180104T083514Z
UID:10005469-1515204000-1515218400@www.saintcatherineschool.org
SUMMARY:Bishop Kelley testing
DESCRIPTION:Any 8th grader that would like to go to Bishop Kelley need to take a placement test. Here is a link to find out more information.  https://www.bishopkelley.org/news/academics/placement-test-class-2022 \n 
URL:https://www.saintcatherineschool.org/event/bishop-kelley-testing-2
LOCATION:Bishop Kelley – Commons\, 3905 S Hudson Ave\, Tulsa\, OK\, 74135\, United States
CATEGORIES:Saint Catherine School
GEO:36.1080678;-95.9105957
X-APPLE-STRUCTURED-LOCATION;VALUE=URI;X-ADDRESS=Bishop Kelley – Commons 3905 S Hudson Ave Tulsa OK 74135 United States;X-APPLE-RADIUS=500;X-TITLE=3905 S Hudson Ave:geo:-95.9105957,36.1080678
END:VEVENT
BEGIN:VEVENT
DTSTART;TZID=America/Chicago:20171202T020000
DTEND;TZID=America/Chicago:20171202T060000
DTSTAMP:20260424T160152
CREATED:20171116T003705Z
LAST-MODIFIED:20171116T003705Z
UID:10005446-1512180000-1512194400@www.saintcatherineschool.org
SUMMARY:Bishop Kelley Testing
DESCRIPTION:
URL:https://www.saintcatherineschool.org/event/bishop-kelley-testing
LOCATION:Bishop Kelley – Commons\, 3905 S Hudson Ave\, Tulsa\, OK\, 74135\, United States
CATEGORIES:Saint Catherine School
GEO:36.1080678;-95.9105957
X-APPLE-STRUCTURED-LOCATION;VALUE=URI;X-ADDRESS=Bishop Kelley – Commons 3905 S Hudson Ave Tulsa OK 74135 United States;X-APPLE-RADIUS=500;X-TITLE=3905 S Hudson Ave:geo:-95.9105957,36.1080678
END:VEVENT
BEGIN:VEVENT
DTSTART;TZID=America/Chicago:20170225T180000
DTEND;TZID=America/Chicago:20170225T213000
DTSTAMP:20260424T160152
CREATED:20170222T071506Z
LAST-MODIFIED:20170223T011126Z
UID:10004999-1488045600-1488058200@www.saintcatherineschool.org
SUMMARY:6:00 p.m. Trivia Night
DESCRIPTION:
URL:https://www.saintcatherineschool.org/event/trivia_night_braniac_bowl
LOCATION:Bishop Kelley – Commons\, 3905 S Hudson Ave\, Tulsa\, OK\, 74135\, United States
CATEGORIES:Saint Catherine School
GEO:36.1080678;-95.9105957
X-APPLE-STRUCTURED-LOCATION;VALUE=URI;X-ADDRESS=Bishop Kelley – Commons 3905 S Hudson Ave Tulsa OK 74135 United States;X-APPLE-RADIUS=500;X-TITLE=3905 S Hudson Ave:geo:-95.9105957,36.1080678
END:VEVENT
END:VCALENDAR