BEGIN:VCALENDAR
VERSION:2.0
PRODID:-//Saint Catherine of Alexandria School - ECPv6.15.20//NONSGML v1.0//EN
CALSCALE:GREGORIAN
METHOD:PUBLISH
X-WR-CALNAME:Saint Catherine of Alexandria School
X-ORIGINAL-URL:https://www.saintcatherineschool.org
X-WR-CALDESC:Events for Saint Catherine of Alexandria School
REFRESH-INTERVAL;VALUE=DURATION:PT1H
X-Robots-Tag:noindex
X-PUBLISHED-TTL:PT1H
BEGIN:VTIMEZONE
TZID:America/Chicago
BEGIN:DAYLIGHT
TZOFFSETFROM:-0600
TZOFFSETTO:-0500
TZNAME:CDT
DTSTART:20170312T080000
END:DAYLIGHT
BEGIN:STANDARD
TZOFFSETFROM:-0500
TZOFFSETTO:-0600
TZNAME:CST
DTSTART:20171105T070000
END:STANDARD
BEGIN:DAYLIGHT
TZOFFSETFROM:-0600
TZOFFSETTO:-0500
TZNAME:CDT
DTSTART:20180311T080000
END:DAYLIGHT
BEGIN:STANDARD
TZOFFSETFROM:-0500
TZOFFSETTO:-0600
TZNAME:CST
DTSTART:20181104T070000
END:STANDARD
BEGIN:DAYLIGHT
TZOFFSETFROM:-0600
TZOFFSETTO:-0500
TZNAME:CDT
DTSTART:20190310T080000
END:DAYLIGHT
BEGIN:STANDARD
TZOFFSETFROM:-0500
TZOFFSETTO:-0600
TZNAME:CST
DTSTART:20191103T070000
END:STANDARD
BEGIN:DAYLIGHT
TZOFFSETFROM:-0600
TZOFFSETTO:-0500
TZNAME:CDT
DTSTART:20200308T080000
END:DAYLIGHT
BEGIN:STANDARD
TZOFFSETFROM:-0500
TZOFFSETTO:-0600
TZNAME:CST
DTSTART:20201101T070000
END:STANDARD
BEGIN:DAYLIGHT
TZOFFSETFROM:-0600
TZOFFSETTO:-0500
TZNAME:CDT
DTSTART:20210314T080000
END:DAYLIGHT
BEGIN:STANDARD
TZOFFSETFROM:-0500
TZOFFSETTO:-0600
TZNAME:CST
DTSTART:20211107T070000
END:STANDARD
END:VTIMEZONE
BEGIN:VEVENT
DTSTART;TZID=America/Chicago:20200215T161000
DTEND;TZID=America/Chicago:20200215T170000
DTSTAMP:20260423T140908
CREATED:20200122T163226Z
LAST-MODIFIED:20200122T163226Z
UID:10007201-1581783000-1581786000@www.saintcatherineschool.org
SUMMARY:4th grade basketball game
DESCRIPTION:The 4th grade will play at 4:10 at Bishop Kelley High School.
URL:https://www.saintcatherineschool.org/event/4th-grade-basketball-game-5
LOCATION:Bisoph Kelley\, 3905 S Hudson Ave\, Tulsa\, 74135\, United States
CATEGORIES:Saint Catherine School
ORGANIZER;CN="Craig Torkleson":MAILTO:craigt2@hotmail.com
GEO:36.1065774;-95.9132567
X-APPLE-STRUCTURED-LOCATION;VALUE=URI;X-ADDRESS=Bisoph Kelley 3905 S Hudson Ave Tulsa 74135 United States;X-APPLE-RADIUS=500;X-TITLE=3905 S Hudson Ave:geo:-95.9132567,36.1065774
END:VEVENT
BEGIN:VEVENT
DTSTART;TZID=America/Chicago:20200215T120000
DTEND;TZID=America/Chicago:20200215T130000
DTSTAMP:20260423T140908
CREATED:20200122T163547Z
LAST-MODIFIED:20200122T163547Z
UID:10008443-1581768000-1581771600@www.saintcatherineschool.org
SUMMARY:2nd grade basketball game
DESCRIPTION:The 2nd grade will play at 12pm at Bishop Kelley High School.
URL:https://www.saintcatherineschool.org/event/2nd-grade-basketball-game-5
LOCATION:Bisoph Kelley\, 3905 S Hudson Ave\, Tulsa\, 74135\, United States
CATEGORIES:Saint Catherine School
ORGANIZER;CN="Kent Robb":MAILTO:kentrobb@hotmail.com
GEO:36.1065774;-95.9132567
X-APPLE-STRUCTURED-LOCATION;VALUE=URI;X-ADDRESS=Bisoph Kelley 3905 S Hudson Ave Tulsa 74135 United States;X-APPLE-RADIUS=500;X-TITLE=3905 S Hudson Ave:geo:-95.9132567,36.1065774
END:VEVENT
BEGIN:VEVENT
DTSTART;TZID=America/Chicago:20200208T152000
DTEND;TZID=America/Chicago:20200208T160000
DTSTAMP:20260423T140908
CREATED:20200122T163143Z
LAST-MODIFIED:20200122T163143Z
UID:10007199-1581175200-1581177600@www.saintcatherineschool.org
SUMMARY:4th grade basketball game
DESCRIPTION:The 4th grade will play at 3:20 at Bishop Kelley High School.
URL:https://www.saintcatherineschool.org/event/4th-grade-basketball-game-4
LOCATION:Bisoph Kelley\, 3905 S Hudson Ave\, Tulsa\, 74135\, United States
CATEGORIES:Saint Catherine School
ORGANIZER;CN="Craig Torkleson":MAILTO:craigt2@hotmail.com
GEO:36.1065774;-95.9132567
X-APPLE-STRUCTURED-LOCATION;VALUE=URI;X-ADDRESS=Bisoph Kelley 3905 S Hudson Ave Tulsa 74135 United States;X-APPLE-RADIUS=500;X-TITLE=3905 S Hudson Ave:geo:-95.9132567,36.1065774
END:VEVENT
BEGIN:VEVENT
DTSTART;TZID=America/Chicago:20200208T112000
DTEND;TZID=America/Chicago:20200208T120000
DTSTAMP:20260423T140908
CREATED:20200122T163444Z
LAST-MODIFIED:20200122T163444Z
UID:10008442-1581160800-1581163200@www.saintcatherineschool.org
SUMMARY:2nd grade basketball game
DESCRIPTION:The 2nd grade will play at 11:20 at Bishop Kelley High School.
URL:https://www.saintcatherineschool.org/event/2nd-grade-basketball-game-4
LOCATION:Bisoph Kelley\, 3905 S Hudson Ave\, Tulsa\, 74135\, United States
CATEGORIES:Saint Catherine School
ORGANIZER;CN="Kent Robb":MAILTO:kentrobb@hotmail.com
GEO:36.1065774;-95.9132567
X-APPLE-STRUCTURED-LOCATION;VALUE=URI;X-ADDRESS=Bisoph Kelley 3905 S Hudson Ave Tulsa 74135 United States;X-APPLE-RADIUS=500;X-TITLE=3905 S Hudson Ave:geo:-95.9132567,36.1065774
END:VEVENT
BEGIN:VEVENT
DTSTART;TZID=America/Chicago:20200201T161000
DTEND;TZID=America/Chicago:20200201T170000
DTSTAMP:20260423T140908
CREATED:20200122T163048Z
LAST-MODIFIED:20200122T163048Z
UID:10007197-1580573400-1580576400@www.saintcatherineschool.org
SUMMARY:4th grade basketball game
DESCRIPTION:The 4th grade will play at 4:10 at Bishop Kelley High School.
URL:https://www.saintcatherineschool.org/event/4th-grade-basketball-game-3
LOCATION:Bisoph Kelley\, 3905 S Hudson Ave\, Tulsa\, 74135\, United States
CATEGORIES:Saint Catherine School
ORGANIZER;CN="Craig Torkleson":MAILTO:craigt2@hotmail.com
GEO:36.1065774;-95.9132567
X-APPLE-STRUCTURED-LOCATION;VALUE=URI;X-ADDRESS=Bisoph Kelley 3905 S Hudson Ave Tulsa 74135 United States;X-APPLE-RADIUS=500;X-TITLE=3905 S Hudson Ave:geo:-95.9132567,36.1065774
END:VEVENT
BEGIN:VEVENT
DTSTART;TZID=America/Chicago:20200201T112000
DTEND;TZID=America/Chicago:20200201T120000
DTSTAMP:20260423T140908
CREATED:20200122T163354Z
LAST-MODIFIED:20200122T163354Z
UID:10007203-1580556000-1580558400@www.saintcatherineschool.org
SUMMARY:2nd grade basketball game
DESCRIPTION:The 2nd grade will play at 11:20 at Bishop Kelley High School.
URL:https://www.saintcatherineschool.org/event/2nd-grade-basketball-game-3
LOCATION:Bisoph Kelley\, 3905 S Hudson Ave\, Tulsa\, 74135\, United States
CATEGORIES:Saint Catherine School
ORGANIZER;CN="Kent Robb":MAILTO:kentrobb@hotmail.com
GEO:36.1065774;-95.9132567
X-APPLE-STRUCTURED-LOCATION;VALUE=URI;X-ADDRESS=Bisoph Kelley 3905 S Hudson Ave Tulsa 74135 United States;X-APPLE-RADIUS=500;X-TITLE=3905 S Hudson Ave:geo:-95.9132567,36.1065774
END:VEVENT
BEGIN:VEVENT
DTSTART;TZID=America/Chicago:20200125T161000
DTEND;TZID=America/Chicago:20200125T170000
DTSTAMP:20260423T140908
CREATED:20200122T155100Z
LAST-MODIFIED:20200122T155342Z
UID:10008424-1579968600-1579971600@www.saintcatherineschool.org
SUMMARY:4th grade basketball game
DESCRIPTION:The 4th grade will play at 4:10 at Bishop Kelley High School.
URL:https://www.saintcatherineschool.org/event/4th-grade-basketball-game-2
LOCATION:Bisoph Kelley\, 3905 S Hudson Ave\, Tulsa\, 74135\, United States
CATEGORIES:Saint Catherine School
ORGANIZER;CN="Craig Torkleson":MAILTO:craigt2@hotmail.com
GEO:36.1065774;-95.9132567
X-APPLE-STRUCTURED-LOCATION;VALUE=URI;X-ADDRESS=Bisoph Kelley 3905 S Hudson Ave Tulsa 74135 United States;X-APPLE-RADIUS=500;X-TITLE=3905 S Hudson Ave:geo:-95.9132567,36.1065774
END:VEVENT
BEGIN:VEVENT
DTSTART;TZID=America/Chicago:20200125T104000
DTEND;TZID=America/Chicago:20200125T113000
DTSTAMP:20260423T140908
CREATED:20200122T155237Z
LAST-MODIFIED:20200122T155237Z
UID:10008419-1579948800-1579951800@www.saintcatherineschool.org
SUMMARY:2nd grade basketball game
DESCRIPTION:The 2nd grade will play at 10:40 at Bishop Kelley High School.
URL:https://www.saintcatherineschool.org/event/2nd-grade-basketball-game-2
LOCATION:Bisoph Kelley\, 3905 S Hudson Ave\, Tulsa\, 74135\, United States
CATEGORIES:Saint Catherine School
ORGANIZER;CN="Kent Robb":MAILTO:kentrobb@hotmail.com
GEO:36.1065774;-95.9132567
X-APPLE-STRUCTURED-LOCATION;VALUE=URI;X-ADDRESS=Bisoph Kelley 3905 S Hudson Ave Tulsa 74135 United States;X-APPLE-RADIUS=500;X-TITLE=3905 S Hudson Ave:geo:-95.9132567,36.1065774
END:VEVENT
BEGIN:VEVENT
DTSTART;TZID=America/Chicago:20200111T165500
DTEND;TZID=America/Chicago:20200111T175500
DTSTAMP:20260423T140908
CREATED:20200122T154731Z
LAST-MODIFIED:20200122T154731Z
UID:10008433-1578761700-1578765300@www.saintcatherineschool.org
SUMMARY:4th grade basketball game
DESCRIPTION:The 4th grade team will play at 4:55 at Bishop Kelley High School.
URL:https://www.saintcatherineschool.org/event/4th-grade-basketball-game
LOCATION:Bisoph Kelley\, 3905 S Hudson Ave\, Tulsa\, 74135\, United States
CATEGORIES:Saint Catherine School
ORGANIZER;CN="Craig Torkleson":MAILTO:craigt2@hotmail.com
GEO:36.1065774;-95.9132567
X-APPLE-STRUCTURED-LOCATION;VALUE=URI;X-ADDRESS=Bisoph Kelley 3905 S Hudson Ave Tulsa 74135 United States;X-APPLE-RADIUS=500;X-TITLE=3905 S Hudson Ave:geo:-95.9132567,36.1065774
END:VEVENT
BEGIN:VEVENT
DTSTART;TZID=America/Chicago:20200111T124000
DTEND;TZID=America/Chicago:20200111T133000
DTSTAMP:20260423T140908
CREATED:20200122T154838Z
LAST-MODIFIED:20200122T154838Z
UID:10008432-1578746400-1578749400@www.saintcatherineschool.org
SUMMARY:2nd grade basketball game
DESCRIPTION:The 2nd grade team will play at 12:40 at Bishop Kelley High School.
URL:https://www.saintcatherineschool.org/event/2nd-grade-basketball-game
LOCATION:Bisoph Kelley\, 3905 S Hudson Ave\, Tulsa\, 74135\, United States
CATEGORIES:Saint Catherine School
ORGANIZER;CN="Kent Robb":MAILTO:kentrobb@hotmail.com
GEO:36.1065774;-95.9132567
X-APPLE-STRUCTURED-LOCATION;VALUE=URI;X-ADDRESS=Bisoph Kelley 3905 S Hudson Ave Tulsa 74135 United States;X-APPLE-RADIUS=500;X-TITLE=3905 S Hudson Ave:geo:-95.9132567,36.1065774
END:VEVENT
BEGIN:VEVENT
DTSTART;TZID=America/Chicago:20191017T080000
DTEND;TZID=America/Chicago:20191017T130000
DTSTAMP:20260423T140908
CREATED:20190925T162128Z
LAST-MODIFIED:20190925T162128Z
UID:10008332-1571299200-1571317200@www.saintcatherineschool.org
SUMMARY:Diocesan InService @ Bishop Kelley
DESCRIPTION:
URL:https://www.saintcatherineschool.org/event/diocesan-inservice-bishop-kelley
LOCATION:Bisoph Kelley\, 3905 S Hudson Ave\, Tulsa\, 74135\, United States
CATEGORIES:Saint Catherine School
ORGANIZER;CN="Michelle Anthamatten":MAILTO:manthamatten@saint-catherine.org
GEO:36.1065774;-95.9132567
X-APPLE-STRUCTURED-LOCATION;VALUE=URI;X-ADDRESS=Bisoph Kelley 3905 S Hudson Ave Tulsa 74135 United States;X-APPLE-RADIUS=500;X-TITLE=3905 S Hudson Ave:geo:-95.9132567,36.1065774
END:VEVENT
BEGIN:VEVENT
DTSTART;TZID=America/Chicago:20190926T090000
DTEND;TZID=America/Chicago:20190926T130000
DTSTAMP:20260423T140908
CREATED:20190827T151137Z
LAST-MODIFIED:20190827T151137Z
UID:10008248-1569488400-1569502800@www.saintcatherineschool.org
SUMMARY:8th Grade to Bishop Kelley
DESCRIPTION:The 8th grade class will be touring Bishop Kelley.
URL:https://www.saintcatherineschool.org/event/8th-grade-to-bishop-kelley
LOCATION:Bisoph Kelley\, 3905 S Hudson Ave\, Tulsa\, 74135\, United States
CATEGORIES:Saint Catherine School
ORGANIZER;CN="Michelle Anthamatten":MAILTO:manthamatten@saint-catherine.org
GEO:36.1065774;-95.9132567
X-APPLE-STRUCTURED-LOCATION;VALUE=URI;X-ADDRESS=Bisoph Kelley 3905 S Hudson Ave Tulsa 74135 United States;X-APPLE-RADIUS=500;X-TITLE=3905 S Hudson Ave:geo:-95.9132567,36.1065774
END:VEVENT
BEGIN:VEVENT
DTSTART;TZID=America/Chicago:20190426T110000
DTEND;TZID=America/Chicago:20190426T170000
DTSTAMP:20260423T140908
CREATED:20190401T154655Z
LAST-MODIFIED:20190401T154655Z
UID:10005454-1556276400-1556298000@www.saintcatherineschool.org
SUMMARY:Track Meet
DESCRIPTION:The Diocesan Track Meet is from 11:11-5:00 at Bishop Kelley.
URL:https://www.saintcatherineschool.org/event/track-meet
LOCATION:Bisoph Kelley\, 3905 S Hudson Ave\, Tulsa\, 74135\, United States
CATEGORIES:Saint Catherine School
GEO:36.1065774;-95.9132567
X-APPLE-STRUCTURED-LOCATION;VALUE=URI;X-ADDRESS=Bisoph Kelley 3905 S Hudson Ave Tulsa 74135 United States;X-APPLE-RADIUS=500;X-TITLE=3905 S Hudson Ave:geo:-95.9132567,36.1065774
END:VEVENT
BEGIN:VEVENT
DTSTART;TZID=America/Chicago:20190216T084500
DTEND;TZID=America/Chicago:20190216T094500
DTSTAMP:20260423T140908
CREATED:20181210T154404Z
LAST-MODIFIED:20181210T154404Z
UID:10007590-1550306700-1550310300@www.saintcatherineschool.org
SUMMARY:Elementary Basketball Game
DESCRIPTION:The elementary basketball team will be playing Marquette Red at 8:45am at Bishop Kelley.
URL:https://www.saintcatherineschool.org/event/elementary-basketball-game-8
LOCATION:Bisoph Kelley\, 3905 S Hudson Ave\, Tulsa\, 74135\, United States
CATEGORIES:Saint Catherine School
ORGANIZER;CN="Jim Pense":MAILTO:jpense@saint-catherine.org
GEO:36.1065774;-95.9132567
X-APPLE-STRUCTURED-LOCATION;VALUE=URI;X-ADDRESS=Bisoph Kelley 3905 S Hudson Ave Tulsa 74135 United States;X-APPLE-RADIUS=500;X-TITLE=3905 S Hudson Ave:geo:-95.9132567,36.1065774
END:VEVENT
BEGIN:VEVENT
DTSTART;TZID=America/Chicago:20190209T080000
DTEND;TZID=America/Chicago:20190209T090000
DTSTAMP:20260423T140908
CREATED:20181210T154254Z
LAST-MODIFIED:20181210T154254Z
UID:10007592-1549699200-1549702800@www.saintcatherineschool.org
SUMMARY:Elementary Basketball Game
DESCRIPTION:The elementary basketball team will be playing Holy Family at 8am at Bishop Kelley.
URL:https://www.saintcatherineschool.org/event/elementary-basketball-game-7
LOCATION:Bisoph Kelley\, 3905 S Hudson Ave\, Tulsa\, 74135\, United States
CATEGORIES:Saint Catherine School
ORGANIZER;CN="Jim Pense":MAILTO:jpense@saint-catherine.org
GEO:36.1065774;-95.9132567
X-APPLE-STRUCTURED-LOCATION;VALUE=URI;X-ADDRESS=Bisoph Kelley 3905 S Hudson Ave Tulsa 74135 United States;X-APPLE-RADIUS=500;X-TITLE=3905 S Hudson Ave:geo:-95.9132567,36.1065774
END:VEVENT
BEGIN:VEVENT
DTSTART;TZID=America/Chicago:20190202T084500
DTEND;TZID=America/Chicago:20190202T094500
DTSTAMP:20260423T140908
CREATED:20181210T154119Z
LAST-MODIFIED:20181210T154119Z
UID:10007594-1549097100-1549100700@www.saintcatherineschool.org
SUMMARY:Elementary Basketball Game
DESCRIPTION:The elementary basketball team will be playing St. Mary at 8:45am at Bishop Kelley.
URL:https://www.saintcatherineschool.org/event/elementary-basketball-game-6
LOCATION:Bisoph Kelley\, 3905 S Hudson Ave\, Tulsa\, 74135\, United States
CATEGORIES:Saint Catherine School
ORGANIZER;CN="Jim Pense":MAILTO:jpense@saint-catherine.org
GEO:36.1065774;-95.9132567
X-APPLE-STRUCTURED-LOCATION;VALUE=URI;X-ADDRESS=Bisoph Kelley 3905 S Hudson Ave Tulsa 74135 United States;X-APPLE-RADIUS=500;X-TITLE=3905 S Hudson Ave:geo:-95.9132567,36.1065774
END:VEVENT
BEGIN:VEVENT
DTSTART;TZID=America/Chicago:20190126T093000
DTEND;TZID=America/Chicago:20190126T103000
DTSTAMP:20260423T140908
CREATED:20181210T153934Z
LAST-MODIFIED:20181210T153934Z
UID:10005338-1548495000-1548498600@www.saintcatherineschool.org
SUMMARY:Elementary Basketball Game
DESCRIPTION:The elementary basketball team will be playing All Saints White at 9:30am at Bishop Kelley.
URL:https://www.saintcatherineschool.org/event/elementary-basketball-game-5
LOCATION:Bisoph Kelley\, 3905 S Hudson Ave\, Tulsa\, 74135\, United States
CATEGORIES:Saint Catherine School
ORGANIZER;CN="Jim Pense":MAILTO:jpense@saint-catherine.org
GEO:36.1065774;-95.9132567
X-APPLE-STRUCTURED-LOCATION;VALUE=URI;X-ADDRESS=Bisoph Kelley 3905 S Hudson Ave Tulsa 74135 United States;X-APPLE-RADIUS=500;X-TITLE=3905 S Hudson Ave:geo:-95.9132567,36.1065774
END:VEVENT
BEGIN:VEVENT
DTSTART;TZID=America/Chicago:20190112T123000
DTEND;TZID=America/Chicago:20190112T133000
DTSTAMP:20260423T140908
CREATED:20181210T153809Z
LAST-MODIFIED:20181210T153809Z
UID:10005337-1547296200-1547299800@www.saintcatherineschool.org
SUMMARY:Elementary Basketball Game
DESCRIPTION:The elementary basketball team will be playing All Saints Blue at 12:30pm at Bishop Kelley.
URL:https://www.saintcatherineschool.org/event/elementary-basketball-game-4
LOCATION:Bisoph Kelley\, 3905 S Hudson Ave\, Tulsa\, 74135\, United States
CATEGORIES:Saint Catherine School
ORGANIZER;CN="Jim Pense":MAILTO:jpense@saint-catherine.org
GEO:36.1065774;-95.9132567
X-APPLE-STRUCTURED-LOCATION;VALUE=URI;X-ADDRESS=Bisoph Kelley 3905 S Hudson Ave Tulsa 74135 United States;X-APPLE-RADIUS=500;X-TITLE=3905 S Hudson Ave:geo:-95.9132567,36.1065774
END:VEVENT
BEGIN:VEVENT
DTSTART;TZID=America/Chicago:20190105T140000
DTEND;TZID=America/Chicago:20190105T150000
DTSTAMP:20260423T140908
CREATED:20181210T153701Z
LAST-MODIFIED:20181210T153701Z
UID:10005336-1546696800-1546700400@www.saintcatherineschool.org
SUMMARY:Elementary Basketball Game
DESCRIPTION:The elementary basketball team will be playing St. Pius at 2pm at Bishop Kelley.
URL:https://www.saintcatherineschool.org/event/elementary-basketball-game-3
LOCATION:Bisoph Kelley\, 3905 S Hudson Ave\, Tulsa\, 74135\, United States
CATEGORIES:Saint Catherine School
ORGANIZER;CN="Jim Pense":MAILTO:jpense@saint-catherine.org
GEO:36.1065774;-95.9132567
X-APPLE-STRUCTURED-LOCATION;VALUE=URI;X-ADDRESS=Bisoph Kelley 3905 S Hudson Ave Tulsa 74135 United States;X-APPLE-RADIUS=500;X-TITLE=3905 S Hudson Ave:geo:-95.9132567,36.1065774
END:VEVENT
BEGIN:VEVENT
DTSTART;TZID=America/Chicago:20181229T123000
DTEND;TZID=America/Chicago:20181229T133000
DTSTAMP:20260423T140908
CREATED:20181210T153550Z
LAST-MODIFIED:20181210T153550Z
UID:10005335-1546086600-1546090200@www.saintcatherineschool.org
SUMMARY:Elementary Basketball Game
DESCRIPTION:The elementary basketball team will be playing Sts. Peter and Paul at Bishop Kelley.
URL:https://www.saintcatherineschool.org/event/elementary-basketball-game-2
LOCATION:Bisoph Kelley\, 3905 S Hudson Ave\, Tulsa\, 74135\, United States
CATEGORIES:Saint Catherine School
ORGANIZER;CN="Jim Pense":MAILTO:jpense@saint-catherine.org
GEO:36.1065774;-95.9132567
X-APPLE-STRUCTURED-LOCATION;VALUE=URI;X-ADDRESS=Bisoph Kelley 3905 S Hudson Ave Tulsa 74135 United States;X-APPLE-RADIUS=500;X-TITLE=3905 S Hudson Ave:geo:-95.9132567,36.1065774
END:VEVENT
BEGIN:VEVENT
DTSTART;TZID=America/Chicago:20181215T110000
DTEND;TZID=America/Chicago:20181215T120000
DTSTAMP:20260423T140908
CREATED:20181210T153350Z
LAST-MODIFIED:20181210T153350Z
UID:10005333-1544871600-1544875200@www.saintcatherineschool.org
SUMMARY:Elementary Basketball Game
DESCRIPTION:The elementary basketball team will be playing Holland Hall at 11am at Bishop Kelley.
URL:https://www.saintcatherineschool.org/event/elementary-basketball-game
LOCATION:Bisoph Kelley\, 3905 S Hudson Ave\, Tulsa\, 74135\, United States
CATEGORIES:Saint Catherine School
ORGANIZER;CN="Jim Pense":MAILTO:jpense@saint-catherine.org
GEO:36.1065774;-95.9132567
X-APPLE-STRUCTURED-LOCATION;VALUE=URI;X-ADDRESS=Bisoph Kelley 3905 S Hudson Ave Tulsa 74135 United States;X-APPLE-RADIUS=500;X-TITLE=3905 S Hudson Ave:geo:-95.9132567,36.1065774
END:VEVENT
BEGIN:VEVENT
DTSTART;TZID=America/Chicago:20181103T080000
DTEND;TZID=America/Chicago:20181103T123000
DTSTAMP:20260423T140908
CREATED:20181029T165802Z
LAST-MODIFIED:20181029T165802Z
UID:10007607-1541232000-1541248200@www.saintcatherineschool.org
SUMMARY:Bishop Kelley Placement test
DESCRIPTION:The BK placement test will be today from 8:00-12:30.
URL:https://www.saintcatherineschool.org/event/bishop-kelley-placement-test
LOCATION:Bisoph Kelley\, 3905 S Hudson Ave\, Tulsa\, 74135\, United States
CATEGORIES:Saint Catherine School
GEO:36.1065774;-95.9132567
X-APPLE-STRUCTURED-LOCATION;VALUE=URI;X-ADDRESS=Bisoph Kelley 3905 S Hudson Ave Tulsa 74135 United States;X-APPLE-RADIUS=500;X-TITLE=3905 S Hudson Ave:geo:-95.9132567,36.1065774
END:VEVENT
BEGIN:VEVENT
DTSTART;VALUE=DATE:20181027
DTEND;VALUE=DATE:20181028
DTSTAMP:20260423T140908
CREATED:20181002T182818Z
LAST-MODIFIED:20181002T182818Z
UID:10005311-1540598400-1540684799@www.saintcatherineschool.org
SUMMARY:Volleyball Tournament
DESCRIPTION:The 7th grade team will be in the volleyball tournament at Bishop Kelley.  Cost is $10 per player.
URL:https://www.saintcatherineschool.org/event/volleyball-tournament
LOCATION:Bisoph Kelley\, 3905 S Hudson Ave\, Tulsa\, 74135\, United States
CATEGORIES:Saint Catherine School
ORGANIZER;CN="April Adalim":MAILTO:aadalim@saint-catherine.org
GEO:36.1065774;-95.9132567
X-APPLE-STRUCTURED-LOCATION;VALUE=URI;X-ADDRESS=Bisoph Kelley 3905 S Hudson Ave Tulsa 74135 United States;X-APPLE-RADIUS=500;X-TITLE=3905 S Hudson Ave:geo:-95.9132567,36.1065774
END:VEVENT
BEGIN:VEVENT
DTSTART;TZID=America/Chicago:20181018T080000
DTEND;TZID=America/Chicago:20181018T123000
DTSTAMP:20260423T140908
CREATED:20180531T203217Z
LAST-MODIFIED:20180531T203217Z
UID:10007198-1539849600-1539865800@www.saintcatherineschool.org
SUMMARY:Diocesan In-Service
DESCRIPTION:The teachers will be going to Bishop Kelley for their Fall In-Service.
URL:https://www.saintcatherineschool.org/event/diocesan-in-service
LOCATION:Bisoph Kelley\, 3905 S Hudson Ave\, Tulsa\, 74135\, United States
CATEGORIES:Saint Catherine School
ORGANIZER;CN="Michelle Anthamatten":MAILTO:manthamatten@saint-catherine.org
GEO:36.1065774;-95.9132567
X-APPLE-STRUCTURED-LOCATION;VALUE=URI;X-ADDRESS=Bisoph Kelley 3905 S Hudson Ave Tulsa 74135 United States;X-APPLE-RADIUS=500;X-TITLE=3905 S Hudson Ave:geo:-95.9132567,36.1065774
END:VEVENT
BEGIN:VEVENT
DTSTART;TZID=America/Chicago:20180830T093000
DTEND;TZID=America/Chicago:20180830T120000
DTSTAMP:20260423T140908
CREATED:20180816T212155Z
LAST-MODIFIED:20180816T212255Z
UID:10007947-1535621400-1535630400@www.saintcatherineschool.org
SUMMARY:8th visit to Bishop Kelley
DESCRIPTION:The 8th grade class will be going to Bishop Kelley to tour their school.
URL:https://www.saintcatherineschool.org/event/8th-visit-to-bishop-kelley
LOCATION:Bisoph Kelley\, 3905 S Hudson Ave\, Tulsa\, 74135\, United States
CATEGORIES:Church of Saint Catherine,Saint Catherine School
ORGANIZER;CN="Michelle Anthamatten":MAILTO:manthamatten@saint-catherine.org
GEO:36.1065774;-95.9132567
X-APPLE-STRUCTURED-LOCATION;VALUE=URI;X-ADDRESS=Bisoph Kelley 3905 S Hudson Ave Tulsa 74135 United States;X-APPLE-RADIUS=500;X-TITLE=3905 S Hudson Ave:geo:-95.9132567,36.1065774
END:VEVENT
BEGIN:VEVENT
DTSTART;VALUE=DATE:20180427
DTEND;VALUE=DATE:20180428
DTSTAMP:20260423T140908
CREATED:20180328T213009Z
LAST-MODIFIED:20180328T213009Z
UID:10007044-1524787200-1524873599@www.saintcatherineschool.org
SUMMARY:Track Meet at Bishop Kelley
DESCRIPTION:The Diocesan Track Meet is at Bishop Kelley.
URL:https://www.saintcatherineschool.org/event/track-meet-at-bishop-kelley
LOCATION:Bisoph Kelley\, 3905 S Hudson Ave\, Tulsa\, 74135\, United States
CATEGORIES:Saint Catherine School
GEO:36.1065774;-95.9132567
X-APPLE-STRUCTURED-LOCATION;VALUE=URI;X-ADDRESS=Bisoph Kelley 3905 S Hudson Ave Tulsa 74135 United States;X-APPLE-RADIUS=500;X-TITLE=3905 S Hudson Ave:geo:-95.9132567,36.1065774
END:VEVENT
END:VCALENDAR