BEGIN:VCALENDAR
VERSION:2.0
PRODID:-//Saint Catherine of Alexandria School - ECPv6.15.20//NONSGML v1.0//EN
CALSCALE:GREGORIAN
METHOD:PUBLISH
X-WR-CALNAME:Saint Catherine of Alexandria School
X-ORIGINAL-URL:https://www.saintcatherineschool.org
X-WR-CALDESC:Events for Saint Catherine of Alexandria School
REFRESH-INTERVAL;VALUE=DURATION:PT1H
X-Robots-Tag:noindex
X-PUBLISHED-TTL:PT1H
BEGIN:VTIMEZONE
TZID:America/Chicago
BEGIN:DAYLIGHT
TZOFFSETFROM:-0600
TZOFFSETTO:-0500
TZNAME:CDT
DTSTART:20160313T080000
END:DAYLIGHT
BEGIN:STANDARD
TZOFFSETFROM:-0500
TZOFFSETTO:-0600
TZNAME:CST
DTSTART:20161106T070000
END:STANDARD
BEGIN:DAYLIGHT
TZOFFSETFROM:-0600
TZOFFSETTO:-0500
TZNAME:CDT
DTSTART:20170312T080000
END:DAYLIGHT
BEGIN:STANDARD
TZOFFSETFROM:-0500
TZOFFSETTO:-0600
TZNAME:CST
DTSTART:20171105T070000
END:STANDARD
BEGIN:DAYLIGHT
TZOFFSETFROM:-0600
TZOFFSETTO:-0500
TZNAME:CDT
DTSTART:20180311T080000
END:DAYLIGHT
BEGIN:STANDARD
TZOFFSETFROM:-0500
TZOFFSETTO:-0600
TZNAME:CST
DTSTART:20181104T070000
END:STANDARD
BEGIN:DAYLIGHT
TZOFFSETFROM:-0600
TZOFFSETTO:-0500
TZNAME:CDT
DTSTART:20190310T080000
END:DAYLIGHT
BEGIN:STANDARD
TZOFFSETFROM:-0500
TZOFFSETTO:-0600
TZNAME:CST
DTSTART:20191103T070000
END:STANDARD
BEGIN:DAYLIGHT
TZOFFSETFROM:-0600
TZOFFSETTO:-0500
TZNAME:CDT
DTSTART:20200308T080000
END:DAYLIGHT
BEGIN:STANDARD
TZOFFSETFROM:-0500
TZOFFSETTO:-0600
TZNAME:CST
DTSTART:20201101T070000
END:STANDARD
BEGIN:DAYLIGHT
TZOFFSETFROM:-0600
TZOFFSETTO:-0500
TZNAME:CDT
DTSTART:20210314T080000
END:DAYLIGHT
BEGIN:STANDARD
TZOFFSETFROM:-0500
TZOFFSETTO:-0600
TZNAME:CST
DTSTART:20211107T070000
END:STANDARD
BEGIN:DAYLIGHT
TZOFFSETFROM:-0600
TZOFFSETTO:-0500
TZNAME:CDT
DTSTART:20220313T080000
END:DAYLIGHT
BEGIN:STANDARD
TZOFFSETFROM:-0500
TZOFFSETTO:-0600
TZNAME:CST
DTSTART:20221106T070000
END:STANDARD
BEGIN:DAYLIGHT
TZOFFSETFROM:-0600
TZOFFSETTO:-0500
TZNAME:CDT
DTSTART:20230312T080000
END:DAYLIGHT
BEGIN:STANDARD
TZOFFSETFROM:-0500
TZOFFSETTO:-0600
TZNAME:CST
DTSTART:20231105T070000
END:STANDARD
BEGIN:DAYLIGHT
TZOFFSETFROM:-0600
TZOFFSETTO:-0500
TZNAME:CDT
DTSTART:20240310T080000
END:DAYLIGHT
BEGIN:STANDARD
TZOFFSETFROM:-0500
TZOFFSETTO:-0600
TZNAME:CST
DTSTART:20241103T070000
END:STANDARD
BEGIN:DAYLIGHT
TZOFFSETFROM:-0600
TZOFFSETTO:-0500
TZNAME:CDT
DTSTART:20250309T080000
END:DAYLIGHT
BEGIN:STANDARD
TZOFFSETFROM:-0500
TZOFFSETTO:-0600
TZNAME:CST
DTSTART:20251102T070000
END:STANDARD
BEGIN:DAYLIGHT
TZOFFSETFROM:-0600
TZOFFSETTO:-0500
TZNAME:CDT
DTSTART:20260308T080000
END:DAYLIGHT
BEGIN:STANDARD
TZOFFSETFROM:-0500
TZOFFSETTO:-0600
TZNAME:CST
DTSTART:20261101T070000
END:STANDARD
END:VTIMEZONE
BEGIN:VEVENT
DTSTART;TZID=America/Chicago:20251008T090000
DTEND;TZID=America/Chicago:20251008T130000
DTSTAMP:20260423T184316
CREATED:20250825T143807Z
LAST-MODIFIED:20250825T143807Z
UID:10013247-1759914000-1759928400@www.saintcatherineschool.org
SUMMARY:8th Grade Visit to Cascia Hall
DESCRIPTION:
URL:https://www.saintcatherineschool.org/event/8th-grade-visit-to-cascia-hall
LOCATION:Cascia Hall\, 2520 S. Yorktown Ave.\, Tulsa\, OK\, 74114\, United States
CATEGORIES:Church of Saint Catherine,Saint Catherine School
ORGANIZER;CN="Michelle Anthamatten":MAILTO:manthamatten@saint-catherine.org
GEO:36.127873;-95.964799
X-APPLE-STRUCTURED-LOCATION;VALUE=URI;X-ADDRESS=Cascia Hall 2520 S. Yorktown Ave. Tulsa OK 74114 United States;X-APPLE-RADIUS=500;X-TITLE=2520 S. Yorktown Ave.:geo:-95.964799,36.127873
END:VEVENT
BEGIN:VEVENT
DTSTART;TZID=America/Chicago:20250922T190000
DTEND;TZID=America/Chicago:20250922T200000
DTSTAMP:20260423T184316
CREATED:20250822T153212Z
LAST-MODIFIED:20250822T153212Z
UID:10013172-1758567600-1758571200@www.saintcatherineschool.org
SUMMARY:Volleyball Game - Girls Team
DESCRIPTION:
URL:https://www.saintcatherineschool.org/event/volleyball-game-girls-team-5
LOCATION:Cascia Hall\, 2520 S. Yorktown Ave.\, Tulsa\, OK\, 74114\, United States
CATEGORIES:Church of Saint Catherine,Saint Catherine School
ORGANIZER;CN="Aidan Couch":MAILTO:acouch@saint-catherine.org
GEO:36.127873;-95.964799
X-APPLE-STRUCTURED-LOCATION;VALUE=URI;X-ADDRESS=Cascia Hall 2520 S. Yorktown Ave. Tulsa OK 74114 United States;X-APPLE-RADIUS=500;X-TITLE=2520 S. Yorktown Ave.:geo:-95.964799,36.127873
END:VEVENT
BEGIN:VEVENT
DTSTART;TZID=America/Chicago:20230921T200000
DTEND;TZID=America/Chicago:20230921T210000
DTSTAMP:20260423T184316
CREATED:20230829T161322Z
LAST-MODIFIED:20230829T161322Z
UID:10011291-1695326400-1695330000@www.saintcatherineschool.org
SUMMARY:7th Grade Volleyball Game
DESCRIPTION:
URL:https://www.saintcatherineschool.org/event/7th-grade-volleyball-game-8
LOCATION:Cascia Hall\, 2520 S. Yorktown Ave.\, Tulsa\, OK\, 74114\, United States
CATEGORIES:Church of Saint Catherine,Saint Catherine School
ORGANIZER;CN="Caroline O'Connor":MAILTO:coconnor@saint-catherine.org
GEO:36.127873;-95.964799
X-APPLE-STRUCTURED-LOCATION;VALUE=URI;X-ADDRESS=Cascia Hall 2520 S. Yorktown Ave. Tulsa OK 74114 United States;X-APPLE-RADIUS=500;X-TITLE=2520 S. Yorktown Ave.:geo:-95.964799,36.127873
END:VEVENT
BEGIN:VEVENT
DTSTART;TZID=America/Chicago:20230914T090000
DTEND;TZID=America/Chicago:20230914T130000
DTSTAMP:20260423T184316
CREATED:20230829T154543Z
LAST-MODIFIED:20230829T154543Z
UID:10011283-1694682000-1694696400@www.saintcatherineschool.org
SUMMARY:8th Grade Class Visits Cascia Hall
DESCRIPTION:
URL:https://www.saintcatherineschool.org/event/8th-grade-class-visits-cascia-hall
LOCATION:Cascia Hall\, 2520 S. Yorktown Ave.\, Tulsa\, OK\, 74114\, United States
CATEGORIES:Church of Saint Catherine,Saint Catherine School
ORGANIZER;CN="Michelle Anthamatten":MAILTO:manthamatten@saint-catherine.org
GEO:36.127873;-95.964799
X-APPLE-STRUCTURED-LOCATION;VALUE=URI;X-ADDRESS=Cascia Hall 2520 S. Yorktown Ave. Tulsa OK 74114 United States;X-APPLE-RADIUS=500;X-TITLE=2520 S. Yorktown Ave.:geo:-95.964799,36.127873
END:VEVENT
BEGIN:VEVENT
DTSTART;TZID=America/Chicago:20221008T090000
DTEND;TZID=America/Chicago:20221008T100000
DTSTAMP:20260423T184316
CREATED:20221004T181659Z
LAST-MODIFIED:20221004T181659Z
UID:10009247-1665219600-1665223200@www.saintcatherineschool.org
SUMMARY:6th Grade Volleyball Game
DESCRIPTION:
URL:https://www.saintcatherineschool.org/event/6th-grade-volleyball-game-7
LOCATION:Cascia Hall\, 2520 S. Yorktown Ave.\, Tulsa\, OK\, 74114\, United States
CATEGORIES:Church of Saint Catherine,Saint Catherine School
ORGANIZER;CN="Kayley Anthamatten":MAILTO:kayleya@saint-catherine.org
GEO:36.127873;-95.964799
X-APPLE-STRUCTURED-LOCATION;VALUE=URI;X-ADDRESS=Cascia Hall 2520 S. Yorktown Ave. Tulsa OK 74114 United States;X-APPLE-RADIUS=500;X-TITLE=2520 S. Yorktown Ave.:geo:-95.964799,36.127873
END:VEVENT
BEGIN:VEVENT
DTSTART;TZID=America/Chicago:20220423T090000
DTEND;TZID=America/Chicago:20220423T103000
DTSTAMP:20260423T184316
CREATED:20220331T195454Z
LAST-MODIFIED:20220331T195454Z
UID:10009093-1650704400-1650709800@www.saintcatherineschool.org
SUMMARY:Track Practice @ Cascia Hall
DESCRIPTION:
URL:https://www.saintcatherineschool.org/event/track-practice-cascia-hall-2
LOCATION:Cascia Hall\, 2520 S. Yorktown Ave.\, Tulsa\, OK\, 74114\, United States
CATEGORIES:Church of Saint Catherine,Saint Catherine School
ORGANIZER;CN="Sam Naab":MAILTO:snaab@saint-catherine.org
GEO:36.127873;-95.964799
X-APPLE-STRUCTURED-LOCATION;VALUE=URI;X-ADDRESS=Cascia Hall 2520 S. Yorktown Ave. Tulsa OK 74114 United States;X-APPLE-RADIUS=500;X-TITLE=2520 S. Yorktown Ave.:geo:-95.964799,36.127873
END:VEVENT
BEGIN:VEVENT
DTSTART;TZID=America/Chicago:20220409T090000
DTEND;TZID=America/Chicago:20220409T103000
DTSTAMP:20260423T184316
CREATED:20220331T195143Z
LAST-MODIFIED:20220331T195143Z
UID:10007813-1649494800-1649500200@www.saintcatherineschool.org
SUMMARY:Track Practice @ Cascia Hall
DESCRIPTION:
URL:https://www.saintcatherineschool.org/event/track-practice-cascia-hall
LOCATION:Cascia Hall\, 2520 S. Yorktown Ave.\, Tulsa\, OK\, 74114\, United States
CATEGORIES:Church of Saint Catherine,Saint Catherine School
ORGANIZER;CN="Sam Naab":MAILTO:snaab@saint-catherine.org
GEO:36.127873;-95.964799
X-APPLE-STRUCTURED-LOCATION;VALUE=URI;X-ADDRESS=Cascia Hall 2520 S. Yorktown Ave. Tulsa OK 74114 United States;X-APPLE-RADIUS=500;X-TITLE=2520 S. Yorktown Ave.:geo:-95.964799,36.127873
END:VEVENT
BEGIN:VEVENT
DTSTART;TZID=America/Chicago:20220402T090000
DTEND;TZID=America/Chicago:20220402T150000
DTSTAMP:20260423T184316
CREATED:20220331T194939Z
LAST-MODIFIED:20220331T194939Z
UID:10007809-1648890000-1648911600@www.saintcatherineschool.org
SUMMARY:Track Meet @ Cascia Hall
DESCRIPTION:
URL:https://www.saintcatherineschool.org/event/track-meet-cascia-hall
LOCATION:Cascia Hall\, 2520 S. Yorktown Ave.\, Tulsa\, OK\, 74114\, United States
CATEGORIES:Church of Saint Catherine,Saint Catherine School
ORGANIZER;CN="Sam Naab":MAILTO:snaab@saint-catherine.org
GEO:36.127873;-95.964799
X-APPLE-STRUCTURED-LOCATION;VALUE=URI;X-ADDRESS=Cascia Hall 2520 S. Yorktown Ave. Tulsa OK 74114 United States;X-APPLE-RADIUS=500;X-TITLE=2520 S. Yorktown Ave.:geo:-95.964799,36.127873
END:VEVENT
BEGIN:VEVENT
DTSTART;TZID=America/Chicago:20201024T150000
DTEND;TZID=America/Chicago:20201024T160000
DTSTAMP:20260423T184316
CREATED:20201001T003659Z
LAST-MODIFIED:20201001T003659Z
UID:10008572-1603551600-1603555200@www.saintcatherineschool.org
SUMMARY:Volleyball Game
DESCRIPTION:The Middle School Volleyball Team will have a game at Cascia Hall at 3pm.
URL:https://www.saintcatherineschool.org/event/volleyball-game-22
LOCATION:Cascia Hall\, 2520 S. Yorktown Ave.\, Tulsa\, OK\, 74114\, United States
CATEGORIES:Saint Catherine School
ORGANIZER;CN="Kayley Anthamatten":MAILTO:kayleya@saint-catherine.org
GEO:36.127873;-95.964799
X-APPLE-STRUCTURED-LOCATION;VALUE=URI;X-ADDRESS=Cascia Hall 2520 S. Yorktown Ave. Tulsa OK 74114 United States;X-APPLE-RADIUS=500;X-TITLE=2520 S. Yorktown Ave.:geo:-95.964799,36.127873
END:VEVENT
BEGIN:VEVENT
DTSTART;TZID=America/Chicago:20201024T150000
DTEND;TZID=America/Chicago:20201024T160000
DTSTAMP:20260423T184316
CREATED:20200915T194304Z
LAST-MODIFIED:20200915T194304Z
UID:10008545-1603551600-1603555200@www.saintcatherineschool.org
SUMMARY:Volleyball Game
DESCRIPTION:The middle school volleyball team will have a game at Cascia Hall against Marquette White.
URL:https://www.saintcatherineschool.org/event/volleyball-game-16
LOCATION:Cascia Hall\, 2520 S. Yorktown Ave.\, Tulsa\, OK\, 74114\, United States
CATEGORIES:Church of Saint Catherine
ORGANIZER;CN="Kayley Anthamatten":MAILTO:kayleya@saint-catherine.org
GEO:36.127873;-95.964799
X-APPLE-STRUCTURED-LOCATION;VALUE=URI;X-ADDRESS=Cascia Hall 2520 S. Yorktown Ave. Tulsa OK 74114 United States;X-APPLE-RADIUS=500;X-TITLE=2520 S. Yorktown Ave.:geo:-95.964799,36.127873
END:VEVENT
BEGIN:VEVENT
DTSTART;TZID=America/Chicago:20190925T090000
DTEND;TZID=America/Chicago:20190925T130000
DTSTAMP:20260423T184316
CREATED:20190827T144932Z
LAST-MODIFIED:20190827T144932Z
UID:10008252-1569402000-1569416400@www.saintcatherineschool.org
SUMMARY:8th Grade to Cascia Hall
DESCRIPTION:The 8th grade class will be touring Cascia Hall today.
URL:https://www.saintcatherineschool.org/event/8th-grade-to-cascia-hall-2
LOCATION:Cascia Hall\, 2520 S. Yorktown Ave.\, Tulsa\, OK\, 74114\, United States
CATEGORIES:Saint Catherine School
ORGANIZER;CN="Michelle Anthamatten":MAILTO:manthamatten@saint-catherine.org
GEO:36.127873;-95.964799
X-APPLE-STRUCTURED-LOCATION;VALUE=URI;X-ADDRESS=Cascia Hall 2520 S. Yorktown Ave. Tulsa OK 74114 United States;X-APPLE-RADIUS=500;X-TITLE=2520 S. Yorktown Ave.:geo:-95.964799,36.127873
END:VEVENT
BEGIN:VEVENT
DTSTART;TZID=America/Chicago:20181013T090000
DTEND;TZID=America/Chicago:20181013T120000
DTSTAMP:20260423T184316
CREATED:20181002T181843Z
LAST-MODIFIED:20181002T182051Z
UID:10005309-1539421200-1539432000@www.saintcatherineschool.org
SUMMARY:Cascia Hall Entrance Exam
DESCRIPTION:Cascia Hall will be having their entrance exam for those students interested in attending Cascia Hall.  Here is the link: \nHere the link to sign up.  https://www.casciahall.com/page/admissions/discover-cascia-hall \n 
URL:https://www.saintcatherineschool.org/event/cascia-hall-entrance-exam
LOCATION:Cascia Hall\, 2520 S. Yorktown Ave.\, Tulsa\, OK\, 74114\, United States
CATEGORIES:Church of Saint Catherine,Saint Catherine School
ORGANIZER;CN="Michelle Anthamatten":MAILTO:manthamatten@saint-catherine.org
GEO:36.127873;-95.964799
X-APPLE-STRUCTURED-LOCATION;VALUE=URI;X-ADDRESS=Cascia Hall 2520 S. Yorktown Ave. Tulsa OK 74114 United States;X-APPLE-RADIUS=500;X-TITLE=2520 S. Yorktown Ave.:geo:-95.964799,36.127873
END:VEVENT
BEGIN:VEVENT
DTSTART;TZID=America/Chicago:20180917T080000
DTEND;TZID=America/Chicago:20180917T170000
DTSTAMP:20260423T184316
CREATED:20180816T213945Z
LAST-MODIFIED:20180816T213945Z
UID:10007370-1537171200-1537203600@www.saintcatherineschool.org
SUMMARY:8th grade to Cascia Hall
DESCRIPTION:The 8th grade class will be going to tour Cascia Hall.
URL:https://www.saintcatherineschool.org/event/8th-grade-to-cascia-hall
LOCATION:Cascia Hall\, 2520 S. Yorktown Ave.\, Tulsa\, OK\, 74114\, United States
CATEGORIES:Church of Saint Catherine,Saint Catherine School
ORGANIZER;CN="Michelle Anthamatten":MAILTO:manthamatten@saint-catherine.org
GEO:36.127873;-95.964799
X-APPLE-STRUCTURED-LOCATION;VALUE=URI;X-ADDRESS=Cascia Hall 2520 S. Yorktown Ave. Tulsa OK 74114 United States;X-APPLE-RADIUS=500;X-TITLE=2520 S. Yorktown Ave.:geo:-95.964799,36.127873
END:VEVENT
BEGIN:VEVENT
DTSTART;TZID=America/Chicago:20171028T040000
DTEND;TZID=America/Chicago:20171028T063000
DTSTAMP:20260423T184316
CREATED:20170927T055032Z
LAST-MODIFIED:20170927T055706Z
UID:10005388-1509163200-1509172200@www.saintcatherineschool.org
SUMMARY:Cascia Hall Placement test
DESCRIPTION:8th graders are encouraged to sign up to take the placement test at Cascia Hall.  http://www.casciahall.com \nThere is a $25 registration fee for the exam.
URL:https://www.saintcatherineschool.org/event/cascia-hall-placement-test
LOCATION:Cascia Hall\, 2520 S. Yorktown Ave.\, Tulsa\, OK\, 74114\, United States
CATEGORIES:Saint Catherine School
GEO:36.127873;-95.964799
X-APPLE-STRUCTURED-LOCATION;VALUE=URI;X-ADDRESS=Cascia Hall 2520 S. Yorktown Ave. Tulsa OK 74114 United States;X-APPLE-RADIUS=500;X-TITLE=2520 S. Yorktown Ave.:geo:-95.964799,36.127873
END:VEVENT
BEGIN:VEVENT
DTSTART;TZID=America/Chicago:20170928T130000
DTEND;TZID=America/Chicago:20170928T140000
DTSTAMP:20260423T184316
CREATED:20170927T062052Z
LAST-MODIFIED:20170927T064251Z
UID:10005066-1506603600-1506607200@www.saintcatherineschool.org
SUMMARY:6th Grade Volleyball Game 6pm
DESCRIPTION:The 6th grade has a volleyball game at Cascia Hall at 6pm.
URL:https://www.saintcatherineschool.org/event/6th-grade-volleyball-game
LOCATION:Cascia Hall\, 2520 S. Yorktown Ave.\, Tulsa\, OK\, 74114\, United States
CATEGORIES:Church of Saint Catherine,Saint Catherine School
GEO:36.127873;-95.964799
X-APPLE-STRUCTURED-LOCATION;VALUE=URI;X-ADDRESS=Cascia Hall 2520 S. Yorktown Ave. Tulsa OK 74114 United States;X-APPLE-RADIUS=500;X-TITLE=2520 S. Yorktown Ave.:geo:-95.964799,36.127873
END:VEVENT
END:VCALENDAR