BEGIN:VCALENDAR
VERSION:2.0
PRODID:-//Saint Catherine of Alexandria School - ECPv6.15.20//NONSGML v1.0//EN
CALSCALE:GREGORIAN
METHOD:PUBLISH
X-ORIGINAL-URL:https://www.saintcatherineschool.org
X-WR-CALDESC:Events for Saint Catherine of Alexandria School
REFRESH-INTERVAL;VALUE=DURATION:PT1H
X-Robots-Tag:noindex
X-PUBLISHED-TTL:PT1H
BEGIN:VTIMEZONE
TZID:America/Chicago
BEGIN:DAYLIGHT
TZOFFSETFROM:-0600
TZOFFSETTO:-0500
TZNAME:CDT
DTSTART:20190310T080000
END:DAYLIGHT
BEGIN:STANDARD
TZOFFSETFROM:-0500
TZOFFSETTO:-0600
TZNAME:CST
DTSTART:20191103T070000
END:STANDARD
BEGIN:DAYLIGHT
TZOFFSETFROM:-0600
TZOFFSETTO:-0500
TZNAME:CDT
DTSTART:20200308T080000
END:DAYLIGHT
BEGIN:STANDARD
TZOFFSETFROM:-0500
TZOFFSETTO:-0600
TZNAME:CST
DTSTART:20201101T070000
END:STANDARD
BEGIN:DAYLIGHT
TZOFFSETFROM:-0600
TZOFFSETTO:-0500
TZNAME:CDT
DTSTART:20210314T080000
END:DAYLIGHT
BEGIN:STANDARD
TZOFFSETFROM:-0500
TZOFFSETTO:-0600
TZNAME:CST
DTSTART:20211107T070000
END:STANDARD
END:VTIMEZONE
BEGIN:VEVENT
DTSTART;TZID=America/Chicago:20200224T170000
DTEND;TZID=America/Chicago:20200224T200000
DTSTAMP:20260424T062611
CREATED:20200203T164046Z
LAST-MODIFIED:20200203T164046Z
UID:10008494-1582563600-1582574400@www.saintcatherineschool.org
SUMMARY:Chick-Fil-A Night
DESCRIPTION:The 8th grade class will be having a fundraiser to raise money for their class trip.  Please go to the Chick-fil-A in Tulsa Hills between 5-8 and buy dinner.  All you have to do is give your receipt to the 8th grade representatives that will be present at the restaurant.  You can go through the drive through\, but don’t forget to give back your receipt for credit.
URL:https://www.saintcatherineschool.org/event/chick-fil-a-night
LOCATION:Chick-fil-A\, 7129 S. Olympia Ave. W.\, Tulsa\, OK\, 74132\, United States
CATEGORIES:Saint Catherine School
GEO:36.0597861;-96.004116
X-APPLE-STRUCTURED-LOCATION;VALUE=URI;X-ADDRESS=Chick-fil-A 7129 S. Olympia Ave. W. Tulsa OK 74132 United States;X-APPLE-RADIUS=500;X-TITLE=7129 S. Olympia Ave. W.:geo:-96.004116,36.0597861
END:VEVENT
END:VCALENDAR