BEGIN:VCALENDAR
VERSION:2.0
PRODID:-//Saint Catherine of Alexandria School - ECPv6.15.20//NONSGML v1.0//EN
CALSCALE:GREGORIAN
METHOD:PUBLISH
X-ORIGINAL-URL:https://www.saintcatherineschool.org
X-WR-CALDESC:Events for Saint Catherine of Alexandria School
REFRESH-INTERVAL;VALUE=DURATION:PT1H
X-Robots-Tag:noindex
X-PUBLISHED-TTL:PT1H
BEGIN:VTIMEZONE
TZID:America/Chicago
BEGIN:DAYLIGHT
TZOFFSETFROM:-0600
TZOFFSETTO:-0500
TZNAME:CDT
DTSTART:20180311T080000
END:DAYLIGHT
BEGIN:STANDARD
TZOFFSETFROM:-0500
TZOFFSETTO:-0600
TZNAME:CST
DTSTART:20181104T070000
END:STANDARD
BEGIN:DAYLIGHT
TZOFFSETFROM:-0600
TZOFFSETTO:-0500
TZNAME:CDT
DTSTART:20190310T080000
END:DAYLIGHT
BEGIN:STANDARD
TZOFFSETFROM:-0500
TZOFFSETTO:-0600
TZNAME:CST
DTSTART:20191103T070000
END:STANDARD
BEGIN:DAYLIGHT
TZOFFSETFROM:-0600
TZOFFSETTO:-0500
TZNAME:CDT
DTSTART:20200308T080000
END:DAYLIGHT
BEGIN:STANDARD
TZOFFSETFROM:-0500
TZOFFSETTO:-0600
TZNAME:CST
DTSTART:20201101T070000
END:STANDARD
END:VTIMEZONE
BEGIN:VEVENT
DTSTART;TZID=America/Chicago:20191025T090000
DTEND;TZID=America/Chicago:20191025T140000
DTSTAMP:20260424T062610
CREATED:20190925T165201Z
LAST-MODIFIED:20190925T165201Z
UID:10007096-1571994000-1572012000@www.saintcatherineschool.org
SUMMARY:Vocations Day
DESCRIPTION:The 5th grade class will go to Christ the King for Vocations Day.
URL:https://www.saintcatherineschool.org/event/vocations-day
LOCATION:Christ the King\, 1520 S Rockford Ave\, Tulsa\, OK\, 74120\, United States
CATEGORIES:Saint Catherine School
ORGANIZER;CN="Michelle Anthamatten":MAILTO:manthamatten@saint-catherine.org
GEO:36.1399433;-95.9724612
X-APPLE-STRUCTURED-LOCATION;VALUE=URI;X-ADDRESS=Christ the King 1520 S Rockford Ave Tulsa OK 74120 United States;X-APPLE-RADIUS=500;X-TITLE=1520 S Rockford Ave:geo:-95.9724612,36.1399433
END:VEVENT
END:VCALENDAR