BEGIN:VCALENDAR
VERSION:2.0
PRODID:-//Saint Catherine of Alexandria School - ECPv6.15.20//NONSGML v1.0//EN
CALSCALE:GREGORIAN
METHOD:PUBLISH
X-ORIGINAL-URL:https://www.saintcatherineschool.org
X-WR-CALDESC:Events for Saint Catherine of Alexandria School
REFRESH-INTERVAL;VALUE=DURATION:PT1H
X-Robots-Tag:noindex
X-PUBLISHED-TTL:PT1H
BEGIN:VTIMEZONE
TZID:America/Chicago
BEGIN:DAYLIGHT
TZOFFSETFROM:-0600
TZOFFSETTO:-0500
TZNAME:CDT
DTSTART:20180311T080000
END:DAYLIGHT
BEGIN:STANDARD
TZOFFSETFROM:-0500
TZOFFSETTO:-0600
TZNAME:CST
DTSTART:20181104T070000
END:STANDARD
BEGIN:DAYLIGHT
TZOFFSETFROM:-0600
TZOFFSETTO:-0500
TZNAME:CDT
DTSTART:20190310T080000
END:DAYLIGHT
BEGIN:STANDARD
TZOFFSETFROM:-0500
TZOFFSETTO:-0600
TZNAME:CST
DTSTART:20191103T070000
END:STANDARD
BEGIN:DAYLIGHT
TZOFFSETFROM:-0600
TZOFFSETTO:-0500
TZNAME:CDT
DTSTART:20200308T080000
END:DAYLIGHT
BEGIN:STANDARD
TZOFFSETFROM:-0500
TZOFFSETTO:-0600
TZNAME:CST
DTSTART:20201101T070000
END:STANDARD
END:VTIMEZONE
BEGIN:VEVENT
DTSTART;TZID=America/Chicago:20191015T090000
DTEND;TZID=America/Chicago:20191015T113000
DTSTAMP:20260424T053133
CREATED:20190924T201854Z
LAST-MODIFIED:20190924T201854Z
UID:10008269-1571130000-1571139000@www.saintcatherineschool.org
SUMMARY:40 Days for Life
DESCRIPTION:The 5th-8th graders will go to the Garden of Hope to pray from 9-11:30.  St. Catherine’s and St. Jospeh’s day to pray at the Garden of Hope for the 40 Days for Life Prayer Vigil is Tuesday\, October 15th.  Below if the link to sign up. \n40 Days for Life
URL:https://www.saintcatherineschool.org/event/40-days-for-life-2
LOCATION:Garden of Hope\, 6135 E 32nd Pl\, Tulsa\, OK\, 74135\, United States
CATEGORIES:Church of Saint Catherine,Saint Catherine School
ORGANIZER;CN="Fr. John Grant":MAILTO:fr.joh.grant@saint-catherine.org
GEO:36.116783;-95.90687
X-APPLE-STRUCTURED-LOCATION;VALUE=URI;X-ADDRESS=Garden of Hope 6135 E 32nd Pl Tulsa OK 74135 United States;X-APPLE-RADIUS=500;X-TITLE=6135 E 32nd Pl:geo:-95.90687,36.116783
END:VEVENT
END:VCALENDAR