BEGIN:VCALENDAR
VERSION:2.0
PRODID:-//Saint Catherine of Alexandria School - ECPv6.15.20//NONSGML v1.0//EN
CALSCALE:GREGORIAN
METHOD:PUBLISH
X-ORIGINAL-URL:https://www.saintcatherineschool.org
X-WR-CALDESC:Events for Saint Catherine of Alexandria School
REFRESH-INTERVAL;VALUE=DURATION:PT1H
X-Robots-Tag:noindex
X-PUBLISHED-TTL:PT1H
BEGIN:VTIMEZONE
TZID:America/Chicago
BEGIN:DAYLIGHT
TZOFFSETFROM:-0600
TZOFFSETTO:-0500
TZNAME:CDT
DTSTART:20190310T080000
END:DAYLIGHT
BEGIN:STANDARD
TZOFFSETFROM:-0500
TZOFFSETTO:-0600
TZNAME:CST
DTSTART:20191103T070000
END:STANDARD
BEGIN:DAYLIGHT
TZOFFSETFROM:-0600
TZOFFSETTO:-0500
TZNAME:CDT
DTSTART:20200308T080000
END:DAYLIGHT
BEGIN:STANDARD
TZOFFSETFROM:-0500
TZOFFSETTO:-0600
TZNAME:CST
DTSTART:20201101T070000
END:STANDARD
BEGIN:DAYLIGHT
TZOFFSETFROM:-0600
TZOFFSETTO:-0500
TZNAME:CDT
DTSTART:20210314T080000
END:DAYLIGHT
BEGIN:STANDARD
TZOFFSETFROM:-0500
TZOFFSETTO:-0600
TZNAME:CST
DTSTART:20211107T070000
END:STANDARD
BEGIN:DAYLIGHT
TZOFFSETFROM:-0600
TZOFFSETTO:-0500
TZNAME:CDT
DTSTART:20220313T080000
END:DAYLIGHT
BEGIN:STANDARD
TZOFFSETFROM:-0500
TZOFFSETTO:-0600
TZNAME:CST
DTSTART:20221106T070000
END:STANDARD
BEGIN:DAYLIGHT
TZOFFSETFROM:-0600
TZOFFSETTO:-0500
TZNAME:CDT
DTSTART:20230312T080000
END:DAYLIGHT
BEGIN:STANDARD
TZOFFSETFROM:-0500
TZOFFSETTO:-0600
TZNAME:CST
DTSTART:20231105T070000
END:STANDARD
BEGIN:DAYLIGHT
TZOFFSETFROM:-0600
TZOFFSETTO:-0500
TZNAME:CDT
DTSTART:20240310T080000
END:DAYLIGHT
BEGIN:STANDARD
TZOFFSETFROM:-0500
TZOFFSETTO:-0600
TZNAME:CST
DTSTART:20241103T070000
END:STANDARD
BEGIN:DAYLIGHT
TZOFFSETFROM:-0600
TZOFFSETTO:-0500
TZNAME:CDT
DTSTART:20250309T080000
END:DAYLIGHT
BEGIN:STANDARD
TZOFFSETFROM:-0500
TZOFFSETTO:-0600
TZNAME:CST
DTSTART:20251102T070000
END:STANDARD
BEGIN:DAYLIGHT
TZOFFSETFROM:-0600
TZOFFSETTO:-0500
TZNAME:CDT
DTSTART:20260308T080000
END:DAYLIGHT
BEGIN:STANDARD
TZOFFSETFROM:-0500
TZOFFSETTO:-0600
TZNAME:CST
DTSTART:20261101T070000
END:STANDARD
END:VTIMEZONE
BEGIN:VEVENT
DTSTART;TZID=America/Chicago:20251003T180000
DTEND;TZID=America/Chicago:20251003T200000
DTSTAMP:20260423T202833
CREATED:20250825T142444Z
LAST-MODIFIED:20250825T143121Z
UID:10013240-1759514400-1759521600@www.saintcatherineschool.org
SUMMARY:St. Francis of Assisi Mass
DESCRIPTION:
URL:https://www.saintcatherineschool.org/event/st-francis-of-assisi-mass-2
LOCATION:Holy Family Cathedral\, 820 S Boulder Ave\, Tulsa\, OK\, 74119\, United States
CATEGORIES:Church of Saint Catherine,Saint Catherine School
ORGANIZER;CN="Michelle Anthamatten":MAILTO:manthamatten@saint-catherine.org
GEO:36.1479738;-95.990032
X-APPLE-STRUCTURED-LOCATION;VALUE=URI;X-ADDRESS=Holy Family Cathedral 820 S Boulder Ave Tulsa OK 74119 United States;X-APPLE-RADIUS=500;X-TITLE=820 S Boulder Ave:geo:-95.990032,36.1479738
END:VEVENT
BEGIN:VEVENT
DTSTART;TZID=America/Chicago:20241004T173000
DTEND;TZID=America/Chicago:20241004T190000
DTSTAMP:20260423T202833
CREATED:20240701T011223Z
LAST-MODIFIED:20240701T011223Z
UID:10011602-1728063000-1728068400@www.saintcatherineschool.org
SUMMARY:St. Francis of Assisi Teacher Award Mass
DESCRIPTION:
URL:https://www.saintcatherineschool.org/event/st-francis-of-assisi-teacher-award-mass
LOCATION:Holy Family Cathedral\, 820 S Boulder Ave\, Tulsa\, OK\, 74119\, United States
CATEGORIES:Church of Saint Catherine,Saint Catherine School
ORGANIZER;CN="Michelle Anthamatten":MAILTO:manthamatten@saint-catherine.org
GEO:36.1479738;-95.990032
X-APPLE-STRUCTURED-LOCATION;VALUE=URI;X-ADDRESS=Holy Family Cathedral 820 S Boulder Ave Tulsa OK 74119 United States;X-APPLE-RADIUS=500;X-TITLE=820 S Boulder Ave:geo:-95.990032,36.1479738
END:VEVENT
BEGIN:VEVENT
DTSTART;TZID=America/Chicago:20231004T180000
DTEND;TZID=America/Chicago:20231004T193000
DTSTAMP:20260423T202833
CREATED:20230928T175551Z
LAST-MODIFIED:20230928T175551Z
UID:10011327-1696442400-1696447800@www.saintcatherineschool.org
SUMMARY:Saint Francis of Assisi Trust Mass
DESCRIPTION:
URL:https://www.saintcatherineschool.org/event/saint-francis-of-assisi-trust-mass
LOCATION:Holy Family Cathedral\, 820 S Boulder Ave\, Tulsa\, OK\, 74119\, United States
CATEGORIES:Church of Saint Catherine,Saint Catherine School
ORGANIZER;CN="Michelle Anthamatten":MAILTO:manthamatten@saint-catherine.org
GEO:36.1479738;-95.990032
X-APPLE-STRUCTURED-LOCATION;VALUE=URI;X-ADDRESS=Holy Family Cathedral 820 S Boulder Ave Tulsa OK 74119 United States;X-APPLE-RADIUS=500;X-TITLE=820 S Boulder Ave:geo:-95.990032,36.1479738
END:VEVENT
BEGIN:VEVENT
DTSTART;TZID=America/Chicago:20220412T173000
DTEND;TZID=America/Chicago:20220412T190000
DTSTAMP:20260423T202833
CREATED:20220331T192728Z
LAST-MODIFIED:20220331T192728Z
UID:10009086-1649784600-1649790000@www.saintcatherineschool.org
SUMMARY:Chrism Mass
DESCRIPTION:The Chrism Mass will be held at Holy Family Cathedral at 5:30.
URL:https://www.saintcatherineschool.org/event/chrism-mass
LOCATION:Holy Family Cathedral\, 820 S Boulder Ave\, Tulsa\, OK\, 74119\, United States
CATEGORIES:Church of Saint Catherine,Saint Catherine School
ORGANIZER;CN="Fr. John Grant":MAILTO:fr.joh.grant@saint-catherine.org
GEO:36.1479738;-95.990032
X-APPLE-STRUCTURED-LOCATION;VALUE=URI;X-ADDRESS=Holy Family Cathedral 820 S Boulder Ave Tulsa OK 74119 United States;X-APPLE-RADIUS=500;X-TITLE=820 S Boulder Ave:geo:-95.990032,36.1479738
END:VEVENT
BEGIN:VEVENT
DTSTART;TZID=America/Chicago:20211004T180000
DTEND;TZID=America/Chicago:20211004T193000
DTSTAMP:20260423T202833
CREATED:20211001T161958Z
LAST-MODIFIED:20211001T161958Z
UID:10008957-1633370400-1633375800@www.saintcatherineschool.org
SUMMARY:Saint Francis of Assisi Mass
DESCRIPTION:The Saint Francis of Assisi Mass will be celebrated at Holy Family at 6pm.  Mrs. Victor will be honored there as the Saint Catherine Teacher of the Year.
URL:https://www.saintcatherineschool.org/event/saint-francis-of-assisi-mass
LOCATION:Holy Family Cathedral\, 820 S Boulder Ave\, Tulsa\, OK\, 74119\, United States
CATEGORIES:Church of Saint Catherine,Saint Catherine School
ORGANIZER;CN="Michelle Anthamatten":MAILTO:manthamatten@saint-catherine.org
GEO:36.1479738;-95.990032
X-APPLE-STRUCTURED-LOCATION;VALUE=URI;X-ADDRESS=Holy Family Cathedral 820 S Boulder Ave Tulsa OK 74119 United States;X-APPLE-RADIUS=500;X-TITLE=820 S Boulder Ave:geo:-95.990032,36.1479738
END:VEVENT
BEGIN:VEVENT
DTSTART;TZID=America/Chicago:20201004T170000
DTEND;TZID=America/Chicago:20201004T180000
DTSTAMP:20260423T202834
CREATED:20201001T002602Z
LAST-MODIFIED:20201001T002602Z
UID:10008608-1601830800-1601834400@www.saintcatherineschool.org
SUMMARY:St. Francis of Assisi Mass
DESCRIPTION:The St. Francis of Assisi Tuition Assistance Mass will be celebrated at Holy Family Cathedral at 5pm. Charlie Reid will be celebrated as teacher of the year for Saint Catherine.
URL:https://www.saintcatherineschool.org/event/st-francis-of-assisi-mass
LOCATION:Holy Family Cathedral\, 820 S Boulder Ave\, Tulsa\, OK\, 74119\, United States
CATEGORIES:Church of Saint Catherine,Saint Catherine School
ORGANIZER;CN="Michelle Anthamatten":MAILTO:manthamatten@saint-catherine.org
GEO:36.1479738;-95.990032
X-APPLE-STRUCTURED-LOCATION;VALUE=URI;X-ADDRESS=Holy Family Cathedral 820 S Boulder Ave Tulsa OK 74119 United States;X-APPLE-RADIUS=500;X-TITLE=820 S Boulder Ave:geo:-95.990032,36.1479738
END:VEVENT
END:VCALENDAR