BEGIN:VCALENDAR
VERSION:2.0
PRODID:-//Saint Catherine of Alexandria School - ECPv6.15.20//NONSGML v1.0//EN
CALSCALE:GREGORIAN
METHOD:PUBLISH
X-ORIGINAL-URL:https://www.saintcatherineschool.org
X-WR-CALDESC:Events for Saint Catherine of Alexandria School
REFRESH-INTERVAL;VALUE=DURATION:PT1H
X-Robots-Tag:noindex
X-PUBLISHED-TTL:PT1H
BEGIN:VTIMEZONE
TZID:America/Chicago
BEGIN:DAYLIGHT
TZOFFSETFROM:-0600
TZOFFSETTO:-0500
TZNAME:CDT
DTSTART:20180311T080000
END:DAYLIGHT
BEGIN:STANDARD
TZOFFSETFROM:-0500
TZOFFSETTO:-0600
TZNAME:CST
DTSTART:20181104T070000
END:STANDARD
BEGIN:DAYLIGHT
TZOFFSETFROM:-0600
TZOFFSETTO:-0500
TZNAME:CDT
DTSTART:20190310T080000
END:DAYLIGHT
BEGIN:STANDARD
TZOFFSETFROM:-0500
TZOFFSETTO:-0600
TZNAME:CST
DTSTART:20191103T070000
END:STANDARD
BEGIN:DAYLIGHT
TZOFFSETFROM:-0600
TZOFFSETTO:-0500
TZNAME:CDT
DTSTART:20200308T080000
END:DAYLIGHT
BEGIN:STANDARD
TZOFFSETFROM:-0500
TZOFFSETTO:-0600
TZNAME:CST
DTSTART:20201101T070000
END:STANDARD
END:VTIMEZONE
BEGIN:VEVENT
DTSTART;TZID=America/Chicago:20190920T100000
DTEND;TZID=America/Chicago:20190920T130000
DTSTAMP:20260424T133354
CREATED:20190910T185505Z
LAST-MODIFIED:20190910T185505Z
UID:10008238-1568973600-1568984400@www.saintcatherineschool.org
SUMMARY:Greek Festival
DESCRIPTION:The 7th grade will be going to the Greek Festival.  The cost is $8.00\, and they are to wear their school uniform.
URL:https://www.saintcatherineschool.org/event/greek-festival
LOCATION:Holy Trinity Greek Orthodox Church\, 1222 S. Guthrie Ave.\, Tulsa\, OK\, 74119\, United States
CATEGORIES:Saint Catherine School
ORGANIZER;CN="Jim Pense":MAILTO:jpense@saint-catherine.org
GEO:36.1438499;-95.9962936
X-APPLE-STRUCTURED-LOCATION;VALUE=URI;X-ADDRESS=Holy Trinity Greek Orthodox Church 1222 S. Guthrie Ave. Tulsa OK 74119 United States;X-APPLE-RADIUS=500;X-TITLE=1222 S. Guthrie Ave.:geo:-95.9962936,36.1438499
END:VEVENT
END:VCALENDAR