BEGIN:VCALENDAR
VERSION:2.0
PRODID:-//Saint Catherine of Alexandria School - ECPv6.15.20//NONSGML v1.0//EN
CALSCALE:GREGORIAN
METHOD:PUBLISH
X-WR-CALNAME:Saint Catherine of Alexandria School
X-ORIGINAL-URL:https://www.saintcatherineschool.org
X-WR-CALDESC:Events for Saint Catherine of Alexandria School
REFRESH-INTERVAL;VALUE=DURATION:PT1H
X-Robots-Tag:noindex
X-PUBLISHED-TTL:PT1H
BEGIN:VTIMEZONE
TZID:America/Chicago
BEGIN:DAYLIGHT
TZOFFSETFROM:-0600
TZOFFSETTO:-0500
TZNAME:CDT
DTSTART:20230312T080000
END:DAYLIGHT
BEGIN:STANDARD
TZOFFSETFROM:-0500
TZOFFSETTO:-0600
TZNAME:CST
DTSTART:20231105T070000
END:STANDARD
BEGIN:DAYLIGHT
TZOFFSETFROM:-0600
TZOFFSETTO:-0500
TZNAME:CDT
DTSTART:20240310T080000
END:DAYLIGHT
BEGIN:STANDARD
TZOFFSETFROM:-0500
TZOFFSETTO:-0600
TZNAME:CST
DTSTART:20241103T070000
END:STANDARD
BEGIN:DAYLIGHT
TZOFFSETFROM:-0600
TZOFFSETTO:-0500
TZNAME:CDT
DTSTART:20250309T080000
END:DAYLIGHT
BEGIN:STANDARD
TZOFFSETFROM:-0500
TZOFFSETTO:-0600
TZNAME:CST
DTSTART:20251102T070000
END:STANDARD
END:VTIMEZONE
BEGIN:VEVENT
DTSTART;TZID=America/Chicago:20240222T123000
DTEND;TZID=America/Chicago:20240222T150000
DTSTAMP:20260424T192817
CREATED:20240212T203610Z
LAST-MODIFIED:20240212T203610Z
UID:10011441-1708605000-1708614000@www.saintcatherineschool.org
SUMMARY:2nd Grade Field Trip
DESCRIPTION:
URL:https://www.saintcatherineschool.org/event/2nd-grade-field-trip
LOCATION:Jenk Planterium\, East B Street 205\, Jenks\, Oklahoma\, 74037\, United States
CATEGORIES:Church of Saint Catherine,Saint Catherine School
GEO:36.0270277;-95.9705298
X-APPLE-STRUCTURED-LOCATION;VALUE=URI;X-ADDRESS=Jenk Planterium East B Street 205 Jenks Oklahoma 74037 United States;X-APPLE-RADIUS=500;X-TITLE=East B Street 205:geo:-95.9705298,36.0270277
END:VEVENT
END:VCALENDAR