BEGIN:VCALENDAR
VERSION:2.0
PRODID:-//Saint Catherine of Alexandria School - ECPv6.15.20//NONSGML v1.0//EN
CALSCALE:GREGORIAN
METHOD:PUBLISH
X-ORIGINAL-URL:https://www.saintcatherineschool.org
X-WR-CALDESC:Events for Saint Catherine of Alexandria School
REFRESH-INTERVAL;VALUE=DURATION:PT1H
X-Robots-Tag:noindex
X-PUBLISHED-TTL:PT1H
BEGIN:VTIMEZONE
TZID:America/Chicago
BEGIN:DAYLIGHT
TZOFFSETFROM:-0600
TZOFFSETTO:-0500
TZNAME:CDT
DTSTART:20160313T080000
END:DAYLIGHT
BEGIN:STANDARD
TZOFFSETFROM:-0500
TZOFFSETTO:-0600
TZNAME:CST
DTSTART:20161106T070000
END:STANDARD
BEGIN:DAYLIGHT
TZOFFSETFROM:-0600
TZOFFSETTO:-0500
TZNAME:CDT
DTSTART:20170312T080000
END:DAYLIGHT
BEGIN:STANDARD
TZOFFSETFROM:-0500
TZOFFSETTO:-0600
TZNAME:CST
DTSTART:20171105T070000
END:STANDARD
BEGIN:DAYLIGHT
TZOFFSETFROM:-0600
TZOFFSETTO:-0500
TZNAME:CDT
DTSTART:20180311T080000
END:DAYLIGHT
BEGIN:STANDARD
TZOFFSETFROM:-0500
TZOFFSETTO:-0600
TZNAME:CST
DTSTART:20181104T070000
END:STANDARD
BEGIN:DAYLIGHT
TZOFFSETFROM:-0600
TZOFFSETTO:-0500
TZNAME:CDT
DTSTART:20190310T080000
END:DAYLIGHT
BEGIN:STANDARD
TZOFFSETFROM:-0500
TZOFFSETTO:-0600
TZNAME:CST
DTSTART:20191103T070000
END:STANDARD
BEGIN:DAYLIGHT
TZOFFSETFROM:-0600
TZOFFSETTO:-0500
TZNAME:CDT
DTSTART:20200308T080000
END:DAYLIGHT
BEGIN:STANDARD
TZOFFSETFROM:-0500
TZOFFSETTO:-0600
TZNAME:CST
DTSTART:20201101T070000
END:STANDARD
END:VTIMEZONE
BEGIN:VEVENT
DTSTART;TZID=America/Chicago:20191014T190000
DTEND;TZID=America/Chicago:20191014T200000
DTSTAMP:20260423T215126
CREATED:20190910T185903Z
LAST-MODIFIED:20190910T185903Z
UID:10007038-1571079600-1571083200@www.saintcatherineschool.org
SUMMARY:Middle School Volleyball Team
DESCRIPTION:The middle school volleyball team will play St. Mary Blue team at Marquette’s gym.
URL:https://www.saintcatherineschool.org/event/middle-school-volleyball-team
LOCATION:Marquette\, 1519 S Quincy Ave\, Tulsa\, OK\, 74120\, United States
CATEGORIES:Saint Catherine School
ORGANIZER;CN="Kayley Anthamatten":MAILTO:kayleya@saint-catherine.org
GEO:36.1401305;-95.9723673
X-APPLE-STRUCTURED-LOCATION;VALUE=URI;X-ADDRESS=Marquette 1519 S Quincy Ave Tulsa OK 74120 United States;X-APPLE-RADIUS=500;X-TITLE=1519 S Quincy Ave:geo:-95.9723673,36.1401305
END:VEVENT
BEGIN:VEVENT
DTSTART;TZID=America/Chicago:20190131T190000
DTEND;TZID=America/Chicago:20190131T200000
DTSTAMP:20260423T215126
CREATED:20181217T180243Z
LAST-MODIFIED:20181217T180243Z
UID:10007670-1548961200-1548964800@www.saintcatherineschool.org
SUMMARY:Middle School Basketball Game
DESCRIPTION:The middle school basketball game will be Thursday\, January 31st at 7pm at Marquette.
URL:https://www.saintcatherineschool.org/event/middle-school-basketball-game-6
LOCATION:Marquette\, 1519 S Quincy Ave\, Tulsa\, OK\, 74120\, United States
CATEGORIES:Saint Catherine School
ORGANIZER;CN="April Adalim":MAILTO:aadalim@saint-catherine.org
GEO:36.1401305;-95.9723673
X-APPLE-STRUCTURED-LOCATION;VALUE=URI;X-ADDRESS=Marquette 1519 S Quincy Ave Tulsa OK 74120 United States;X-APPLE-RADIUS=500;X-TITLE=1519 S Quincy Ave:geo:-95.9723673,36.1401305
END:VEVENT
BEGIN:VEVENT
DTSTART;TZID=America/Chicago:20190112T133000
DTEND;TZID=America/Chicago:20190112T143000
DTSTAMP:20260423T215126
CREATED:20181217T174545Z
LAST-MODIFIED:20190110T184444Z
UID:10007703-1547299800-1547303400@www.saintcatherineschool.org
SUMMARY:Middle School Basketball Game
DESCRIPTION:The middle school basketball game will be Saturday\, January 12th at 1:30pm at Marquette.
URL:https://www.saintcatherineschool.org/event/middle-school-basketball-game-2
LOCATION:Marquette\, 1519 S Quincy Ave\, Tulsa\, OK\, 74120\, United States
CATEGORIES:Saint Catherine School
ORGANIZER;CN="April Adalim":MAILTO:aadalim@saint-catherine.org
GEO:36.1401305;-95.9723673
X-APPLE-STRUCTURED-LOCATION;VALUE=URI;X-ADDRESS=Marquette 1519 S Quincy Ave Tulsa OK 74120 United States;X-APPLE-RADIUS=500;X-TITLE=1519 S Quincy Ave:geo:-95.9723673,36.1401305
END:VEVENT
BEGIN:VEVENT
DTSTART;TZID=America/Chicago:20181102T080000
DTEND;TZID=America/Chicago:20181102T140000
DTSTAMP:20260423T215126
CREATED:20181002T190702Z
LAST-MODIFIED:20181002T190702Z
UID:10007477-1541145600-1541167200@www.saintcatherineschool.org
SUMMARY:5th grade to Vocations Day
DESCRIPTION:The 5th graders will be going to Marquette School to learn about Vocations.  Lunch will be served to them that day.
URL:https://www.saintcatherineschool.org/event/5th-grade-to-vocations-day
LOCATION:Marquette\, 1519 S Quincy Ave\, Tulsa\, OK\, 74120\, United States
CATEGORIES:Saint Catherine School
ORGANIZER;CN="Sister Margaret":MAILTO:mgibbons@saint-catherine.org
GEO:36.1401305;-95.9723673
X-APPLE-STRUCTURED-LOCATION;VALUE=URI;X-ADDRESS=Marquette 1519 S Quincy Ave Tulsa OK 74120 United States;X-APPLE-RADIUS=500;X-TITLE=1519 S Quincy Ave:geo:-95.9723673,36.1401305
END:VEVENT
BEGIN:VEVENT
DTSTART;TZID=America/Chicago:20181011T190000
DTEND;TZID=America/Chicago:20181011T203000
DTSTAMP:20260423T215126
CREATED:20180917T143503Z
LAST-MODIFIED:20180917T143503Z
UID:10007414-1539284400-1539289800@www.saintcatherineschool.org
SUMMARY:Volleyball game
DESCRIPTION:The volleyball game will be at Marquette at 7pm.
URL:https://www.saintcatherineschool.org/event/volleyball-game-4
LOCATION:Marquette\, 1519 S Quincy Ave\, Tulsa\, OK\, 74120\, United States
CATEGORIES:Saint Catherine School
ORGANIZER;CN="April Adalim":MAILTO:aadalim@saint-catherine.org
GEO:36.1401305;-95.9723673
X-APPLE-STRUCTURED-LOCATION;VALUE=URI;X-ADDRESS=Marquette 1519 S Quincy Ave Tulsa OK 74120 United States;X-APPLE-RADIUS=500;X-TITLE=1519 S Quincy Ave:geo:-95.9723673,36.1401305
END:VEVENT
BEGIN:VEVENT
DTSTART;TZID=America/Chicago:20181006T110000
DTEND;TZID=America/Chicago:20181006T123000
DTSTAMP:20260423T215126
CREATED:20180917T142150Z
LAST-MODIFIED:20180917T142150Z
UID:10007418-1538823600-1538829000@www.saintcatherineschool.org
SUMMARY:Volleyball Game
DESCRIPTION:The volleyball game is at Marquette at 11am.
URL:https://www.saintcatherineschool.org/event/volleyball-game-2
LOCATION:Marquette\, 1519 S Quincy Ave\, Tulsa\, OK\, 74120\, United States
CATEGORIES:Saint Catherine School
ORGANIZER;CN="April Adalim":MAILTO:aadalim@saint-catherine.org
GEO:36.1401305;-95.9723673
X-APPLE-STRUCTURED-LOCATION;VALUE=URI;X-ADDRESS=Marquette 1519 S Quincy Ave Tulsa OK 74120 United States;X-APPLE-RADIUS=500;X-TITLE=1519 S Quincy Ave:geo:-95.9723673,36.1401305
END:VEVENT
BEGIN:VEVENT
DTSTART;TZID=America/Chicago:20171005T150000
DTEND;TZID=America/Chicago:20171005T160000
DTSTAMP:20260423T215126
CREATED:20170927T065116Z
LAST-MODIFIED:20170927T065116Z
UID:10005341-1507215600-1507219200@www.saintcatherineschool.org
SUMMARY:8th Grade Volleyball Game 8pm
DESCRIPTION:The 8th grade will have a volleyball game at Marquette at 8pm.
URL:https://www.saintcatherineschool.org/event/8th-grade-volleyball-game-8pm-2
LOCATION:Marquette\, 1519 S Quincy Ave\, Tulsa\, OK\, 74120\, United States
CATEGORIES:Saint Catherine School
ORGANIZER;CN="April Adalim":MAILTO:aadalim@saint-catherine.org
GEO:36.1401305;-95.9723673
X-APPLE-STRUCTURED-LOCATION;VALUE=URI;X-ADDRESS=Marquette 1519 S Quincy Ave Tulsa OK 74120 United States;X-APPLE-RADIUS=500;X-TITLE=1519 S Quincy Ave:geo:-95.9723673,36.1401305
END:VEVENT
END:VCALENDAR