BEGIN:VCALENDAR
VERSION:2.0
PRODID:-//Saint Catherine of Alexandria School - ECPv6.15.20//NONSGML v1.0//EN
CALSCALE:GREGORIAN
METHOD:PUBLISH
X-WR-CALNAME:Saint Catherine of Alexandria School
X-ORIGINAL-URL:https://www.saintcatherineschool.org
X-WR-CALDESC:Events for Saint Catherine of Alexandria School
REFRESH-INTERVAL;VALUE=DURATION:PT1H
X-Robots-Tag:noindex
X-PUBLISHED-TTL:PT1H
BEGIN:VTIMEZONE
TZID:America/Chicago
BEGIN:DAYLIGHT
TZOFFSETFROM:-0600
TZOFFSETTO:-0500
TZNAME:CDT
DTSTART:20170312T080000
END:DAYLIGHT
BEGIN:STANDARD
TZOFFSETFROM:-0500
TZOFFSETTO:-0600
TZNAME:CST
DTSTART:20171105T070000
END:STANDARD
BEGIN:DAYLIGHT
TZOFFSETFROM:-0600
TZOFFSETTO:-0500
TZNAME:CDT
DTSTART:20180311T080000
END:DAYLIGHT
BEGIN:STANDARD
TZOFFSETFROM:-0500
TZOFFSETTO:-0600
TZNAME:CST
DTSTART:20181104T070000
END:STANDARD
BEGIN:DAYLIGHT
TZOFFSETFROM:-0600
TZOFFSETTO:-0500
TZNAME:CDT
DTSTART:20190310T080000
END:DAYLIGHT
BEGIN:STANDARD
TZOFFSETFROM:-0500
TZOFFSETTO:-0600
TZNAME:CST
DTSTART:20191103T070000
END:STANDARD
END:VTIMEZONE
BEGIN:VEVENT
DTSTART;VALUE=DATE:20181029
DTEND;VALUE=DATE:20181030
DTSTAMP:20260424T115626
CREATED:20181029T170915Z
LAST-MODIFIED:20181029T170915Z
UID:10007600-1540771200-1540857599@www.saintcatherineschool.org
SUMMARY:Lego Qualifying Event
DESCRIPTION:This Middle School Lego Club will be at Memorial High School for a Lego Qualifying meet.
URL:https://www.saintcatherineschool.org/event/lego-qualifying-event-2
LOCATION:Memorial High School\, 5840 S Hudson Ave\, Tulsa\, OK\, 74135\, United States
CATEGORIES:Saint Catherine School
ORGANIZER;CN="Sister Margaret":MAILTO:mgibbons@saint-catherine.org
GEO:36.0785181;-95.9143093
X-APPLE-STRUCTURED-LOCATION;VALUE=URI;X-ADDRESS=Memorial High School 5840 S Hudson Ave Tulsa OK 74135 United States;X-APPLE-RADIUS=500;X-TITLE=5840 S Hudson Ave:geo:-95.9143093,36.0785181
END:VEVENT
END:VCALENDAR