BEGIN:VCALENDAR
VERSION:2.0
PRODID:-//Saint Catherine of Alexandria School - ECPv6.15.20//NONSGML v1.0//EN
CALSCALE:GREGORIAN
METHOD:PUBLISH
X-ORIGINAL-URL:https://www.saintcatherineschool.org
X-WR-CALDESC:Events for Saint Catherine of Alexandria School
REFRESH-INTERVAL;VALUE=DURATION:PT1H
X-Robots-Tag:noindex
X-PUBLISHED-TTL:PT1H
BEGIN:VTIMEZONE
TZID:America/Chicago
BEGIN:DAYLIGHT
TZOFFSETFROM:-0600
TZOFFSETTO:-0500
TZNAME:CDT
DTSTART:20160313T080000
END:DAYLIGHT
BEGIN:STANDARD
TZOFFSETFROM:-0500
TZOFFSETTO:-0600
TZNAME:CST
DTSTART:20161106T070000
END:STANDARD
BEGIN:DAYLIGHT
TZOFFSETFROM:-0600
TZOFFSETTO:-0500
TZNAME:CDT
DTSTART:20170312T080000
END:DAYLIGHT
BEGIN:STANDARD
TZOFFSETFROM:-0500
TZOFFSETTO:-0600
TZNAME:CST
DTSTART:20171105T070000
END:STANDARD
BEGIN:DAYLIGHT
TZOFFSETFROM:-0600
TZOFFSETTO:-0500
TZNAME:CDT
DTSTART:20180311T080000
END:DAYLIGHT
BEGIN:STANDARD
TZOFFSETFROM:-0500
TZOFFSETTO:-0600
TZNAME:CST
DTSTART:20181104T070000
END:STANDARD
BEGIN:DAYLIGHT
TZOFFSETFROM:-0600
TZOFFSETTO:-0500
TZNAME:CDT
DTSTART:20190310T080000
END:DAYLIGHT
BEGIN:STANDARD
TZOFFSETFROM:-0500
TZOFFSETTO:-0600
TZNAME:CST
DTSTART:20191103T070000
END:STANDARD
BEGIN:DAYLIGHT
TZOFFSETFROM:-0600
TZOFFSETTO:-0500
TZNAME:CDT
DTSTART:20200308T080000
END:DAYLIGHT
BEGIN:STANDARD
TZOFFSETFROM:-0500
TZOFFSETTO:-0600
TZNAME:CST
DTSTART:20201101T070000
END:STANDARD
BEGIN:DAYLIGHT
TZOFFSETFROM:-0600
TZOFFSETTO:-0500
TZNAME:CDT
DTSTART:20210314T080000
END:DAYLIGHT
BEGIN:STANDARD
TZOFFSETFROM:-0500
TZOFFSETTO:-0600
TZNAME:CST
DTSTART:20211107T070000
END:STANDARD
BEGIN:DAYLIGHT
TZOFFSETFROM:-0600
TZOFFSETTO:-0500
TZNAME:CDT
DTSTART:20220313T080000
END:DAYLIGHT
BEGIN:STANDARD
TZOFFSETFROM:-0500
TZOFFSETTO:-0600
TZNAME:CST
DTSTART:20221106T070000
END:STANDARD
BEGIN:DAYLIGHT
TZOFFSETFROM:-0600
TZOFFSETTO:-0500
TZNAME:CDT
DTSTART:20230312T080000
END:DAYLIGHT
BEGIN:STANDARD
TZOFFSETFROM:-0500
TZOFFSETTO:-0600
TZNAME:CST
DTSTART:20231105T070000
END:STANDARD
BEGIN:DAYLIGHT
TZOFFSETFROM:-0600
TZOFFSETTO:-0500
TZNAME:CDT
DTSTART:20240310T080000
END:DAYLIGHT
BEGIN:STANDARD
TZOFFSETFROM:-0500
TZOFFSETTO:-0600
TZNAME:CST
DTSTART:20241103T070000
END:STANDARD
END:VTIMEZONE
BEGIN:VEVENT
DTSTART;TZID=America/Chicago:20230211T144000
DTEND;TZID=America/Chicago:20230211T160000
DTSTAMP:20260423T214805
CREATED:20230120T160100Z
LAST-MODIFIED:20230120T160100Z
UID:10009481-1676126400-1676131200@www.saintcatherineschool.org
SUMMARY:Basketball Game
DESCRIPTION:
URL:https://www.saintcatherineschool.org/event/basketball-game-10
LOCATION:Monte Cassino\, 2206 S. Lewis Ave.\, Tulsa\, OK\, 74114\, United States
CATEGORIES:Church of Saint Catherine,Saint Catherine School
ORGANIZER;CN="Sam Naab":MAILTO:snaab@saint-catherine.org
GEO:36.1314173;-95.9590244
X-APPLE-STRUCTURED-LOCATION;VALUE=URI;X-ADDRESS=Monte Cassino 2206 S. Lewis Ave. Tulsa OK 74114 United States;X-APPLE-RADIUS=500;X-TITLE=2206 S. Lewis Ave.:geo:-95.9590244,36.1314173
END:VEVENT
BEGIN:VEVENT
DTSTART;TZID=America/Chicago:20230107T171000
DTEND;TZID=America/Chicago:20230107T181000
DTSTAMP:20260423T214805
CREATED:20221129T194959Z
LAST-MODIFIED:20221129T194959Z
UID:10009364-1673111400-1673115000@www.saintcatherineschool.org
SUMMARY:4th and 5th basketball game
DESCRIPTION:
URL:https://www.saintcatherineschool.org/event/4th-and-5th-basketball-game-3
LOCATION:Monte Cassino\, 2206 S. Lewis Ave.\, Tulsa\, OK\, 74114\, United States
CATEGORIES:Church of Saint Catherine,Saint Catherine School
ORGANIZER;CN="Sam Naab":MAILTO:snaab@saint-catherine.org
GEO:36.1314173;-95.9590244
X-APPLE-STRUCTURED-LOCATION;VALUE=URI;X-ADDRESS=Monte Cassino 2206 S. Lewis Ave. Tulsa OK 74114 United States;X-APPLE-RADIUS=500;X-TITLE=2206 S. Lewis Ave.:geo:-95.9590244,36.1314173
END:VEVENT
BEGIN:VEVENT
DTSTART;TZID=America/Chicago:20221006T190000
DTEND;TZID=America/Chicago:20221006T200000
DTSTAMP:20260423T214805
CREATED:20221004T180153Z
LAST-MODIFIED:20221004T180153Z
UID:10009227-1665082800-1665086400@www.saintcatherineschool.org
SUMMARY:7th Grade Volleyball Game
DESCRIPTION:
URL:https://www.saintcatherineschool.org/event/7th-grade-volleyball-game
LOCATION:Monte Cassino\, 2206 S. Lewis Ave.\, Tulsa\, OK\, 74114\, United States
CATEGORIES:Church of Saint Catherine,Saint Catherine School
ORGANIZER;CN="Kayley Anthamatten":MAILTO:kayleya@saint-catherine.org
GEO:36.1314173;-95.9590244
X-APPLE-STRUCTURED-LOCATION;VALUE=URI;X-ADDRESS=Monte Cassino 2206 S. Lewis Ave. Tulsa OK 74114 United States;X-APPLE-RADIUS=500;X-TITLE=2206 S. Lewis Ave.:geo:-95.9590244,36.1314173
END:VEVENT
BEGIN:VEVENT
DTSTART;TZID=America/Chicago:20211021T180000
DTEND;TZID=America/Chicago:20211021T200000
DTSTAMP:20260423T214805
CREATED:20211001T143552Z
LAST-MODIFIED:20211001T143950Z
UID:10008962-1634839200-1634846400@www.saintcatherineschool.org
SUMMARY:Volleyball Games
DESCRIPTION:Red team 6pm @ Monte Cassino   2206 S Lewis Ave\, Tulsa\, OK 74114 \nWhite team 7pm @ Monte Cassino 2206 S Lewis Ave\, Tulsa\, OK 74114
URL:https://www.saintcatherineschool.org/event/8464
LOCATION:Monte Cassino\, 2206 S. Lewis Ave.\, Tulsa\, OK\, 74114\, United States
CATEGORIES:Church of Saint Catherine,Saint Catherine School
ORGANIZER;CN="Sam Naab":MAILTO:snaab@saint-catherine.org
GEO:36.1314173;-95.9590244
X-APPLE-STRUCTURED-LOCATION;VALUE=URI;X-ADDRESS=Monte Cassino 2206 S. Lewis Ave. Tulsa OK 74114 United States;X-APPLE-RADIUS=500;X-TITLE=2206 S. Lewis Ave.:geo:-95.9590244,36.1314173
END:VEVENT
BEGIN:VEVENT
DTSTART;TZID=America/Chicago:20200917T200000
DTEND;TZID=America/Chicago:20200917T210000
DTSTAMP:20260423T214805
CREATED:20200915T190204Z
LAST-MODIFIED:20200915T190831Z
UID:10007415-1600372800-1600376400@www.saintcatherineschool.org
SUMMARY:Volleyball Game
DESCRIPTION:The middle school volleyball team has a game today at Monte Cassino against Monte Cassino.
URL:https://www.saintcatherineschool.org/event/volleyball-game-9
LOCATION:Monte Cassino\, 2206 S. Lewis Ave.\, Tulsa\, OK\, 74114\, United States
CATEGORIES:Church of Saint Catherine
ORGANIZER;CN="Kayley Anthamatten":MAILTO:kayleya@saint-catherine.org
GEO:36.1314173;-95.9590244
X-APPLE-STRUCTURED-LOCATION;VALUE=URI;X-ADDRESS=Monte Cassino 2206 S. Lewis Ave. Tulsa OK 74114 United States;X-APPLE-RADIUS=500;X-TITLE=2206 S. Lewis Ave.:geo:-95.9590244,36.1314173
END:VEVENT
BEGIN:VEVENT
DTSTART;VALUE=DATE:20200228
DTEND;VALUE=DATE:20200229
DTSTAMP:20260423T214805
CREATED:20200122T162929Z
LAST-MODIFIED:20200122T162929Z
UID:10007196-1582848000-1582934399@www.saintcatherineschool.org
SUMMARY:5th and 8th grade field trip
DESCRIPTION:The 5th and 8th grade class will go to Monte Cassino to see Darcy Tucker.  The actual times will be sent to the principal at a later date.
URL:https://www.saintcatherineschool.org/event/5th-and-8th-grade-field-trip
LOCATION:Monte Cassino\, 2206 S. Lewis Ave.\, Tulsa\, OK\, 74114\, United States
CATEGORIES:Saint Catherine School
ORGANIZER;CN="Charlie Reid":MAILTO:creid@saint-catherine.org
GEO:36.1314173;-95.9590244
X-APPLE-STRUCTURED-LOCATION;VALUE=URI;X-ADDRESS=Monte Cassino 2206 S. Lewis Ave. Tulsa OK 74114 United States;X-APPLE-RADIUS=500;X-TITLE=2206 S. Lewis Ave.:geo:-95.9590244,36.1314173
END:VEVENT
BEGIN:VEVENT
DTSTART;TZID=America/Chicago:20200210T190000
DTEND;TZID=America/Chicago:20200210T200000
DTSTAMP:20260423T214805
CREATED:20200203T162753Z
LAST-MODIFIED:20200203T162753Z
UID:10008500-1581361200-1581364800@www.saintcatherineschool.org
SUMMARY:Middle School Basketball Game
DESCRIPTION:The middle school basketball game will play at Monte Cassino at 7pm.
URL:https://www.saintcatherineschool.org/event/middle-school-basketball-game-18
LOCATION:Monte Cassino\, 2206 S. Lewis Ave.\, Tulsa\, OK\, 74114\, United States
CATEGORIES:Saint Catherine School
ORGANIZER;CN="Andrea Warner":MAILTO:andrea.warner.mail@gmail.com
GEO:36.1314173;-95.9590244
X-APPLE-STRUCTURED-LOCATION;VALUE=URI;X-ADDRESS=Monte Cassino 2206 S. Lewis Ave. Tulsa OK 74114 United States;X-APPLE-RADIUS=500;X-TITLE=2206 S. Lewis Ave.:geo:-95.9590244,36.1314173
END:VEVENT
BEGIN:VEVENT
DTSTART;TZID=America/Chicago:20191028T200000
DTEND;TZID=America/Chicago:20191028T210000
DTSTAMP:20260423T214805
CREATED:20190910T190817Z
LAST-MODIFIED:20190910T190817Z
UID:10007043-1572292800-1572296400@www.saintcatherineschool.org
SUMMARY:Middle School Volleyball Game
DESCRIPTION:The middle school volleyball team will play All Saints White at Monte Cassino Court 2.
URL:https://www.saintcatherineschool.org/event/middle-school-volleyball-game-7
LOCATION:Monte Cassino\, 2206 S. Lewis Ave.\, Tulsa\, OK\, 74114\, United States
CATEGORIES:Saint Catherine School
ORGANIZER;CN="Kayley Anthamatten":MAILTO:kayleya@saint-catherine.org
GEO:36.1314173;-95.9590244
X-APPLE-STRUCTURED-LOCATION;VALUE=URI;X-ADDRESS=Monte Cassino 2206 S. Lewis Ave. Tulsa OK 74114 United States;X-APPLE-RADIUS=500;X-TITLE=2206 S. Lewis Ave.:geo:-95.9590244,36.1314173
END:VEVENT
BEGIN:VEVENT
DTSTART;TZID=America/Chicago:20191024T190000
DTEND;TZID=America/Chicago:20191024T200000
DTSTAMP:20260423T214805
CREATED:20190910T190315Z
LAST-MODIFIED:20190910T190315Z
UID:10007042-1571943600-1571947200@www.saintcatherineschool.org
SUMMARY:Middle School Volleyball Game
DESCRIPTION:The middle school will play All Saints at Monte Cassino Court 2.
URL:https://www.saintcatherineschool.org/event/middle-school-volleyball-game-6
LOCATION:Monte Cassino\, 2206 S. Lewis Ave.\, Tulsa\, OK\, 74114\, United States
CATEGORIES:Saint Catherine School
ORGANIZER;CN="Kayley Anthamatten":MAILTO:kayleya@saint-catherine.org
GEO:36.1314173;-95.9590244
X-APPLE-STRUCTURED-LOCATION;VALUE=URI;X-ADDRESS=Monte Cassino 2206 S. Lewis Ave. Tulsa OK 74114 United States;X-APPLE-RADIUS=500;X-TITLE=2206 S. Lewis Ave.:geo:-95.9590244,36.1314173
END:VEVENT
BEGIN:VEVENT
DTSTART;TZID=America/Chicago:20191024T180000
DTEND;TZID=America/Chicago:20191024T190000
DTSTAMP:20260423T214805
CREATED:20190910T190213Z
LAST-MODIFIED:20190910T190213Z
UID:10007040-1571940000-1571943600@www.saintcatherineschool.org
SUMMARY:Middle School Volleyball Game
DESCRIPTION:The middle school will be playing Monte Blue at Monte Cassino Court 2.
URL:https://www.saintcatherineschool.org/event/middle-school-volleyball-game-5
LOCATION:Monte Cassino\, 2206 S. Lewis Ave.\, Tulsa\, OK\, 74114\, United States
CATEGORIES:Saint Catherine School
ORGANIZER;CN="Kayley Anthamatten":MAILTO:kayleya@saint-catherine.org
GEO:36.1314173;-95.9590244
X-APPLE-STRUCTURED-LOCATION;VALUE=URI;X-ADDRESS=Monte Cassino 2206 S. Lewis Ave. Tulsa OK 74114 United States;X-APPLE-RADIUS=500;X-TITLE=2206 S. Lewis Ave.:geo:-95.9590244,36.1314173
END:VEVENT
BEGIN:VEVENT
DTSTART;TZID=America/Chicago:20190926T200000
DTEND;TZID=America/Chicago:20190926T210000
DTSTAMP:20260423T214805
CREATED:20190910T184447Z
LAST-MODIFIED:20190910T184502Z
UID:10008242-1569528000-1569531600@www.saintcatherineschool.org
SUMMARY:Middle School Volleyball Game
DESCRIPTION:The middle school will have a volleyball game at Monte Cassino Court 1 Gym against Monte Cassino White.
URL:https://www.saintcatherineschool.org/event/middle-school-volleyball-game-2
LOCATION:Monte Cassino\, 2206 S. Lewis Ave.\, Tulsa\, OK\, 74114\, United States
CATEGORIES:Saint Catherine School
ORGANIZER;CN="Kayley Anthamatten":MAILTO:kayleya@saint-catherine.org
GEO:36.1314173;-95.9590244
X-APPLE-STRUCTURED-LOCATION;VALUE=URI;X-ADDRESS=Monte Cassino 2206 S. Lewis Ave. Tulsa OK 74114 United States;X-APPLE-RADIUS=500;X-TITLE=2206 S. Lewis Ave.:geo:-95.9590244,36.1314173
END:VEVENT
BEGIN:VEVENT
DTSTART;TZID=America/Chicago:20190311T083000
DTEND;TZID=America/Chicago:20190311T121500
DTSTAMP:20260423T214805
CREATED:20190307T151228Z
LAST-MODIFIED:20190307T151228Z
UID:10005433-1552293000-1552306500@www.saintcatherineschool.org
SUMMARY:5th Grade Field Trip
DESCRIPTION:The 5th grade will be going to Monte Cassino today.
URL:https://www.saintcatherineschool.org/event/5th-grade-field-trip
LOCATION:Monte Cassino\, 2206 S. Lewis Ave.\, Tulsa\, OK\, 74114\, United States
CATEGORIES:Saint Catherine School
ORGANIZER;CN="Charlie Reid":MAILTO:creid@saint-catherine.org
GEO:36.1314173;-95.9590244
X-APPLE-STRUCTURED-LOCATION;VALUE=URI;X-ADDRESS=Monte Cassino 2206 S. Lewis Ave. Tulsa OK 74114 United States;X-APPLE-RADIUS=500;X-TITLE=2206 S. Lewis Ave.:geo:-95.9590244,36.1314173
END:VEVENT
BEGIN:VEVENT
DTSTART;TZID=America/Chicago:20190207T190000
DTEND;TZID=America/Chicago:20190207T200000
DTSTAMP:20260423T214805
CREATED:20181217T180519Z
LAST-MODIFIED:20181217T180519Z
UID:10007658-1549566000-1549569600@www.saintcatherineschool.org
SUMMARY:Middle School Basketball Game
DESCRIPTION:The middle school basketball game will be Thursday\, February 7th at 7pm at Monte Cassino.
URL:https://www.saintcatherineschool.org/event/middle-school-basketball-game-8
LOCATION:Monte Cassino\, 2206 S. Lewis Ave.\, Tulsa\, OK\, 74114\, United States
CATEGORIES:Saint Catherine School
ORGANIZER;CN="April Adalim":MAILTO:aadalim@saint-catherine.org
GEO:36.1314173;-95.9590244
X-APPLE-STRUCTURED-LOCATION;VALUE=URI;X-ADDRESS=Monte Cassino 2206 S. Lewis Ave. Tulsa OK 74114 United States;X-APPLE-RADIUS=500;X-TITLE=2206 S. Lewis Ave.:geo:-95.9590244,36.1314173
END:VEVENT
BEGIN:VEVENT
DTSTART;TZID=America/Chicago:20190126T090000
DTEND;TZID=America/Chicago:20190126T100000
DTSTAMP:20260423T214805
CREATED:20181217T180008Z
LAST-MODIFIED:20181217T180008Z
UID:10007647-1548493200-1548496800@www.saintcatherineschool.org
SUMMARY:Middle School Basketball Game
DESCRIPTION:The middle school basketball game will be Saturday\, January 26th at 9am at Monte Cassino.
URL:https://www.saintcatherineschool.org/event/middle-school-basketball-game-5
LOCATION:Monte Cassino\, 2206 S. Lewis Ave.\, Tulsa\, OK\, 74114\, United States
CATEGORIES:Saint Catherine School
ORGANIZER;CN="April Adalim":MAILTO:aadalim@saint-catherine.org
GEO:36.1314173;-95.9590244
X-APPLE-STRUCTURED-LOCATION;VALUE=URI;X-ADDRESS=Monte Cassino 2206 S. Lewis Ave. Tulsa OK 74114 United States;X-APPLE-RADIUS=500;X-TITLE=2206 S. Lewis Ave.:geo:-95.9590244,36.1314173
END:VEVENT
BEGIN:VEVENT
DTSTART;TZID=America/Chicago:20181025T190000
DTEND;TZID=America/Chicago:20181025T203000
DTSTAMP:20260423T214805
CREATED:20180917T150105Z
LAST-MODIFIED:20180917T221532Z
UID:10007521-1540494000-1540499400@www.saintcatherineschool.org
SUMMARY:Volleyball game
DESCRIPTION:The volleyball game will be at Monte Cassino Court 2 at 8pm.
URL:https://www.saintcatherineschool.org/event/volleyball-game-6
LOCATION:Monte Cassino\, 2206 S. Lewis Ave.\, Tulsa\, OK\, 74114\, United States
CATEGORIES:Saint Catherine School
ORGANIZER;CN="April Adalim":MAILTO:aadalim@saint-catherine.org
GEO:36.1314173;-95.9590244
X-APPLE-STRUCTURED-LOCATION;VALUE=URI;X-ADDRESS=Monte Cassino 2206 S. Lewis Ave. Tulsa OK 74114 United States;X-APPLE-RADIUS=500;X-TITLE=2206 S. Lewis Ave.:geo:-95.9590244,36.1314173
END:VEVENT
BEGIN:VEVENT
DTSTART;TZID=America/Chicago:20181015T190000
DTEND;TZID=America/Chicago:20181015T203000
DTSTAMP:20260423T214805
CREATED:20180917T145143Z
LAST-MODIFIED:20180917T145143Z
UID:10007399-1539630000-1539635400@www.saintcatherineschool.org
SUMMARY:Volleyball game
DESCRIPTION:The volleyball game will be at Monte Cassino court #1 at 7pm.
URL:https://www.saintcatherineschool.org/event/volleyball-game-5
LOCATION:Monte Cassino\, 2206 S. Lewis Ave.\, Tulsa\, OK\, 74114\, United States
CATEGORIES:Saint Catherine School
ORGANIZER;CN="April Adalim":MAILTO:aadalim@saint-catherine.org
GEO:36.1314173;-95.9590244
X-APPLE-STRUCTURED-LOCATION;VALUE=URI;X-ADDRESS=Monte Cassino 2206 S. Lewis Ave. Tulsa OK 74114 United States;X-APPLE-RADIUS=500;X-TITLE=2206 S. Lewis Ave.:geo:-95.9590244,36.1314173
END:VEVENT
BEGIN:VEVENT
DTSTART;TZID=America/Chicago:20171028T080000
DTEND;TZID=America/Chicago:20171028T090000
DTSTAMP:20260423T214805
CREATED:20170927T063727Z
LAST-MODIFIED:20170927T063812Z
UID:10005344-1509177600-1509181200@www.saintcatherineschool.org
SUMMARY:6th Grade Volleyball Game 1pm
DESCRIPTION:The 6th grade will have a volleyball game at Monte Cassino Court 1 at pm.
URL:https://www.saintcatherineschool.org/event/6th-grade-volleyball-game-1pm
LOCATION:Monte Cassino\, 2206 S. Lewis Ave.\, Tulsa\, OK\, 74114\, United States
CATEGORIES:Saint Catherine School
ORGANIZER;CN="Mrs. Guglielmo":MAILTO:pjguglielmo@gmail.com
GEO:36.1314173;-95.9590244
X-APPLE-STRUCTURED-LOCATION;VALUE=URI;X-ADDRESS=Monte Cassino 2206 S. Lewis Ave. Tulsa OK 74114 United States;X-APPLE-RADIUS=500;X-TITLE=2206 S. Lewis Ave.:geo:-95.9590244,36.1314173
END:VEVENT
END:VCALENDAR