BEGIN:VCALENDAR
VERSION:2.0
PRODID:-//Saint Catherine of Alexandria School - ECPv6.15.20//NONSGML v1.0//EN
CALSCALE:GREGORIAN
METHOD:PUBLISH
X-WR-CALNAME:Saint Catherine of Alexandria School
X-ORIGINAL-URL:https://www.saintcatherineschool.org
X-WR-CALDESC:Events for Saint Catherine of Alexandria School
REFRESH-INTERVAL;VALUE=DURATION:PT1H
X-Robots-Tag:noindex
X-PUBLISHED-TTL:PT1H
BEGIN:VTIMEZONE
TZID:America/Chicago
BEGIN:DAYLIGHT
TZOFFSETFROM:-0600
TZOFFSETTO:-0500
TZNAME:CDT
DTSTART:20170312T080000
END:DAYLIGHT
BEGIN:STANDARD
TZOFFSETFROM:-0500
TZOFFSETTO:-0600
TZNAME:CST
DTSTART:20171105T070000
END:STANDARD
BEGIN:DAYLIGHT
TZOFFSETFROM:-0600
TZOFFSETTO:-0500
TZNAME:CDT
DTSTART:20180311T080000
END:DAYLIGHT
BEGIN:STANDARD
TZOFFSETFROM:-0500
TZOFFSETTO:-0600
TZNAME:CST
DTSTART:20181104T070000
END:STANDARD
BEGIN:DAYLIGHT
TZOFFSETFROM:-0600
TZOFFSETTO:-0500
TZNAME:CDT
DTSTART:20190310T080000
END:DAYLIGHT
BEGIN:STANDARD
TZOFFSETFROM:-0500
TZOFFSETTO:-0600
TZNAME:CST
DTSTART:20191103T070000
END:STANDARD
END:VTIMEZONE
BEGIN:VEVENT
DTSTART;TZID=America/Chicago:20180926T153000
DTEND;TZID=America/Chicago:20180926T163000
DTSTAMP:20260424T115606
CREATED:20180831T190008Z
LAST-MODIFIED:20180831T190008Z
UID:10007450-1537975800-1537979400@www.saintcatherineschool.org
SUMMARY:Middle School Lego Club
DESCRIPTION:The Middle School Lego Club will meet in Mr. Pense’s room after school at 3:30.
URL:https://www.saintcatherineschool.org/event/middle-school-lego-club-16/2018-09-26
LOCATION:Mr. Pense’s room\, United States
CATEGORIES:Church of Saint Catherine,Saint Catherine School
ORGANIZER;CN="Sister Margaret":MAILTO:mgibbons@saint-catherine.org
GEO:37.09024;-95.712891
END:VEVENT
BEGIN:VEVENT
DTSTART;TZID=America/Chicago:20180919T153000
DTEND;TZID=America/Chicago:20180919T163000
DTSTAMP:20260424T115606
CREATED:20180831T190008Z
LAST-MODIFIED:20180831T190008Z
UID:10007449-1537371000-1537374600@www.saintcatherineschool.org
SUMMARY:Middle School Lego Club
DESCRIPTION:The Middle School Lego Club will meet in Mr. Pense’s room after school at 3:30.
URL:https://www.saintcatherineschool.org/event/middle-school-lego-club-16/2018-09-19
LOCATION:Mr. Pense’s room\, United States
CATEGORIES:Church of Saint Catherine,Saint Catherine School
ORGANIZER;CN="Sister Margaret":MAILTO:mgibbons@saint-catherine.org
GEO:37.09024;-95.712891
END:VEVENT
BEGIN:VEVENT
DTSTART;TZID=America/Chicago:20180912T153000
DTEND;TZID=America/Chicago:20180912T163000
DTSTAMP:20260424T115606
CREATED:20180831T190008Z
LAST-MODIFIED:20180831T190008Z
UID:10007448-1536766200-1536769800@www.saintcatherineschool.org
SUMMARY:Middle School Lego Club
DESCRIPTION:The Middle School Lego Club will meet in Mr. Pense’s room after school at 3:30.
URL:https://www.saintcatherineschool.org/event/middle-school-lego-club-16/2018-09-12
LOCATION:Mr. Pense’s room\, United States
CATEGORIES:Church of Saint Catherine,Saint Catherine School
ORGANIZER;CN="Sister Margaret":MAILTO:mgibbons@saint-catherine.org
GEO:37.09024;-95.712891
END:VEVENT
BEGIN:VEVENT
DTSTART;TZID=America/Chicago:20180905T153000
DTEND;TZID=America/Chicago:20180905T163000
DTSTAMP:20260424T115606
CREATED:20180831T190008Z
LAST-MODIFIED:20180831T190008Z
UID:10007447-1536161400-1536165000@www.saintcatherineschool.org
SUMMARY:Middle School Lego Club
DESCRIPTION:The Middle School Lego Club will meet in Mr. Pense’s room after school at 3:30.
URL:https://www.saintcatherineschool.org/event/middle-school-lego-club-16/2018-09-05
LOCATION:Mr. Pense’s room\, United States
CATEGORIES:Church of Saint Catherine,Saint Catherine School
ORGANIZER;CN="Sister Margaret":MAILTO:mgibbons@saint-catherine.org
GEO:37.09024;-95.712891
END:VEVENT
END:VCALENDAR