BEGIN:VCALENDAR
VERSION:2.0
PRODID:-//Saint Catherine of Alexandria School - ECPv6.15.20//NONSGML v1.0//EN
CALSCALE:GREGORIAN
METHOD:PUBLISH
X-ORIGINAL-URL:https://www.saintcatherineschool.org
X-WR-CALDESC:Events for Saint Catherine of Alexandria School
REFRESH-INTERVAL;VALUE=DURATION:PT1H
X-Robots-Tag:noindex
X-PUBLISHED-TTL:PT1H
BEGIN:VTIMEZONE
TZID:America/Chicago
BEGIN:DAYLIGHT
TZOFFSETFROM:-0600
TZOFFSETTO:-0500
TZNAME:CDT
DTSTART:20180311T080000
END:DAYLIGHT
BEGIN:STANDARD
TZOFFSETFROM:-0500
TZOFFSETTO:-0600
TZNAME:CST
DTSTART:20181104T070000
END:STANDARD
BEGIN:DAYLIGHT
TZOFFSETFROM:-0600
TZOFFSETTO:-0500
TZNAME:CDT
DTSTART:20190310T080000
END:DAYLIGHT
BEGIN:STANDARD
TZOFFSETFROM:-0500
TZOFFSETTO:-0600
TZNAME:CST
DTSTART:20191103T070000
END:STANDARD
BEGIN:DAYLIGHT
TZOFFSETFROM:-0600
TZOFFSETTO:-0500
TZNAME:CDT
DTSTART:20200308T080000
END:DAYLIGHT
BEGIN:STANDARD
TZOFFSETFROM:-0500
TZOFFSETTO:-0600
TZNAME:CST
DTSTART:20201101T070000
END:STANDARD
END:VTIMEZONE
BEGIN:VEVENT
DTSTART;TZID=America/Chicago:20191211T153000
DTEND;TZID=America/Chicago:20191211T163000
DTSTAMP:20260424T051425
CREATED:20191202T163607Z
LAST-MODIFIED:20191202T163607Z
UID:10008349-1576078200-1576081800@www.saintcatherineschool.org
SUMMARY:Math Tutoring
DESCRIPTION:Mrs. Crumlish will provide math tutoring in her classroom after school.
URL:https://www.saintcatherineschool.org/event/math-tutoring-4/2019-12-11
LOCATION:Mrs. Crumlish’s Room\, 2515 W. 46th St.\, Tulsa\, OK\, 74107\, United States
CATEGORIES:Saint Catherine School
ORGANIZER;CN="Vivian Crumlish":MAILTO:vcrumlish@saint-catherine.org
GEO:36.0974457;-96.0220232
X-APPLE-STRUCTURED-LOCATION;VALUE=URI;X-ADDRESS=Mrs. Crumlish’s Room 2515 W. 46th St. Tulsa OK 74107 United States;X-APPLE-RADIUS=500;X-TITLE=2515 W. 46th St.:geo:-96.0220232,36.0974457
END:VEVENT
BEGIN:VEVENT
DTSTART;TZID=America/Chicago:20191204T153000
DTEND;TZID=America/Chicago:20191204T163000
DTSTAMP:20260424T051425
CREATED:20191202T163607Z
LAST-MODIFIED:20191202T163607Z
UID:10008348-1575473400-1575477000@www.saintcatherineschool.org
SUMMARY:Math Tutoring
DESCRIPTION:Mrs. Crumlish will provide math tutoring in her classroom after school.
URL:https://www.saintcatherineschool.org/event/math-tutoring-4/2019-12-04
LOCATION:Mrs. Crumlish’s Room\, 2515 W. 46th St.\, Tulsa\, OK\, 74107\, United States
CATEGORIES:Saint Catherine School
ORGANIZER;CN="Vivian Crumlish":MAILTO:vcrumlish@saint-catherine.org
GEO:36.0974457;-96.0220232
X-APPLE-STRUCTURED-LOCATION;VALUE=URI;X-ADDRESS=Mrs. Crumlish’s Room 2515 W. 46th St. Tulsa OK 74107 United States;X-APPLE-RADIUS=500;X-TITLE=2515 W. 46th St.:geo:-96.0220232,36.0974457
END:VEVENT
BEGIN:VEVENT
DTSTART;TZID=America/Chicago:20191120T153000
DTEND;TZID=America/Chicago:20191120T163000
DTSTAMP:20260424T051425
CREATED:20191023T201956Z
LAST-MODIFIED:20191023T201956Z
UID:10008388-1574263800-1574267400@www.saintcatherineschool.org
SUMMARY:Math Tutoring
DESCRIPTION:There will be math tutoring with Mrs. Crumlish from 3:30-4:30.
URL:https://www.saintcatherineschool.org/event/math-tutoring-3/2019-11-20
LOCATION:Mrs. Crumlish’s Room\, 2515 W. 46th St.\, Tulsa\, OK\, 74107\, United States
CATEGORIES:Saint Catherine School
ORGANIZER;CN="Vivian Crumlish":MAILTO:vcrumlish@saint-catherine.org
GEO:36.0974457;-96.0220232
X-APPLE-STRUCTURED-LOCATION;VALUE=URI;X-ADDRESS=Mrs. Crumlish’s Room 2515 W. 46th St. Tulsa OK 74107 United States;X-APPLE-RADIUS=500;X-TITLE=2515 W. 46th St.:geo:-96.0220232,36.0974457
END:VEVENT
BEGIN:VEVENT
DTSTART;TZID=America/Chicago:20191114T153000
DTEND;TZID=America/Chicago:20191114T163000
DTSTAMP:20260424T051425
CREATED:20190911T155542Z
LAST-MODIFIED:20190911T155542Z
UID:10007061-1573745400-1573749000@www.saintcatherineschool.org
SUMMARY:Math Club
DESCRIPTION:The Math Club will meet in the math room at 3:30.
URL:https://www.saintcatherineschool.org/event/math-club-9/2019-11-14
LOCATION:Mrs. Crumlish’s Room\, 2515 W. 46th St.\, Tulsa\, OK\, 74107\, United States
CATEGORIES:Saint Catherine School
GEO:36.0974457;-96.0220232
X-APPLE-STRUCTURED-LOCATION;VALUE=URI;X-ADDRESS=Mrs. Crumlish’s Room 2515 W. 46th St. Tulsa OK 74107 United States;X-APPLE-RADIUS=500;X-TITLE=2515 W. 46th St.:geo:-96.0220232,36.0974457
END:VEVENT
BEGIN:VEVENT
DTSTART;TZID=America/Chicago:20191113T153000
DTEND;TZID=America/Chicago:20191113T163000
DTSTAMP:20260424T051425
CREATED:20191023T201956Z
LAST-MODIFIED:20191023T201956Z
UID:10008387-1573659000-1573662600@www.saintcatherineschool.org
SUMMARY:Math Tutoring
DESCRIPTION:There will be math tutoring with Mrs. Crumlish from 3:30-4:30.
URL:https://www.saintcatherineschool.org/event/math-tutoring-3/2019-11-13
LOCATION:Mrs. Crumlish’s Room\, 2515 W. 46th St.\, Tulsa\, OK\, 74107\, United States
CATEGORIES:Saint Catherine School
ORGANIZER;CN="Vivian Crumlish":MAILTO:vcrumlish@saint-catherine.org
GEO:36.0974457;-96.0220232
X-APPLE-STRUCTURED-LOCATION;VALUE=URI;X-ADDRESS=Mrs. Crumlish’s Room 2515 W. 46th St. Tulsa OK 74107 United States;X-APPLE-RADIUS=500;X-TITLE=2515 W. 46th St.:geo:-96.0220232,36.0974457
END:VEVENT
BEGIN:VEVENT
DTSTART;TZID=America/Chicago:20191113T153000
DTEND;TZID=America/Chicago:20191113T163000
DTSTAMP:20260424T051425
CREATED:20190911T155542Z
LAST-MODIFIED:20190911T155542Z
UID:10007060-1573659000-1573662600@www.saintcatherineschool.org
SUMMARY:Math Club
DESCRIPTION:The Math Club will meet in the math room at 3:30.
URL:https://www.saintcatherineschool.org/event/math-club-9/2019-11-13
LOCATION:Mrs. Crumlish’s Room\, 2515 W. 46th St.\, Tulsa\, OK\, 74107\, United States
CATEGORIES:Saint Catherine School
GEO:36.0974457;-96.0220232
X-APPLE-STRUCTURED-LOCATION;VALUE=URI;X-ADDRESS=Mrs. Crumlish’s Room 2515 W. 46th St. Tulsa OK 74107 United States;X-APPLE-RADIUS=500;X-TITLE=2515 W. 46th St.:geo:-96.0220232,36.0974457
END:VEVENT
BEGIN:VEVENT
DTSTART;TZID=America/Chicago:20191106T153000
DTEND;TZID=America/Chicago:20191106T163000
DTSTAMP:20260424T051425
CREATED:20191023T201956Z
LAST-MODIFIED:20191023T201956Z
UID:10008386-1573054200-1573057800@www.saintcatherineschool.org
SUMMARY:Math Tutoring
DESCRIPTION:There will be math tutoring with Mrs. Crumlish from 3:30-4:30.
URL:https://www.saintcatherineschool.org/event/math-tutoring-3/2019-11-06
LOCATION:Mrs. Crumlish’s Room\, 2515 W. 46th St.\, Tulsa\, OK\, 74107\, United States
CATEGORIES:Saint Catherine School
ORGANIZER;CN="Vivian Crumlish":MAILTO:vcrumlish@saint-catherine.org
GEO:36.0974457;-96.0220232
X-APPLE-STRUCTURED-LOCATION;VALUE=URI;X-ADDRESS=Mrs. Crumlish’s Room 2515 W. 46th St. Tulsa OK 74107 United States;X-APPLE-RADIUS=500;X-TITLE=2515 W. 46th St.:geo:-96.0220232,36.0974457
END:VEVENT
BEGIN:VEVENT
DTSTART;TZID=America/Chicago:20191024T153000
DTEND;TZID=America/Chicago:20191024T163000
DTSTAMP:20260424T051425
CREATED:20190911T141921Z
LAST-MODIFIED:20190911T141921Z
UID:10007059-1571931000-1571934600@www.saintcatherineschool.org
SUMMARY:Math Club
DESCRIPTION:The Math Club will meet in the math room at 3:30.
URL:https://www.saintcatherineschool.org/event/math-club-8
LOCATION:Mrs. Crumlish’s Room\, 2515 W. 46th St.\, Tulsa\, OK\, 74107\, United States
CATEGORIES:Saint Catherine School
GEO:36.0974457;-96.0220232
X-APPLE-STRUCTURED-LOCATION;VALUE=URI;X-ADDRESS=Mrs. Crumlish’s Room 2515 W. 46th St. Tulsa OK 74107 United States;X-APPLE-RADIUS=500;X-TITLE=2515 W. 46th St.:geo:-96.0220232,36.0974457
END:VEVENT
BEGIN:VEVENT
DTSTART;TZID=America/Chicago:20191010T153000
DTEND;TZID=America/Chicago:20191010T163000
DTSTAMP:20260424T051425
CREATED:20190925T162014Z
LAST-MODIFIED:20190925T162014Z
UID:10008383-1570721400-1570725000@www.saintcatherineschool.org
SUMMARY:Math Club
DESCRIPTION:The Math Club will meet in the math room at 3:30.
URL:https://www.saintcatherineschool.org/event/math-club-11
LOCATION:Mrs. Crumlish’s Room\, 2515 W. 46th St.\, Tulsa\, OK\, 74107\, United States
CATEGORIES:Saint Catherine School
GEO:36.0974457;-96.0220232
X-APPLE-STRUCTURED-LOCATION;VALUE=URI;X-ADDRESS=Mrs. Crumlish’s Room 2515 W. 46th St. Tulsa OK 74107 United States;X-APPLE-RADIUS=500;X-TITLE=2515 W. 46th St.:geo:-96.0220232,36.0974457
END:VEVENT
BEGIN:VEVENT
DTSTART;TZID=America/Chicago:20191010T153000
DTEND;TZID=America/Chicago:20191010T163000
DTSTAMP:20260424T051425
CREATED:20190911T141844Z
LAST-MODIFIED:20190911T141844Z
UID:10007056-1570721400-1570725000@www.saintcatherineschool.org
SUMMARY:Math Club
DESCRIPTION:The Math Club will meet in the math room at 3:30.
URL:https://www.saintcatherineschool.org/event/math-club-7
LOCATION:Mrs. Crumlish’s Room\, 2515 W. 46th St.\, Tulsa\, OK\, 74107\, United States
CATEGORIES:Saint Catherine School
GEO:36.0974457;-96.0220232
X-APPLE-STRUCTURED-LOCATION;VALUE=URI;X-ADDRESS=Mrs. Crumlish’s Room 2515 W. 46th St. Tulsa OK 74107 United States;X-APPLE-RADIUS=500;X-TITLE=2515 W. 46th St.:geo:-96.0220232,36.0974457
END:VEVENT
BEGIN:VEVENT
DTSTART;TZID=America/Chicago:20190925T153000
DTEND;TZID=America/Chicago:20190925T163000
DTSTAMP:20260424T051425
CREATED:20190827T135942Z
LAST-MODIFIED:20190827T135942Z
UID:10008187-1569425400-1569429000@www.saintcatherineschool.org
SUMMARY:Math Tutoring
DESCRIPTION:Mrs. Crumlish will tutor kids in middle school in math after school on Wednesdays.
URL:https://www.saintcatherineschool.org/event/math-tutoring/2019-09-25
LOCATION:Mrs. Crumlish’s Room\, 2515 W. 46th St.\, Tulsa\, OK\, 74107\, United States
CATEGORIES:Saint Catherine School
ORGANIZER;CN="Vivian Crumlish":MAILTO:vcrumlish@saint-catherine.org
GEO:36.0974457;-96.0220232
X-APPLE-STRUCTURED-LOCATION;VALUE=URI;X-ADDRESS=Mrs. Crumlish’s Room 2515 W. 46th St. Tulsa OK 74107 United States;X-APPLE-RADIUS=500;X-TITLE=2515 W. 46th St.:geo:-96.0220232,36.0974457
END:VEVENT
BEGIN:VEVENT
DTSTART;TZID=America/Chicago:20190919T153000
DTEND;TZID=America/Chicago:20190919T163000
DTSTAMP:20260424T051425
CREATED:20190911T141618Z
LAST-MODIFIED:20190911T141618Z
UID:10007045-1568907000-1568910600@www.saintcatherineschool.org
SUMMARY:Math Club
DESCRIPTION:The Math Club will meet in the math room at 3:30.
URL:https://www.saintcatherineschool.org/event/math-club-6
LOCATION:Mrs. Crumlish’s Room\, 2515 W. 46th St.\, Tulsa\, OK\, 74107\, United States
CATEGORIES:Saint Catherine School
GEO:36.0974457;-96.0220232
X-APPLE-STRUCTURED-LOCATION;VALUE=URI;X-ADDRESS=Mrs. Crumlish’s Room 2515 W. 46th St. Tulsa OK 74107 United States;X-APPLE-RADIUS=500;X-TITLE=2515 W. 46th St.:geo:-96.0220232,36.0974457
END:VEVENT
BEGIN:VEVENT
DTSTART;TZID=America/Chicago:20190918T153000
DTEND;TZID=America/Chicago:20190918T163000
DTSTAMP:20260424T051425
CREATED:20190827T135942Z
LAST-MODIFIED:20190827T135942Z
UID:10008186-1568820600-1568824200@www.saintcatherineschool.org
SUMMARY:Math Tutoring
DESCRIPTION:Mrs. Crumlish will tutor kids in middle school in math after school on Wednesdays.
URL:https://www.saintcatherineschool.org/event/math-tutoring/2019-09-18
LOCATION:Mrs. Crumlish’s Room\, 2515 W. 46th St.\, Tulsa\, OK\, 74107\, United States
CATEGORIES:Saint Catherine School
ORGANIZER;CN="Vivian Crumlish":MAILTO:vcrumlish@saint-catherine.org
GEO:36.0974457;-96.0220232
X-APPLE-STRUCTURED-LOCATION;VALUE=URI;X-ADDRESS=Mrs. Crumlish’s Room 2515 W. 46th St. Tulsa OK 74107 United States;X-APPLE-RADIUS=500;X-TITLE=2515 W. 46th St.:geo:-96.0220232,36.0974457
END:VEVENT
BEGIN:VEVENT
DTSTART;TZID=America/Chicago:20190911T153000
DTEND;TZID=America/Chicago:20190911T163000
DTSTAMP:20260424T051425
CREATED:20190827T135942Z
LAST-MODIFIED:20190827T135942Z
UID:10008185-1568215800-1568219400@www.saintcatherineschool.org
SUMMARY:Math Tutoring
DESCRIPTION:Mrs. Crumlish will tutor kids in middle school in math after school on Wednesdays.
URL:https://www.saintcatherineschool.org/event/math-tutoring/2019-09-11
LOCATION:Mrs. Crumlish’s Room\, 2515 W. 46th St.\, Tulsa\, OK\, 74107\, United States
CATEGORIES:Saint Catherine School
ORGANIZER;CN="Vivian Crumlish":MAILTO:vcrumlish@saint-catherine.org
GEO:36.0974457;-96.0220232
X-APPLE-STRUCTURED-LOCATION;VALUE=URI;X-ADDRESS=Mrs. Crumlish’s Room 2515 W. 46th St. Tulsa OK 74107 United States;X-APPLE-RADIUS=500;X-TITLE=2515 W. 46th St.:geo:-96.0220232,36.0974457
END:VEVENT
BEGIN:VEVENT
DTSTART;TZID=America/Chicago:20190904T153000
DTEND;TZID=America/Chicago:20190904T163000
DTSTAMP:20260424T051425
CREATED:20190827T135942Z
LAST-MODIFIED:20190827T135942Z
UID:10008184-1567611000-1567614600@www.saintcatherineschool.org
SUMMARY:Math Tutoring
DESCRIPTION:Mrs. Crumlish will tutor kids in middle school in math after school on Wednesdays.
URL:https://www.saintcatherineschool.org/event/math-tutoring/2019-09-04
LOCATION:Mrs. Crumlish’s Room\, 2515 W. 46th St.\, Tulsa\, OK\, 74107\, United States
CATEGORIES:Saint Catherine School
ORGANIZER;CN="Vivian Crumlish":MAILTO:vcrumlish@saint-catherine.org
GEO:36.0974457;-96.0220232
X-APPLE-STRUCTURED-LOCATION;VALUE=URI;X-ADDRESS=Mrs. Crumlish’s Room 2515 W. 46th St. Tulsa OK 74107 United States;X-APPLE-RADIUS=500;X-TITLE=2515 W. 46th St.:geo:-96.0220232,36.0974457
END:VEVENT
END:VCALENDAR