BEGIN:VCALENDAR
VERSION:2.0
PRODID:-//Saint Catherine of Alexandria School - ECPv6.15.20//NONSGML v1.0//EN
CALSCALE:GREGORIAN
METHOD:PUBLISH
X-WR-CALNAME:Saint Catherine of Alexandria School
X-ORIGINAL-URL:https://www.saintcatherineschool.org
X-WR-CALDESC:Events for Saint Catherine of Alexandria School
REFRESH-INTERVAL;VALUE=DURATION:PT1H
X-Robots-Tag:noindex
X-PUBLISHED-TTL:PT1H
BEGIN:VTIMEZONE
TZID:America/Chicago
BEGIN:DAYLIGHT
TZOFFSETFROM:-0600
TZOFFSETTO:-0500
TZNAME:CDT
DTSTART:20200308T080000
END:DAYLIGHT
BEGIN:STANDARD
TZOFFSETFROM:-0500
TZOFFSETTO:-0600
TZNAME:CST
DTSTART:20201101T070000
END:STANDARD
BEGIN:DAYLIGHT
TZOFFSETFROM:-0600
TZOFFSETTO:-0500
TZNAME:CDT
DTSTART:20210314T080000
END:DAYLIGHT
BEGIN:STANDARD
TZOFFSETFROM:-0500
TZOFFSETTO:-0600
TZNAME:CST
DTSTART:20211107T070000
END:STANDARD
BEGIN:DAYLIGHT
TZOFFSETFROM:-0600
TZOFFSETTO:-0500
TZNAME:CDT
DTSTART:20220313T080000
END:DAYLIGHT
BEGIN:STANDARD
TZOFFSETFROM:-0500
TZOFFSETTO:-0600
TZNAME:CST
DTSTART:20221106T070000
END:STANDARD
BEGIN:DAYLIGHT
TZOFFSETFROM:-0600
TZOFFSETTO:-0500
TZNAME:CDT
DTSTART:20230312T080000
END:DAYLIGHT
BEGIN:STANDARD
TZOFFSETFROM:-0500
TZOFFSETTO:-0600
TZNAME:CST
DTSTART:20231105T070000
END:STANDARD
BEGIN:DAYLIGHT
TZOFFSETFROM:-0600
TZOFFSETTO:-0500
TZNAME:CDT
DTSTART:20240310T080000
END:DAYLIGHT
BEGIN:STANDARD
TZOFFSETFROM:-0500
TZOFFSETTO:-0600
TZNAME:CST
DTSTART:20241103T070000
END:STANDARD
END:VTIMEZONE
BEGIN:VEVENT
DTSTART;TZID=America/Chicago:20230627T153000
DTEND;TZID=America/Chicago:20230627T163000
DTSTAMP:20260423T214618
CREATED:20180816T212032Z
LAST-MODIFIED:20180816T212032Z
UID:10007872-1687879800-1687883400@www.saintcatherineschool.org
SUMMARY:Faculty Meeting
DESCRIPTION:The faculty of Saint Catherine will have their monthly faculty meeting today after school at 3:30 in Mrs. Reid’s room.
URL:https://www.saintcatherineschool.org/event/faculty-meeting-6/2023-06-27
LOCATION:Mrs. Reid’s classroom
CATEGORIES:Church of Saint Catherine,Saint Catherine School
ORGANIZER;CN="Michelle Anthamatten":MAILTO:manthamatten@saint-catherine.org
END:VEVENT
BEGIN:VEVENT
DTSTART;TZID=America/Chicago:20230527T153000
DTEND;TZID=America/Chicago:20230527T163000
DTSTAMP:20260423T214618
CREATED:20180816T212032Z
LAST-MODIFIED:20180816T212032Z
UID:10007871-1685201400-1685205000@www.saintcatherineschool.org
SUMMARY:Faculty Meeting
DESCRIPTION:The faculty of Saint Catherine will have their monthly faculty meeting today after school at 3:30 in Mrs. Reid’s room.
URL:https://www.saintcatherineschool.org/event/faculty-meeting-6/2023-05-27
LOCATION:Mrs. Reid’s classroom
CATEGORIES:Church of Saint Catherine,Saint Catherine School
ORGANIZER;CN="Michelle Anthamatten":MAILTO:manthamatten@saint-catherine.org
END:VEVENT
BEGIN:VEVENT
DTSTART;TZID=America/Chicago:20230427T153000
DTEND;TZID=America/Chicago:20230427T163000
DTSTAMP:20260423T214618
CREATED:20180816T212032Z
LAST-MODIFIED:20180816T212032Z
UID:10007870-1682609400-1682613000@www.saintcatherineschool.org
SUMMARY:Faculty Meeting
DESCRIPTION:The faculty of Saint Catherine will have their monthly faculty meeting today after school at 3:30 in Mrs. Reid’s room.
URL:https://www.saintcatherineschool.org/event/faculty-meeting-6/2023-04-27
LOCATION:Mrs. Reid’s classroom
CATEGORIES:Church of Saint Catherine,Saint Catherine School
ORGANIZER;CN="Michelle Anthamatten":MAILTO:manthamatten@saint-catherine.org
END:VEVENT
BEGIN:VEVENT
DTSTART;TZID=America/Chicago:20230327T153000
DTEND;TZID=America/Chicago:20230327T163000
DTSTAMP:20260423T214618
CREATED:20180816T212032Z
LAST-MODIFIED:20180816T212032Z
UID:10007869-1679931000-1679934600@www.saintcatherineschool.org
SUMMARY:Faculty Meeting
DESCRIPTION:The faculty of Saint Catherine will have their monthly faculty meeting today after school at 3:30 in Mrs. Reid’s room.
URL:https://www.saintcatherineschool.org/event/faculty-meeting-6/2023-03-27
LOCATION:Mrs. Reid’s classroom
CATEGORIES:Church of Saint Catherine,Saint Catherine School
ORGANIZER;CN="Michelle Anthamatten":MAILTO:manthamatten@saint-catherine.org
END:VEVENT
BEGIN:VEVENT
DTSTART;TZID=America/Chicago:20230227T153000
DTEND;TZID=America/Chicago:20230227T163000
DTSTAMP:20260423T214618
CREATED:20180816T212032Z
LAST-MODIFIED:20180816T212032Z
UID:10007868-1677511800-1677515400@www.saintcatherineschool.org
SUMMARY:Faculty Meeting
DESCRIPTION:The faculty of Saint Catherine will have their monthly faculty meeting today after school at 3:30 in Mrs. Reid’s room.
URL:https://www.saintcatherineschool.org/event/faculty-meeting-6/2023-02-27
LOCATION:Mrs. Reid’s classroom
CATEGORIES:Church of Saint Catherine,Saint Catherine School
ORGANIZER;CN="Michelle Anthamatten":MAILTO:manthamatten@saint-catherine.org
END:VEVENT
BEGIN:VEVENT
DTSTART;TZID=America/Chicago:20230127T153000
DTEND;TZID=America/Chicago:20230127T163000
DTSTAMP:20260423T214618
CREATED:20180816T212032Z
LAST-MODIFIED:20180816T212032Z
UID:10007867-1674833400-1674837000@www.saintcatherineschool.org
SUMMARY:Faculty Meeting
DESCRIPTION:The faculty of Saint Catherine will have their monthly faculty meeting today after school at 3:30 in Mrs. Reid’s room.
URL:https://www.saintcatherineschool.org/event/faculty-meeting-6/2023-01-27
LOCATION:Mrs. Reid’s classroom
CATEGORIES:Church of Saint Catherine,Saint Catherine School
ORGANIZER;CN="Michelle Anthamatten":MAILTO:manthamatten@saint-catherine.org
END:VEVENT
BEGIN:VEVENT
DTSTART;TZID=America/Chicago:20221227T153000
DTEND;TZID=America/Chicago:20221227T163000
DTSTAMP:20260423T214618
CREATED:20180816T212032Z
LAST-MODIFIED:20180816T212032Z
UID:10007866-1672155000-1672158600@www.saintcatherineschool.org
SUMMARY:Faculty Meeting
DESCRIPTION:The faculty of Saint Catherine will have their monthly faculty meeting today after school at 3:30 in Mrs. Reid’s room.
URL:https://www.saintcatherineschool.org/event/faculty-meeting-6/2022-12-27
LOCATION:Mrs. Reid’s classroom
CATEGORIES:Church of Saint Catherine,Saint Catherine School
ORGANIZER;CN="Michelle Anthamatten":MAILTO:manthamatten@saint-catherine.org
END:VEVENT
BEGIN:VEVENT
DTSTART;TZID=America/Chicago:20221127T153000
DTEND;TZID=America/Chicago:20221127T163000
DTSTAMP:20260423T214618
CREATED:20180816T212032Z
LAST-MODIFIED:20180816T212032Z
UID:10007865-1669563000-1669566600@www.saintcatherineschool.org
SUMMARY:Faculty Meeting
DESCRIPTION:The faculty of Saint Catherine will have their monthly faculty meeting today after school at 3:30 in Mrs. Reid’s room.
URL:https://www.saintcatherineschool.org/event/faculty-meeting-6/2022-11-27
LOCATION:Mrs. Reid’s classroom
CATEGORIES:Church of Saint Catherine,Saint Catherine School
ORGANIZER;CN="Michelle Anthamatten":MAILTO:manthamatten@saint-catherine.org
END:VEVENT
BEGIN:VEVENT
DTSTART;TZID=America/Chicago:20221027T153000
DTEND;TZID=America/Chicago:20221027T163000
DTSTAMP:20260423T214618
CREATED:20180816T212032Z
LAST-MODIFIED:20180816T212032Z
UID:10007864-1666884600-1666888200@www.saintcatherineschool.org
SUMMARY:Faculty Meeting
DESCRIPTION:The faculty of Saint Catherine will have their monthly faculty meeting today after school at 3:30 in Mrs. Reid’s room.
URL:https://www.saintcatherineschool.org/event/faculty-meeting-6/2022-10-27
LOCATION:Mrs. Reid’s classroom
CATEGORIES:Church of Saint Catherine,Saint Catherine School
ORGANIZER;CN="Michelle Anthamatten":MAILTO:manthamatten@saint-catherine.org
END:VEVENT
BEGIN:VEVENT
DTSTART;TZID=America/Chicago:20220927T153000
DTEND;TZID=America/Chicago:20220927T163000
DTSTAMP:20260423T214618
CREATED:20180816T212032Z
LAST-MODIFIED:20180816T212032Z
UID:10007863-1664292600-1664296200@www.saintcatherineschool.org
SUMMARY:Faculty Meeting
DESCRIPTION:The faculty of Saint Catherine will have their monthly faculty meeting today after school at 3:30 in Mrs. Reid’s room.
URL:https://www.saintcatherineschool.org/event/faculty-meeting-6/2022-09-27
LOCATION:Mrs. Reid’s classroom
CATEGORIES:Church of Saint Catherine,Saint Catherine School
ORGANIZER;CN="Michelle Anthamatten":MAILTO:manthamatten@saint-catherine.org
END:VEVENT
BEGIN:VEVENT
DTSTART;TZID=America/Chicago:20220827T153000
DTEND;TZID=America/Chicago:20220827T163000
DTSTAMP:20260423T214618
CREATED:20180816T212032Z
LAST-MODIFIED:20180816T212032Z
UID:10007862-1661614200-1661617800@www.saintcatherineschool.org
SUMMARY:Faculty Meeting
DESCRIPTION:The faculty of Saint Catherine will have their monthly faculty meeting today after school at 3:30 in Mrs. Reid’s room.
URL:https://www.saintcatherineschool.org/event/faculty-meeting-6/2022-08-27
LOCATION:Mrs. Reid’s classroom
CATEGORIES:Church of Saint Catherine,Saint Catherine School
ORGANIZER;CN="Michelle Anthamatten":MAILTO:manthamatten@saint-catherine.org
END:VEVENT
BEGIN:VEVENT
DTSTART;TZID=America/Chicago:20220727T153000
DTEND;TZID=America/Chicago:20220727T163000
DTSTAMP:20260423T214618
CREATED:20180816T212032Z
LAST-MODIFIED:20180816T212032Z
UID:10007861-1658935800-1658939400@www.saintcatherineschool.org
SUMMARY:Faculty Meeting
DESCRIPTION:The faculty of Saint Catherine will have their monthly faculty meeting today after school at 3:30 in Mrs. Reid’s room.
URL:https://www.saintcatherineschool.org/event/faculty-meeting-6/2022-07-27
LOCATION:Mrs. Reid’s classroom
CATEGORIES:Church of Saint Catherine,Saint Catherine School
ORGANIZER;CN="Michelle Anthamatten":MAILTO:manthamatten@saint-catherine.org
END:VEVENT
BEGIN:VEVENT
DTSTART;TZID=America/Chicago:20220627T153000
DTEND;TZID=America/Chicago:20220627T163000
DTSTAMP:20260423T214618
CREATED:20180816T212032Z
LAST-MODIFIED:20180816T212032Z
UID:10007860-1656343800-1656347400@www.saintcatherineschool.org
SUMMARY:Faculty Meeting
DESCRIPTION:The faculty of Saint Catherine will have their monthly faculty meeting today after school at 3:30 in Mrs. Reid’s room.
URL:https://www.saintcatherineschool.org/event/faculty-meeting-6/2022-06-27
LOCATION:Mrs. Reid’s classroom
CATEGORIES:Church of Saint Catherine,Saint Catherine School
ORGANIZER;CN="Michelle Anthamatten":MAILTO:manthamatten@saint-catherine.org
END:VEVENT
BEGIN:VEVENT
DTSTART;TZID=America/Chicago:20220527T153000
DTEND;TZID=America/Chicago:20220527T163000
DTSTAMP:20260423T214618
CREATED:20180816T212032Z
LAST-MODIFIED:20180816T212032Z
UID:10007859-1653665400-1653669000@www.saintcatherineschool.org
SUMMARY:Faculty Meeting
DESCRIPTION:The faculty of Saint Catherine will have their monthly faculty meeting today after school at 3:30 in Mrs. Reid’s room.
URL:https://www.saintcatherineschool.org/event/faculty-meeting-6/2022-05-27
LOCATION:Mrs. Reid’s classroom
CATEGORIES:Church of Saint Catherine,Saint Catherine School
ORGANIZER;CN="Michelle Anthamatten":MAILTO:manthamatten@saint-catherine.org
END:VEVENT
BEGIN:VEVENT
DTSTART;TZID=America/Chicago:20220427T153000
DTEND;TZID=America/Chicago:20220427T163000
DTSTAMP:20260423T214618
CREATED:20180816T212032Z
LAST-MODIFIED:20180816T212032Z
UID:10007858-1651073400-1651077000@www.saintcatherineschool.org
SUMMARY:Faculty Meeting
DESCRIPTION:The faculty of Saint Catherine will have their monthly faculty meeting today after school at 3:30 in Mrs. Reid’s room.
URL:https://www.saintcatherineschool.org/event/faculty-meeting-6/2022-04-27
LOCATION:Mrs. Reid’s classroom
CATEGORIES:Church of Saint Catherine,Saint Catherine School
ORGANIZER;CN="Michelle Anthamatten":MAILTO:manthamatten@saint-catherine.org
END:VEVENT
BEGIN:VEVENT
DTSTART;TZID=America/Chicago:20220328T153000
DTEND;TZID=America/Chicago:20220328T163000
DTSTAMP:20260423T214618
CREATED:20220304T211426Z
LAST-MODIFIED:20220304T211426Z
UID:10007779-1648481400-1648485000@www.saintcatherineschool.org
SUMMARY:Faculty Meeting
DESCRIPTION:
URL:https://www.saintcatherineschool.org/event/faculty-meeting-33
LOCATION:Mrs. Reid’s classroom
CATEGORIES:Church of Saint Catherine,Saint Catherine School
ORGANIZER;CN="Michelle Anthamatten":MAILTO:manthamatten@saint-catherine.org
END:VEVENT
BEGIN:VEVENT
DTSTART;TZID=America/Chicago:20220327T153000
DTEND;TZID=America/Chicago:20220327T163000
DTSTAMP:20260423T214618
CREATED:20180816T212032Z
LAST-MODIFIED:20180816T212032Z
UID:10007857-1648395000-1648398600@www.saintcatherineschool.org
SUMMARY:Faculty Meeting
DESCRIPTION:The faculty of Saint Catherine will have their monthly faculty meeting today after school at 3:30 in Mrs. Reid’s room.
URL:https://www.saintcatherineschool.org/event/faculty-meeting-6/2022-03-27
LOCATION:Mrs. Reid’s classroom
CATEGORIES:Church of Saint Catherine,Saint Catherine School
ORGANIZER;CN="Michelle Anthamatten":MAILTO:manthamatten@saint-catherine.org
END:VEVENT
BEGIN:VEVENT
DTSTART;TZID=America/Chicago:20220227T153000
DTEND;TZID=America/Chicago:20220227T163000
DTSTAMP:20260423T214618
CREATED:20180816T212032Z
LAST-MODIFIED:20180816T212032Z
UID:10007856-1645975800-1645979400@www.saintcatherineschool.org
SUMMARY:Faculty Meeting
DESCRIPTION:The faculty of Saint Catherine will have their monthly faculty meeting today after school at 3:30 in Mrs. Reid’s room.
URL:https://www.saintcatherineschool.org/event/faculty-meeting-6/2022-02-27
LOCATION:Mrs. Reid’s classroom
CATEGORIES:Church of Saint Catherine,Saint Catherine School
ORGANIZER;CN="Michelle Anthamatten":MAILTO:manthamatten@saint-catherine.org
END:VEVENT
BEGIN:VEVENT
DTSTART;TZID=America/Chicago:20220127T153000
DTEND;TZID=America/Chicago:20220127T163000
DTSTAMP:20260423T214618
CREATED:20180816T212032Z
LAST-MODIFIED:20180816T212032Z
UID:10007855-1643297400-1643301000@www.saintcatherineschool.org
SUMMARY:Faculty Meeting
DESCRIPTION:The faculty of Saint Catherine will have their monthly faculty meeting today after school at 3:30 in Mrs. Reid’s room.
URL:https://www.saintcatherineschool.org/event/faculty-meeting-6/2022-01-27
LOCATION:Mrs. Reid’s classroom
CATEGORIES:Church of Saint Catherine,Saint Catherine School
ORGANIZER;CN="Michelle Anthamatten":MAILTO:manthamatten@saint-catherine.org
END:VEVENT
BEGIN:VEVENT
DTSTART;TZID=America/Chicago:20211227T153000
DTEND;TZID=America/Chicago:20211227T163000
DTSTAMP:20260423T214618
CREATED:20180816T212032Z
LAST-MODIFIED:20180816T212032Z
UID:10007854-1640619000-1640622600@www.saintcatherineschool.org
SUMMARY:Faculty Meeting
DESCRIPTION:The faculty of Saint Catherine will have their monthly faculty meeting today after school at 3:30 in Mrs. Reid’s room.
URL:https://www.saintcatherineschool.org/event/faculty-meeting-6/2021-12-27
LOCATION:Mrs. Reid’s classroom
CATEGORIES:Church of Saint Catherine,Saint Catherine School
ORGANIZER;CN="Michelle Anthamatten":MAILTO:manthamatten@saint-catherine.org
END:VEVENT
BEGIN:VEVENT
DTSTART;TZID=America/Chicago:20211127T153000
DTEND;TZID=America/Chicago:20211127T163000
DTSTAMP:20260423T214618
CREATED:20180816T212032Z
LAST-MODIFIED:20180816T212032Z
UID:10007853-1638027000-1638030600@www.saintcatherineschool.org
SUMMARY:Faculty Meeting
DESCRIPTION:The faculty of Saint Catherine will have their monthly faculty meeting today after school at 3:30 in Mrs. Reid’s room.
URL:https://www.saintcatherineschool.org/event/faculty-meeting-6/2021-11-27
LOCATION:Mrs. Reid’s classroom
CATEGORIES:Church of Saint Catherine,Saint Catherine School
ORGANIZER;CN="Michelle Anthamatten":MAILTO:manthamatten@saint-catherine.org
END:VEVENT
BEGIN:VEVENT
DTSTART;TZID=America/Chicago:20211027T153000
DTEND;TZID=America/Chicago:20211027T163000
DTSTAMP:20260423T214618
CREATED:20180816T212032Z
LAST-MODIFIED:20180816T212032Z
UID:10007852-1635348600-1635352200@www.saintcatherineschool.org
SUMMARY:Faculty Meeting
DESCRIPTION:The faculty of Saint Catherine will have their monthly faculty meeting today after school at 3:30 in Mrs. Reid’s room.
URL:https://www.saintcatherineschool.org/event/faculty-meeting-6/2021-10-27
LOCATION:Mrs. Reid’s classroom
CATEGORIES:Church of Saint Catherine,Saint Catherine School
ORGANIZER;CN="Michelle Anthamatten":MAILTO:manthamatten@saint-catherine.org
END:VEVENT
BEGIN:VEVENT
DTSTART;TZID=America/Chicago:20210927T153000
DTEND;TZID=America/Chicago:20210927T163000
DTSTAMP:20260423T214618
CREATED:20180816T212032Z
LAST-MODIFIED:20180816T212032Z
UID:10007851-1632756600-1632760200@www.saintcatherineschool.org
SUMMARY:Faculty Meeting
DESCRIPTION:The faculty of Saint Catherine will have their monthly faculty meeting today after school at 3:30 in Mrs. Reid’s room.
URL:https://www.saintcatherineschool.org/event/faculty-meeting-6/2021-09-27
LOCATION:Mrs. Reid’s classroom
CATEGORIES:Church of Saint Catherine,Saint Catherine School
ORGANIZER;CN="Michelle Anthamatten":MAILTO:manthamatten@saint-catherine.org
END:VEVENT
BEGIN:VEVENT
DTSTART;TZID=America/Chicago:20210827T153000
DTEND;TZID=America/Chicago:20210827T163000
DTSTAMP:20260423T214618
CREATED:20180816T212032Z
LAST-MODIFIED:20180816T212032Z
UID:10007850-1630078200-1630081800@www.saintcatherineschool.org
SUMMARY:Faculty Meeting
DESCRIPTION:The faculty of Saint Catherine will have their monthly faculty meeting today after school at 3:30 in Mrs. Reid’s room.
URL:https://www.saintcatherineschool.org/event/faculty-meeting-6/2021-08-27
LOCATION:Mrs. Reid’s classroom
CATEGORIES:Church of Saint Catherine,Saint Catherine School
ORGANIZER;CN="Michelle Anthamatten":MAILTO:manthamatten@saint-catherine.org
END:VEVENT
BEGIN:VEVENT
DTSTART;TZID=America/Chicago:20210727T153000
DTEND;TZID=America/Chicago:20210727T163000
DTSTAMP:20260423T214619
CREATED:20180816T212032Z
LAST-MODIFIED:20180816T212032Z
UID:10007849-1627399800-1627403400@www.saintcatherineschool.org
SUMMARY:Faculty Meeting
DESCRIPTION:The faculty of Saint Catherine will have their monthly faculty meeting today after school at 3:30 in Mrs. Reid’s room.
URL:https://www.saintcatherineschool.org/event/faculty-meeting-6/2021-07-27
LOCATION:Mrs. Reid’s classroom
CATEGORIES:Church of Saint Catherine,Saint Catherine School
ORGANIZER;CN="Michelle Anthamatten":MAILTO:manthamatten@saint-catherine.org
END:VEVENT
BEGIN:VEVENT
DTSTART;TZID=America/Chicago:20210627T153000
DTEND;TZID=America/Chicago:20210627T163000
DTSTAMP:20260423T214619
CREATED:20180816T212032Z
LAST-MODIFIED:20180816T212032Z
UID:10007848-1624807800-1624811400@www.saintcatherineschool.org
SUMMARY:Faculty Meeting
DESCRIPTION:The faculty of Saint Catherine will have their monthly faculty meeting today after school at 3:30 in Mrs. Reid’s room.
URL:https://www.saintcatherineschool.org/event/faculty-meeting-6/2021-06-27
LOCATION:Mrs. Reid’s classroom
CATEGORIES:Church of Saint Catherine,Saint Catherine School
ORGANIZER;CN="Michelle Anthamatten":MAILTO:manthamatten@saint-catherine.org
END:VEVENT
BEGIN:VEVENT
DTSTART;TZID=America/Chicago:20210527T153000
DTEND;TZID=America/Chicago:20210527T163000
DTSTAMP:20260423T214619
CREATED:20180816T212032Z
LAST-MODIFIED:20180816T212032Z
UID:10007847-1622129400-1622133000@www.saintcatherineschool.org
SUMMARY:Faculty Meeting
DESCRIPTION:The faculty of Saint Catherine will have their monthly faculty meeting today after school at 3:30 in Mrs. Reid’s room.
URL:https://www.saintcatherineschool.org/event/faculty-meeting-6/2021-05-27
LOCATION:Mrs. Reid’s classroom
CATEGORIES:Church of Saint Catherine,Saint Catherine School
ORGANIZER;CN="Michelle Anthamatten":MAILTO:manthamatten@saint-catherine.org
END:VEVENT
BEGIN:VEVENT
DTSTART;TZID=America/Chicago:20210524T154500
DTEND;TZID=America/Chicago:20210524T164500
DTSTAMP:20260423T214619
CREATED:20210512T142858Z
LAST-MODIFIED:20210512T142858Z
UID:10007625-1621871100-1621874700@www.saintcatherineschool.org
SUMMARY:Faculty Meeting
DESCRIPTION:The faculty will meet in Mrs. Reid’s room after school.
URL:https://www.saintcatherineschool.org/event/faculty-meeting-28
LOCATION:Mrs. Reid’s classroom
CATEGORIES:Saint Catherine School
ORGANIZER;CN="Michelle Anthamatten":MAILTO:manthamatten@saint-catherine.org
END:VEVENT
BEGIN:VEVENT
DTSTART;TZID=America/Chicago:20210427T153000
DTEND;TZID=America/Chicago:20210427T163000
DTSTAMP:20260423T214619
CREATED:20180816T212032Z
LAST-MODIFIED:20180816T212032Z
UID:10007846-1619537400-1619541000@www.saintcatherineschool.org
SUMMARY:Faculty Meeting
DESCRIPTION:The faculty of Saint Catherine will have their monthly faculty meeting today after school at 3:30 in Mrs. Reid’s room.
URL:https://www.saintcatherineschool.org/event/faculty-meeting-6/2021-04-27
LOCATION:Mrs. Reid’s classroom
CATEGORIES:Church of Saint Catherine,Saint Catherine School
ORGANIZER;CN="Michelle Anthamatten":MAILTO:manthamatten@saint-catherine.org
END:VEVENT
BEGIN:VEVENT
DTSTART;TZID=America/Chicago:20210327T153000
DTEND;TZID=America/Chicago:20210327T163000
DTSTAMP:20260423T214619
CREATED:20180816T212032Z
LAST-MODIFIED:20180816T212032Z
UID:10007845-1616859000-1616862600@www.saintcatherineschool.org
SUMMARY:Faculty Meeting
DESCRIPTION:The faculty of Saint Catherine will have their monthly faculty meeting today after school at 3:30 in Mrs. Reid’s room.
URL:https://www.saintcatherineschool.org/event/faculty-meeting-6/2021-03-27
LOCATION:Mrs. Reid’s classroom
CATEGORIES:Church of Saint Catherine,Saint Catherine School
ORGANIZER;CN="Michelle Anthamatten":MAILTO:manthamatten@saint-catherine.org
END:VEVENT
END:VCALENDAR