BEGIN:VCALENDAR
VERSION:2.0
PRODID:-//Saint Catherine of Alexandria School - ECPv6.15.20//NONSGML v1.0//EN
CALSCALE:GREGORIAN
METHOD:PUBLISH
X-ORIGINAL-URL:https://www.saintcatherineschool.org
X-WR-CALDESC:Events for Saint Catherine of Alexandria School
REFRESH-INTERVAL;VALUE=DURATION:PT1H
X-Robots-Tag:noindex
X-PUBLISHED-TTL:PT1H
BEGIN:VTIMEZONE
TZID:America/Chicago
BEGIN:DAYLIGHT
TZOFFSETFROM:-0600
TZOFFSETTO:-0500
TZNAME:CDT
DTSTART:20160313T080000
END:DAYLIGHT
BEGIN:STANDARD
TZOFFSETFROM:-0500
TZOFFSETTO:-0600
TZNAME:CST
DTSTART:20161106T070000
END:STANDARD
BEGIN:DAYLIGHT
TZOFFSETFROM:-0600
TZOFFSETTO:-0500
TZNAME:CDT
DTSTART:20170312T080000
END:DAYLIGHT
BEGIN:STANDARD
TZOFFSETFROM:-0500
TZOFFSETTO:-0600
TZNAME:CST
DTSTART:20171105T070000
END:STANDARD
BEGIN:DAYLIGHT
TZOFFSETFROM:-0600
TZOFFSETTO:-0500
TZNAME:CDT
DTSTART:20180311T080000
END:DAYLIGHT
BEGIN:STANDARD
TZOFFSETFROM:-0500
TZOFFSETTO:-0600
TZNAME:CST
DTSTART:20181104T070000
END:STANDARD
BEGIN:DAYLIGHT
TZOFFSETFROM:-0600
TZOFFSETTO:-0500
TZNAME:CDT
DTSTART:20190310T080000
END:DAYLIGHT
BEGIN:STANDARD
TZOFFSETFROM:-0500
TZOFFSETTO:-0600
TZNAME:CST
DTSTART:20191103T070000
END:STANDARD
END:VTIMEZONE
BEGIN:VEVENT
DTSTART;TZID=America/Chicago:20181106T180000
DTEND;TZID=America/Chicago:20181106T193000
DTSTAMP:20260424T150153
CREATED:20181029T165442Z
LAST-MODIFIED:20181029T165442Z
UID:10007460-1541527200-1541532600@www.saintcatherineschool.org
SUMMARY:School Advisory Council
DESCRIPTION:The School Advisory Council will have a meeting in the school at 6pm.
URL:https://www.saintcatherineschool.org/event/school-advisory-council
LOCATION:Mrs. Reid’s classroom
CATEGORIES:Saint Catherine School
ORGANIZER;CN="Michelle Anthamatten":MAILTO:manthamatten@saint-catherine.org
END:VEVENT
BEGIN:VEVENT
DTSTART;TZID=America/Chicago:20181105T153000
DTEND;TZID=America/Chicago:20181105T163000
DTSTAMP:20260424T150153
CREATED:20181029T165300Z
LAST-MODIFIED:20181101T180104Z
UID:10007461-1541431800-1541435400@www.saintcatherineschool.org
SUMMARY:Home and School Meeting
DESCRIPTION:Home and School will have a meeting at 6pm in the school.  Everyone is invited to come.
URL:https://www.saintcatherineschool.org/event/home-and-school-meeting-12
LOCATION:Mrs. Reid’s classroom
CATEGORIES:Saint Catherine School
END:VEVENT
BEGIN:VEVENT
DTSTART;TZID=America/Chicago:20181029T153000
DTEND;TZID=America/Chicago:20181029T163000
DTSTAMP:20260424T150153
CREATED:20180817T194156Z
LAST-MODIFIED:20180817T194156Z
UID:10007353-1540827000-1540830600@www.saintcatherineschool.org
SUMMARY:Faculty Meeting
DESCRIPTION:The faculty will meet in Mrs. Reid’s room at 3:30.
URL:https://www.saintcatherineschool.org/event/faculty-meeting-8
LOCATION:Mrs. Reid’s classroom
CATEGORIES:Church of Saint Catherine,Saint Catherine School
ORGANIZER;CN="Michelle Anthamatten":MAILTO:manthamatten@saint-catherine.org
END:VEVENT
BEGIN:VEVENT
DTSTART;TZID=America/Chicago:20181027T153000
DTEND;TZID=America/Chicago:20181027T163000
DTSTAMP:20260424T150153
CREATED:20180816T212032Z
LAST-MODIFIED:20180816T212032Z
UID:10007816-1540654200-1540657800@www.saintcatherineschool.org
SUMMARY:Faculty Meeting
DESCRIPTION:The faculty of Saint Catherine will have their monthly faculty meeting today after school at 3:30 in Mrs. Reid’s room.
URL:https://www.saintcatherineschool.org/event/faculty-meeting-6/2018-10-27
LOCATION:Mrs. Reid’s classroom
CATEGORIES:Church of Saint Catherine,Saint Catherine School
ORGANIZER;CN="Michelle Anthamatten":MAILTO:manthamatten@saint-catherine.org
END:VEVENT
BEGIN:VEVENT
DTSTART;TZID=America/Chicago:20181002T180000
DTEND;TZID=America/Chicago:20181002T193000
DTSTAMP:20260424T150153
CREATED:20181002T175007Z
LAST-MODIFIED:20181002T175007Z
UID:10005301-1538503200-1538508600@www.saintcatherineschool.org
SUMMARY:School Advisory Meeting
DESCRIPTION:The School Advisory Committee will make at 6pm in the reading room at the school.
URL:https://www.saintcatherineschool.org/event/school-advisory-meeting-11
LOCATION:Mrs. Reid’s classroom
CATEGORIES:Church of Saint Catherine,Saint Catherine School
ORGANIZER;CN="Michelle Anthamatten":MAILTO:manthamatten@saint-catherine.org
END:VEVENT
BEGIN:VEVENT
DTSTART;TZID=America/Chicago:20180927T153000
DTEND;TZID=America/Chicago:20180927T163000
DTSTAMP:20260424T150153
CREATED:20180816T212032Z
LAST-MODIFIED:20180816T212032Z
UID:10007815-1538062200-1538065800@www.saintcatherineschool.org
SUMMARY:Faculty Meeting
DESCRIPTION:The faculty of Saint Catherine will have their monthly faculty meeting today after school at 3:30 in Mrs. Reid’s room.
URL:https://www.saintcatherineschool.org/event/faculty-meeting-6/2018-09-27
LOCATION:Mrs. Reid’s classroom
CATEGORIES:Church of Saint Catherine,Saint Catherine School
ORGANIZER;CN="Michelle Anthamatten":MAILTO:manthamatten@saint-catherine.org
END:VEVENT
BEGIN:VEVENT
DTSTART;TZID=America/Chicago:20180924T153000
DTEND;TZID=America/Chicago:20180924T163000
DTSTAMP:20260424T150153
CREATED:20180816T215258Z
LAST-MODIFIED:20180816T215258Z
UID:10005263-1537803000-1537806600@www.saintcatherineschool.org
SUMMARY:Faculty Meeting
DESCRIPTION:The faculty will have their monthly meeting in Mrs. Reid’s room at 3:30.
URL:https://www.saintcatherineschool.org/event/faculty-meeting-7
LOCATION:Mrs. Reid’s classroom
CATEGORIES:Church of Saint Catherine,Saint Catherine School
ORGANIZER;CN="Michelle Anthamatten":MAILTO:manthamatten@saint-catherine.org
END:VEVENT
BEGIN:VEVENT
DTSTART;TZID=America/Chicago:20180910T180000
DTEND;TZID=America/Chicago:20180910T193000
DTSTAMP:20260424T150153
CREATED:20180816T213255Z
LAST-MODIFIED:20180816T213255Z
UID:10007372-1536602400-1536607800@www.saintcatherineschool.org
SUMMARY:Home and School Meeting
DESCRIPTION:Home and School will have a meeting in Mrs. Reid’s classroom at 6pm.  All parents are invited to attend.  This is a great way to get service hours.
URL:https://www.saintcatherineschool.org/event/home-and-school-meeting-11
LOCATION:Mrs. Reid’s classroom
CATEGORIES:Church of Saint Catherine,Saint Catherine School
END:VEVENT
BEGIN:VEVENT
DTSTART;TZID=America/Chicago:20180827T153000
DTEND;TZID=America/Chicago:20180827T163000
DTSTAMP:20260424T150153
CREATED:20180816T212032Z
LAST-MODIFIED:20180816T212032Z
UID:10007814-1535383800-1535387400@www.saintcatherineschool.org
SUMMARY:Faculty Meeting
DESCRIPTION:The faculty of Saint Catherine will have their monthly faculty meeting today after school at 3:30 in Mrs. Reid’s room.
URL:https://www.saintcatherineschool.org/event/faculty-meeting-6/2018-08-27
LOCATION:Mrs. Reid’s classroom
CATEGORIES:Church of Saint Catherine,Saint Catherine School
ORGANIZER;CN="Michelle Anthamatten":MAILTO:manthamatten@saint-catherine.org
END:VEVENT
BEGIN:VEVENT
DTSTART;TZID=America/Chicago:20180507T180000
DTEND;TZID=America/Chicago:20180507T190000
DTSTAMP:20260424T150153
CREATED:20180501T200358Z
LAST-MODIFIED:20180501T200358Z
UID:10007195-1525716000-1525719600@www.saintcatherineschool.org
SUMMARY:Home and School Meeting
DESCRIPTION:The Home and School Association will meet in the school at 6pm.
URL:https://www.saintcatherineschool.org/event/home-and-school-meeting-10
LOCATION:Mrs. Reid’s classroom
CATEGORIES:Saint Catherine School
END:VEVENT
BEGIN:VEVENT
DTSTART;TZID=America/Chicago:20180430T153000
DTEND;TZID=America/Chicago:20180430T163000
DTSTAMP:20260424T150153
CREATED:20180328T213131Z
LAST-MODIFIED:20180328T213131Z
UID:10007041-1525102200-1525105800@www.saintcatherineschool.org
SUMMARY:Faculty Meeting
DESCRIPTION:The Faculty will meet in Mrs. Reid’s room for their monthly meeting.
URL:https://www.saintcatherineschool.org/event/faculty-meeting-5
LOCATION:Mrs. Reid’s classroom
CATEGORIES:Saint Catherine School
ORGANIZER;CN="Michelle Anthamatten":MAILTO:manthamatten@saint-catherine.org
END:VEVENT
BEGIN:VEVENT
DTSTART;TZID=America/Chicago:20180409T180000
DTEND;TZID=America/Chicago:20180409T193000
DTSTAMP:20260424T150153
CREATED:20180328T211230Z
LAST-MODIFIED:20180328T211230Z
UID:10005174-1523296800-1523302200@www.saintcatherineschool.org
SUMMARY:Home and School meeting
DESCRIPTION:Home and School will have a meeting at 6pm in the school.
URL:https://www.saintcatherineschool.org/event/home-and-school-meeting-9
LOCATION:Mrs. Reid’s classroom
CATEGORIES:Saint Catherine School
END:VEVENT
BEGIN:VEVENT
DTSTART;TZID=America/Chicago:20180129T093000
DTEND;TZID=America/Chicago:20180129T103000
DTSTAMP:20260424T150153
CREATED:20180104T094142Z
LAST-MODIFIED:20180104T094142Z
UID:10005140-1517218200-1517221800@www.saintcatherineschool.org
SUMMARY:Faculty Meeting
DESCRIPTION:The faculty meeting will be held in Mrs. Reid’s room at 3:30.
URL:https://www.saintcatherineschool.org/event/faculty-meeting-3
LOCATION:Mrs. Reid’s classroom
CATEGORIES:Saint Catherine School
ORGANIZER;CN="Michelle Anthamatten":MAILTO:manthamatten@saint-catherine.org
END:VEVENT
BEGIN:VEVENT
DTSTART;TZID=America/Chicago:20171030T103000
DTEND;TZID=America/Chicago:20171030T113000
DTSTAMP:20260424T150153
CREATED:20170927T061853Z
LAST-MODIFIED:20170927T061853Z
UID:10005065-1509359400-1509363000@www.saintcatherineschool.org
SUMMARY:Faculty Meeting
DESCRIPTION:There will be no Lego Club due to the faculty meeting at 3:30.
URL:https://www.saintcatherineschool.org/event/faculty-meeting
LOCATION:Mrs. Reid’s classroom
CATEGORIES:Saint Catherine School
END:VEVENT
BEGIN:VEVENT
DTSTART;TZID=America/Chicago:20170905T130000
DTEND;TZID=America/Chicago:20170905T143000
DTSTAMP:20260424T150153
CREATED:20170821T195540Z
LAST-MODIFIED:20170821T195540Z
UID:10005043-1504616400-1504621800@www.saintcatherineschool.org
SUMMARY:School Advisory Meeting
DESCRIPTION:
URL:https://www.saintcatherineschool.org/event/school-advisory-meeting-6
LOCATION:Mrs. Reid’s classroom
CATEGORIES:Church of Saint Catherine,Saint Catherine School
END:VEVENT
END:VCALENDAR