BEGIN:VCALENDAR
VERSION:2.0
PRODID:-//Saint Catherine of Alexandria School - ECPv6.15.20//NONSGML v1.0//EN
CALSCALE:GREGORIAN
METHOD:PUBLISH
X-WR-CALNAME:Saint Catherine of Alexandria School
X-ORIGINAL-URL:https://www.saintcatherineschool.org
X-WR-CALDESC:Events for Saint Catherine of Alexandria School
REFRESH-INTERVAL;VALUE=DURATION:PT1H
X-Robots-Tag:noindex
X-PUBLISHED-TTL:PT1H
BEGIN:VTIMEZONE
TZID:America/Chicago
BEGIN:DAYLIGHT
TZOFFSETFROM:-0600
TZOFFSETTO:-0500
TZNAME:CDT
DTSTART:20180311T080000
END:DAYLIGHT
BEGIN:STANDARD
TZOFFSETFROM:-0500
TZOFFSETTO:-0600
TZNAME:CST
DTSTART:20181104T070000
END:STANDARD
BEGIN:DAYLIGHT
TZOFFSETFROM:-0600
TZOFFSETTO:-0500
TZNAME:CDT
DTSTART:20190310T080000
END:DAYLIGHT
BEGIN:STANDARD
TZOFFSETFROM:-0500
TZOFFSETTO:-0600
TZNAME:CST
DTSTART:20191103T070000
END:STANDARD
BEGIN:DAYLIGHT
TZOFFSETFROM:-0600
TZOFFSETTO:-0500
TZNAME:CDT
DTSTART:20200308T080000
END:DAYLIGHT
BEGIN:STANDARD
TZOFFSETFROM:-0500
TZOFFSETTO:-0600
TZNAME:CST
DTSTART:20201101T070000
END:STANDARD
BEGIN:DAYLIGHT
TZOFFSETFROM:-0600
TZOFFSETTO:-0500
TZNAME:CDT
DTSTART:20210314T080000
END:DAYLIGHT
BEGIN:STANDARD
TZOFFSETFROM:-0500
TZOFFSETTO:-0600
TZNAME:CST
DTSTART:20211107T070000
END:STANDARD
BEGIN:DAYLIGHT
TZOFFSETFROM:-0600
TZOFFSETTO:-0500
TZNAME:CDT
DTSTART:20220313T080000
END:DAYLIGHT
BEGIN:STANDARD
TZOFFSETFROM:-0500
TZOFFSETTO:-0600
TZNAME:CST
DTSTART:20221106T070000
END:STANDARD
END:VTIMEZONE
BEGIN:VEVENT
DTSTART;TZID=America/Chicago:20210227T153000
DTEND;TZID=America/Chicago:20210227T163000
DTSTAMP:20260424T035107
CREATED:20180816T212032Z
LAST-MODIFIED:20180816T212032Z
UID:10007844-1614439800-1614443400@www.saintcatherineschool.org
SUMMARY:Faculty Meeting
DESCRIPTION:The faculty of Saint Catherine will have their monthly faculty meeting today after school at 3:30 in Mrs. Reid’s room.
URL:https://www.saintcatherineschool.org/event/faculty-meeting-6/2021-02-27
LOCATION:Mrs. Reid’s classroom
CATEGORIES:Church of Saint Catherine,Saint Catherine School
ORGANIZER;CN="Michelle Anthamatten":MAILTO:manthamatten@saint-catherine.org
END:VEVENT
BEGIN:VEVENT
DTSTART;TZID=America/Chicago:20210127T153000
DTEND;TZID=America/Chicago:20210127T163000
DTSTAMP:20260424T035107
CREATED:20180816T212032Z
LAST-MODIFIED:20180816T212032Z
UID:10007843-1611761400-1611765000@www.saintcatherineschool.org
SUMMARY:Faculty Meeting
DESCRIPTION:The faculty of Saint Catherine will have their monthly faculty meeting today after school at 3:30 in Mrs. Reid’s room.
URL:https://www.saintcatherineschool.org/event/faculty-meeting-6/2021-01-27
LOCATION:Mrs. Reid’s classroom
CATEGORIES:Church of Saint Catherine,Saint Catherine School
ORGANIZER;CN="Michelle Anthamatten":MAILTO:manthamatten@saint-catherine.org
END:VEVENT
BEGIN:VEVENT
DTSTART;TZID=America/Chicago:20210125T154500
DTEND;TZID=America/Chicago:20210125T164500
DTSTAMP:20260424T035107
CREATED:20210107T203716Z
LAST-MODIFIED:20210107T203716Z
UID:10008634-1611589500-1611593100@www.saintcatherineschool.org
SUMMARY:Faculty Meeting
DESCRIPTION:The faculty will meet in Mrs. Reid’s room after dismissal.
URL:https://www.saintcatherineschool.org/event/faculty-meeting-26
LOCATION:Mrs. Reid’s classroom
CATEGORIES:Church of Saint Catherine,Saint Catherine School
ORGANIZER;CN="Michelle Anthamatten":MAILTO:manthamatten@saint-catherine.org
END:VEVENT
BEGIN:VEVENT
DTSTART;TZID=America/Chicago:20201227T153000
DTEND;TZID=America/Chicago:20201227T163000
DTSTAMP:20260424T035107
CREATED:20180816T212032Z
LAST-MODIFIED:20180816T212032Z
UID:10007842-1609083000-1609086600@www.saintcatherineschool.org
SUMMARY:Faculty Meeting
DESCRIPTION:The faculty of Saint Catherine will have their monthly faculty meeting today after school at 3:30 in Mrs. Reid’s room.
URL:https://www.saintcatherineschool.org/event/faculty-meeting-6/2020-12-27
LOCATION:Mrs. Reid’s classroom
CATEGORIES:Church of Saint Catherine,Saint Catherine School
ORGANIZER;CN="Michelle Anthamatten":MAILTO:manthamatten@saint-catherine.org
END:VEVENT
BEGIN:VEVENT
DTSTART;TZID=America/Chicago:20201214T153000
DTEND;TZID=America/Chicago:20201214T163000
DTSTAMP:20260424T035107
CREATED:20201202T200132Z
LAST-MODIFIED:20201202T200132Z
UID:10007488-1607959800-1607963400@www.saintcatherineschool.org
SUMMARY:Faculty Meeting
DESCRIPTION:The faculty meeting will be held in Mrs. Reid’s room.
URL:https://www.saintcatherineschool.org/event/faculty-meeting-25
LOCATION:Mrs. Reid’s classroom
CATEGORIES:Saint Catherine School
ORGANIZER;CN="Michelle Anthamatten":MAILTO:manthamatten@saint-catherine.org
END:VEVENT
BEGIN:VEVENT
DTSTART;TZID=America/Chicago:20201130T154500
DTEND;TZID=America/Chicago:20201130T164500
DTSTAMP:20260424T035107
CREATED:20201109T202310Z
LAST-MODIFIED:20201109T202310Z
UID:10008670-1606751100-1606754700@www.saintcatherineschool.org
SUMMARY:Faculty Meeting
DESCRIPTION:
URL:https://www.saintcatherineschool.org/event/faculty-meeting-24
LOCATION:Mrs. Reid’s classroom
CATEGORIES:Church of Saint Catherine,Saint Catherine School
ORGANIZER;CN="Michelle Anthamatten":MAILTO:manthamatten@saint-catherine.org
END:VEVENT
BEGIN:VEVENT
DTSTART;TZID=America/Chicago:20201127T153000
DTEND;TZID=America/Chicago:20201127T163000
DTSTAMP:20260424T035107
CREATED:20180816T212032Z
LAST-MODIFIED:20180816T212032Z
UID:10007841-1606491000-1606494600@www.saintcatherineschool.org
SUMMARY:Faculty Meeting
DESCRIPTION:The faculty of Saint Catherine will have their monthly faculty meeting today after school at 3:30 in Mrs. Reid’s room.
URL:https://www.saintcatherineschool.org/event/faculty-meeting-6/2020-11-27
LOCATION:Mrs. Reid’s classroom
CATEGORIES:Church of Saint Catherine,Saint Catherine School
ORGANIZER;CN="Michelle Anthamatten":MAILTO:manthamatten@saint-catherine.org
END:VEVENT
BEGIN:VEVENT
DTSTART;TZID=America/Chicago:20201027T153000
DTEND;TZID=America/Chicago:20201027T163000
DTSTAMP:20260424T035107
CREATED:20180816T212032Z
LAST-MODIFIED:20180816T212032Z
UID:10007840-1603812600-1603816200@www.saintcatherineschool.org
SUMMARY:Faculty Meeting
DESCRIPTION:The faculty of Saint Catherine will have their monthly faculty meeting today after school at 3:30 in Mrs. Reid’s room.
URL:https://www.saintcatherineschool.org/event/faculty-meeting-6/2020-10-27
LOCATION:Mrs. Reid’s classroom
CATEGORIES:Church of Saint Catherine,Saint Catherine School
ORGANIZER;CN="Michelle Anthamatten":MAILTO:manthamatten@saint-catherine.org
END:VEVENT
BEGIN:VEVENT
DTSTART;TZID=America/Chicago:20200928T154500
DTEND;TZID=America/Chicago:20200928T164500
DTSTAMP:20260424T035107
CREATED:20200826T010502Z
LAST-MODIFIED:20200826T010604Z
UID:10007392-1601307900-1601311500@www.saintcatherineschool.org
SUMMARY:Faculty Meeting
DESCRIPTION:The faculty will have their monthly meeting today.
URL:https://www.saintcatherineschool.org/event/faculty-meeting-23/2020-09-28
LOCATION:Mrs. Reid’s classroom
CATEGORIES:Saint Catherine School
ORGANIZER;CN="Michelle Anthamatten":MAILTO:manthamatten@saint-catherine.org
END:VEVENT
BEGIN:VEVENT
DTSTART;TZID=America/Chicago:20200927T153000
DTEND;TZID=America/Chicago:20200927T163000
DTSTAMP:20260424T035107
CREATED:20180816T212032Z
LAST-MODIFIED:20180816T212032Z
UID:10007839-1601220600-1601224200@www.saintcatherineschool.org
SUMMARY:Faculty Meeting
DESCRIPTION:The faculty of Saint Catherine will have their monthly faculty meeting today after school at 3:30 in Mrs. Reid’s room.
URL:https://www.saintcatherineschool.org/event/faculty-meeting-6/2020-09-27
LOCATION:Mrs. Reid’s classroom
CATEGORIES:Church of Saint Catherine,Saint Catherine School
ORGANIZER;CN="Michelle Anthamatten":MAILTO:manthamatten@saint-catherine.org
END:VEVENT
BEGIN:VEVENT
DTSTART;TZID=America/Chicago:20200827T153000
DTEND;TZID=America/Chicago:20200827T163000
DTSTAMP:20260424T035107
CREATED:20180816T212032Z
LAST-MODIFIED:20180816T212032Z
UID:10007838-1598542200-1598545800@www.saintcatherineschool.org
SUMMARY:Faculty Meeting
DESCRIPTION:The faculty of Saint Catherine will have their monthly faculty meeting today after school at 3:30 in Mrs. Reid’s room.
URL:https://www.saintcatherineschool.org/event/faculty-meeting-6/2020-08-27
LOCATION:Mrs. Reid’s classroom
CATEGORIES:Church of Saint Catherine,Saint Catherine School
ORGANIZER;CN="Michelle Anthamatten":MAILTO:manthamatten@saint-catherine.org
END:VEVENT
BEGIN:VEVENT
DTSTART;TZID=America/Chicago:20200727T153000
DTEND;TZID=America/Chicago:20200727T163000
DTSTAMP:20260424T035107
CREATED:20180816T212032Z
LAST-MODIFIED:20180816T212032Z
UID:10007837-1595863800-1595867400@www.saintcatherineschool.org
SUMMARY:Faculty Meeting
DESCRIPTION:The faculty of Saint Catherine will have their monthly faculty meeting today after school at 3:30 in Mrs. Reid’s room.
URL:https://www.saintcatherineschool.org/event/faculty-meeting-6/2020-07-27
LOCATION:Mrs. Reid’s classroom
CATEGORIES:Church of Saint Catherine,Saint Catherine School
ORGANIZER;CN="Michelle Anthamatten":MAILTO:manthamatten@saint-catherine.org
END:VEVENT
BEGIN:VEVENT
DTSTART;TZID=America/Chicago:20200627T153000
DTEND;TZID=America/Chicago:20200627T163000
DTSTAMP:20260424T035107
CREATED:20180816T212032Z
LAST-MODIFIED:20180816T212032Z
UID:10007836-1593271800-1593275400@www.saintcatherineschool.org
SUMMARY:Faculty Meeting
DESCRIPTION:The faculty of Saint Catherine will have their monthly faculty meeting today after school at 3:30 in Mrs. Reid’s room.
URL:https://www.saintcatherineschool.org/event/faculty-meeting-6/2020-06-27
LOCATION:Mrs. Reid’s classroom
CATEGORIES:Church of Saint Catherine,Saint Catherine School
ORGANIZER;CN="Michelle Anthamatten":MAILTO:manthamatten@saint-catherine.org
END:VEVENT
BEGIN:VEVENT
DTSTART;TZID=America/Chicago:20200527T153000
DTEND;TZID=America/Chicago:20200527T163000
DTSTAMP:20260424T035107
CREATED:20180816T212032Z
LAST-MODIFIED:20180816T212032Z
UID:10007835-1590593400-1590597000@www.saintcatherineschool.org
SUMMARY:Faculty Meeting
DESCRIPTION:The faculty of Saint Catherine will have their monthly faculty meeting today after school at 3:30 in Mrs. Reid’s room.
URL:https://www.saintcatherineschool.org/event/faculty-meeting-6/2020-05-27
LOCATION:Mrs. Reid’s classroom
CATEGORIES:Church of Saint Catherine,Saint Catherine School
ORGANIZER;CN="Michelle Anthamatten":MAILTO:manthamatten@saint-catherine.org
END:VEVENT
BEGIN:VEVENT
DTSTART;TZID=America/Chicago:20200427T153000
DTEND;TZID=America/Chicago:20200427T163000
DTSTAMP:20260424T035107
CREATED:20190626T033843Z
LAST-MODIFIED:20190626T033843Z
UID:10005569-1588001400-1588005000@www.saintcatherineschool.org
SUMMARY:Faculty Meeting
DESCRIPTION:The faculty will have their monthly meeting in Mrs. Reid’s room after school.
URL:https://www.saintcatherineschool.org/event/faculty-meeting-21
LOCATION:Mrs. Reid’s classroom
CATEGORIES:Saint Catherine School
ORGANIZER;CN="Michelle Anthamatten":MAILTO:manthamatten@saint-catherine.org
END:VEVENT
BEGIN:VEVENT
DTSTART;TZID=America/Chicago:20200427T153000
DTEND;TZID=America/Chicago:20200427T163000
DTSTAMP:20260424T035107
CREATED:20180816T212032Z
LAST-MODIFIED:20180816T212032Z
UID:10007834-1588001400-1588005000@www.saintcatherineschool.org
SUMMARY:Faculty Meeting
DESCRIPTION:The faculty of Saint Catherine will have their monthly faculty meeting today after school at 3:30 in Mrs. Reid’s room.
URL:https://www.saintcatherineschool.org/event/faculty-meeting-6/2020-04-27
LOCATION:Mrs. Reid’s classroom
CATEGORIES:Church of Saint Catherine,Saint Catherine School
ORGANIZER;CN="Michelle Anthamatten":MAILTO:manthamatten@saint-catherine.org
END:VEVENT
BEGIN:VEVENT
DTSTART;TZID=America/Chicago:20200330T153000
DTEND;TZID=America/Chicago:20200330T163000
DTSTAMP:20260424T035107
CREATED:20190626T032329Z
LAST-MODIFIED:20190626T032329Z
UID:10008183-1585582200-1585585800@www.saintcatherineschool.org
SUMMARY:Faculty Meeting
DESCRIPTION:The faculty will have their monthly meeting in Mrs. Reid’s room after school.
URL:https://www.saintcatherineschool.org/event/faculty-meeting-20
LOCATION:Mrs. Reid’s classroom
CATEGORIES:Saint Catherine School
ORGANIZER;CN="Michelle Anthamatten":MAILTO:manthamatten@saint-catherine.org
END:VEVENT
BEGIN:VEVENT
DTSTART;TZID=America/Chicago:20200327T153000
DTEND;TZID=America/Chicago:20200327T163000
DTSTAMP:20260424T035107
CREATED:20180816T212032Z
LAST-MODIFIED:20180816T212032Z
UID:10007833-1585323000-1585326600@www.saintcatherineschool.org
SUMMARY:Faculty Meeting
DESCRIPTION:The faculty of Saint Catherine will have their monthly faculty meeting today after school at 3:30 in Mrs. Reid’s room.
URL:https://www.saintcatherineschool.org/event/faculty-meeting-6/2020-03-27
LOCATION:Mrs. Reid’s classroom
CATEGORIES:Church of Saint Catherine,Saint Catherine School
ORGANIZER;CN="Michelle Anthamatten":MAILTO:manthamatten@saint-catherine.org
END:VEVENT
BEGIN:VEVENT
DTSTART;TZID=America/Chicago:20200310T180000
DTEND;TZID=America/Chicago:20200310T193000
DTSTAMP:20260424T035107
CREATED:20200301T221248Z
LAST-MODIFIED:20200301T221248Z
UID:10007338-1583863200-1583868600@www.saintcatherineschool.org
SUMMARY:Home and School Meeting
DESCRIPTION:Home and School will meet in Mrs. Reid’s room at 6pm.  All parents are invited to come.  This is a great service hour opportunity.
URL:https://www.saintcatherineschool.org/event/home-and-school-meeting-24
LOCATION:Mrs. Reid’s classroom
CATEGORIES:Saint Catherine School
ORGANIZER;CN="Kalinn Ballard":MAILTO:kalinnballard@yahoo.com
END:VEVENT
BEGIN:VEVENT
DTSTART;TZID=America/Chicago:20200227T153000
DTEND;TZID=America/Chicago:20200227T163000
DTSTAMP:20260424T035107
CREATED:20180816T212032Z
LAST-MODIFIED:20180816T212032Z
UID:10007832-1582817400-1582821000@www.saintcatherineschool.org
SUMMARY:Faculty Meeting
DESCRIPTION:The faculty of Saint Catherine will have their monthly faculty meeting today after school at 3:30 in Mrs. Reid’s room.
URL:https://www.saintcatherineschool.org/event/faculty-meeting-6/2020-02-27
LOCATION:Mrs. Reid’s classroom
CATEGORIES:Church of Saint Catherine,Saint Catherine School
ORGANIZER;CN="Michelle Anthamatten":MAILTO:manthamatten@saint-catherine.org
END:VEVENT
BEGIN:VEVENT
DTSTART;TZID=America/Chicago:20200211T180000
DTEND;TZID=America/Chicago:20200211T193000
DTSTAMP:20260424T035107
CREATED:20200122T161533Z
LAST-MODIFIED:20200122T161533Z
UID:10008395-1581444000-1581449400@www.saintcatherineschool.org
SUMMARY:Home and School Meeting
DESCRIPTION:The Home and School Committee will meet in Mrs. Reid’s room.
URL:https://www.saintcatherineschool.org/event/home-and-school-meeting-23
LOCATION:Mrs. Reid’s classroom
CATEGORIES:Saint Catherine School
ORGANIZER;CN="Kalinn Ballard":MAILTO:kalinnballard@yahoo.com
END:VEVENT
BEGIN:VEVENT
DTSTART;TZID=America/Chicago:20200127T153000
DTEND;TZID=America/Chicago:20200127T163000
DTSTAMP:20260424T035107
CREATED:20190626T025432Z
LAST-MODIFIED:20190626T025432Z
UID:10008158-1580139000-1580142600@www.saintcatherineschool.org
SUMMARY:Faculty meeting
DESCRIPTION:The faculty meeting will be in Mrs. Reid’s room after school.
URL:https://www.saintcatherineschool.org/event/faculty-meeting-18
LOCATION:Mrs. Reid’s classroom
CATEGORIES:Saint Catherine School
ORGANIZER;CN="Michelle Anthamatten":MAILTO:manthamatten@saint-catherine.org
END:VEVENT
BEGIN:VEVENT
DTSTART;TZID=America/Chicago:20200127T153000
DTEND;TZID=America/Chicago:20200127T163000
DTSTAMP:20260424T035107
CREATED:20180816T212032Z
LAST-MODIFIED:20180816T212032Z
UID:10007831-1580139000-1580142600@www.saintcatherineschool.org
SUMMARY:Faculty Meeting
DESCRIPTION:The faculty of Saint Catherine will have their monthly faculty meeting today after school at 3:30 in Mrs. Reid’s room.
URL:https://www.saintcatherineschool.org/event/faculty-meeting-6/2020-01-27
LOCATION:Mrs. Reid’s classroom
CATEGORIES:Church of Saint Catherine,Saint Catherine School
ORGANIZER;CN="Michelle Anthamatten":MAILTO:manthamatten@saint-catherine.org
END:VEVENT
BEGIN:VEVENT
DTSTART;TZID=America/Chicago:20200114T180000
DTEND;TZID=America/Chicago:20200114T193000
DTSTAMP:20260424T035107
CREATED:20200122T151312Z
LAST-MODIFIED:20200122T151312Z
UID:10008410-1579024800-1579030200@www.saintcatherineschool.org
SUMMARY:Home and School Meeting
DESCRIPTION:Home and School will have a meeting in Mrs. Reid’s room at 6pm.
URL:https://www.saintcatherineschool.org/event/home-and-school-meeting-22
LOCATION:Mrs. Reid’s classroom
CATEGORIES:Saint Catherine School
ORGANIZER;CN="Kalinn Ballard":MAILTO:kalinnballard@yahoo.com
END:VEVENT
BEGIN:VEVENT
DTSTART;TZID=America/Chicago:20191227T153000
DTEND;TZID=America/Chicago:20191227T163000
DTSTAMP:20260424T035107
CREATED:20180816T212032Z
LAST-MODIFIED:20180816T212032Z
UID:10007830-1577460600-1577464200@www.saintcatherineschool.org
SUMMARY:Faculty Meeting
DESCRIPTION:The faculty of Saint Catherine will have their monthly faculty meeting today after school at 3:30 in Mrs. Reid’s room.
URL:https://www.saintcatherineschool.org/event/faculty-meeting-6/2019-12-27
LOCATION:Mrs. Reid’s classroom
CATEGORIES:Church of Saint Catherine,Saint Catherine School
ORGANIZER;CN="Michelle Anthamatten":MAILTO:manthamatten@saint-catherine.org
END:VEVENT
BEGIN:VEVENT
DTSTART;TZID=America/Chicago:20191216T153000
DTEND;TZID=America/Chicago:20191216T163000
DTSTAMP:20260424T035107
CREATED:20190626T024618Z
LAST-MODIFIED:20190626T024618Z
UID:10005546-1576510200-1576513800@www.saintcatherineschool.org
SUMMARY:Faculty Meeting
DESCRIPTION:The faculty will have their monthly meeting after school.
URL:https://www.saintcatherineschool.org/event/faculty-meeting-17
LOCATION:Mrs. Reid’s classroom
CATEGORIES:Saint Catherine School
ORGANIZER;CN="Michelle Anthamatten":MAILTO:manthamatten@saint-catherine.org
END:VEVENT
BEGIN:VEVENT
DTSTART;TZID=America/Chicago:20191211T153000
DTEND;TZID=America/Chicago:20191211T170000
DTSTAMP:20260424T035107
CREATED:20191202T163856Z
LAST-MODIFIED:20191202T163856Z
UID:10008342-1576078200-1576083600@www.saintcatherineschool.org
SUMMARY:Home and School meeting
DESCRIPTION:The Home and School meeting has been moved to today.
URL:https://www.saintcatherineschool.org/event/home-and-school-meeting-21
LOCATION:Mrs. Reid’s classroom
CATEGORIES:Saint Catherine School
ORGANIZER;CN="Kalinn Ballard":MAILTO:kalinnballard@yahoo.com
END:VEVENT
BEGIN:VEVENT
DTSTART;TZID=America/Chicago:20191127T153000
DTEND;TZID=America/Chicago:20191127T163000
DTSTAMP:20260424T035107
CREATED:20180816T212032Z
LAST-MODIFIED:20180816T212032Z
UID:10007829-1574868600-1574872200@www.saintcatherineschool.org
SUMMARY:Faculty Meeting
DESCRIPTION:The faculty of Saint Catherine will have their monthly faculty meeting today after school at 3:30 in Mrs. Reid’s room.
URL:https://www.saintcatherineschool.org/event/faculty-meeting-6/2019-11-27
LOCATION:Mrs. Reid’s classroom
CATEGORIES:Church of Saint Catherine,Saint Catherine School
ORGANIZER;CN="Michelle Anthamatten":MAILTO:manthamatten@saint-catherine.org
END:VEVENT
BEGIN:VEVENT
DTSTART;TZID=America/Chicago:20191118T153000
DTEND;TZID=America/Chicago:20191118T163000
DTSTAMP:20260424T035107
CREATED:20190626T023319Z
LAST-MODIFIED:20190626T023319Z
UID:10008360-1574091000-1574094600@www.saintcatherineschool.org
SUMMARY:Faculty Meeting
DESCRIPTION:The faculty will have their monthly meeting in Mrs. Reid’s room after school.
URL:https://www.saintcatherineschool.org/event/faculty-meeting-16
LOCATION:Mrs. Reid’s classroom
CATEGORIES:Saint Catherine School
ORGANIZER;CN="Michelle Anthamatten":MAILTO:manthamatten@saint-catherine.org
END:VEVENT
BEGIN:VEVENT
DTSTART;TZID=America/Chicago:20191028T150000
DTEND;TZID=America/Chicago:20191028T163000
DTSTAMP:20260424T035107
CREATED:20190626T022009Z
LAST-MODIFIED:20190626T022009Z
UID:10008077-1572274800-1572280200@www.saintcatherineschool.org
SUMMARY:Faculty Meeting
DESCRIPTION:The faculty will have their monthly meeting in Mrs. Reid’s room after school.
URL:https://www.saintcatherineschool.org/event/faculty-meeting-15
LOCATION:Mrs. Reid’s classroom
CATEGORIES:Saint Catherine School
ORGANIZER;CN="Michelle Anthamatten":MAILTO:manthamatten@saint-catherine.org
END:VEVENT
END:VCALENDAR