BEGIN:VCALENDAR
VERSION:2.0
PRODID:-//Saint Catherine of Alexandria School - ECPv6.15.20//NONSGML v1.0//EN
CALSCALE:GREGORIAN
METHOD:PUBLISH
X-ORIGINAL-URL:https://www.saintcatherineschool.org
X-WR-CALDESC:Events for Saint Catherine of Alexandria School
REFRESH-INTERVAL;VALUE=DURATION:PT1H
X-Robots-Tag:noindex
X-PUBLISHED-TTL:PT1H
BEGIN:VTIMEZONE
TZID:America/Chicago
BEGIN:DAYLIGHT
TZOFFSETFROM:-0600
TZOFFSETTO:-0500
TZNAME:CDT
DTSTART:20180311T080000
END:DAYLIGHT
BEGIN:STANDARD
TZOFFSETFROM:-0500
TZOFFSETTO:-0600
TZNAME:CST
DTSTART:20181104T070000
END:STANDARD
BEGIN:DAYLIGHT
TZOFFSETFROM:-0600
TZOFFSETTO:-0500
TZNAME:CDT
DTSTART:20190310T080000
END:DAYLIGHT
BEGIN:STANDARD
TZOFFSETFROM:-0500
TZOFFSETTO:-0600
TZNAME:CST
DTSTART:20191103T070000
END:STANDARD
BEGIN:DAYLIGHT
TZOFFSETFROM:-0600
TZOFFSETTO:-0500
TZNAME:CDT
DTSTART:20200308T080000
END:DAYLIGHT
BEGIN:STANDARD
TZOFFSETFROM:-0500
TZOFFSETTO:-0600
TZNAME:CST
DTSTART:20201101T070000
END:STANDARD
BEGIN:DAYLIGHT
TZOFFSETFROM:-0600
TZOFFSETTO:-0500
TZNAME:CDT
DTSTART:20210314T080000
END:DAYLIGHT
BEGIN:STANDARD
TZOFFSETFROM:-0500
TZOFFSETTO:-0600
TZNAME:CST
DTSTART:20211107T070000
END:STANDARD
END:VTIMEZONE
BEGIN:VEVENT
DTSTART;TZID=America/Chicago:20200211T180000
DTEND;TZID=America/Chicago:20200211T193000
DTSTAMP:20260424T062725
CREATED:20200122T161533Z
LAST-MODIFIED:20200122T161533Z
UID:10008395-1581444000-1581449400@www.saintcatherineschool.org
SUMMARY:Home and School Meeting
DESCRIPTION:The Home and School Committee will meet in Mrs. Reid’s room.
URL:https://www.saintcatherineschool.org/event/home-and-school-meeting-23
LOCATION:Mrs. Reid’s classroom
CATEGORIES:Saint Catherine School
ORGANIZER;CN="Kalinn Ballard":MAILTO:kalinnballard@yahoo.com
END:VEVENT
BEGIN:VEVENT
DTSTART;TZID=America/Chicago:20200127T153000
DTEND;TZID=America/Chicago:20200127T163000
DTSTAMP:20260424T062725
CREATED:20190626T025432Z
LAST-MODIFIED:20190626T025432Z
UID:10008158-1580139000-1580142600@www.saintcatherineschool.org
SUMMARY:Faculty meeting
DESCRIPTION:The faculty meeting will be in Mrs. Reid’s room after school.
URL:https://www.saintcatherineschool.org/event/faculty-meeting-18
LOCATION:Mrs. Reid’s classroom
CATEGORIES:Saint Catherine School
ORGANIZER;CN="Michelle Anthamatten":MAILTO:manthamatten@saint-catherine.org
END:VEVENT
BEGIN:VEVENT
DTSTART;TZID=America/Chicago:20200127T153000
DTEND;TZID=America/Chicago:20200127T163000
DTSTAMP:20260424T062725
CREATED:20180816T212032Z
LAST-MODIFIED:20180816T212032Z
UID:10007831-1580139000-1580142600@www.saintcatherineschool.org
SUMMARY:Faculty Meeting
DESCRIPTION:The faculty of Saint Catherine will have their monthly faculty meeting today after school at 3:30 in Mrs. Reid’s room.
URL:https://www.saintcatherineschool.org/event/faculty-meeting-6/2020-01-27
LOCATION:Mrs. Reid’s classroom
CATEGORIES:Church of Saint Catherine,Saint Catherine School
ORGANIZER;CN="Michelle Anthamatten":MAILTO:manthamatten@saint-catherine.org
END:VEVENT
BEGIN:VEVENT
DTSTART;TZID=America/Chicago:20200114T180000
DTEND;TZID=America/Chicago:20200114T193000
DTSTAMP:20260424T062725
CREATED:20200122T151312Z
LAST-MODIFIED:20200122T151312Z
UID:10008410-1579024800-1579030200@www.saintcatherineschool.org
SUMMARY:Home and School Meeting
DESCRIPTION:Home and School will have a meeting in Mrs. Reid’s room at 6pm.
URL:https://www.saintcatherineschool.org/event/home-and-school-meeting-22
LOCATION:Mrs. Reid’s classroom
CATEGORIES:Saint Catherine School
ORGANIZER;CN="Kalinn Ballard":MAILTO:kalinnballard@yahoo.com
END:VEVENT
BEGIN:VEVENT
DTSTART;TZID=America/Chicago:20191227T153000
DTEND;TZID=America/Chicago:20191227T163000
DTSTAMP:20260424T062725
CREATED:20180816T212032Z
LAST-MODIFIED:20180816T212032Z
UID:10007830-1577460600-1577464200@www.saintcatherineschool.org
SUMMARY:Faculty Meeting
DESCRIPTION:The faculty of Saint Catherine will have their monthly faculty meeting today after school at 3:30 in Mrs. Reid’s room.
URL:https://www.saintcatherineschool.org/event/faculty-meeting-6/2019-12-27
LOCATION:Mrs. Reid’s classroom
CATEGORIES:Church of Saint Catherine,Saint Catherine School
ORGANIZER;CN="Michelle Anthamatten":MAILTO:manthamatten@saint-catherine.org
END:VEVENT
BEGIN:VEVENT
DTSTART;TZID=America/Chicago:20191216T153000
DTEND;TZID=America/Chicago:20191216T163000
DTSTAMP:20260424T062725
CREATED:20190626T024618Z
LAST-MODIFIED:20190626T024618Z
UID:10005546-1576510200-1576513800@www.saintcatherineschool.org
SUMMARY:Faculty Meeting
DESCRIPTION:The faculty will have their monthly meeting after school.
URL:https://www.saintcatherineschool.org/event/faculty-meeting-17
LOCATION:Mrs. Reid’s classroom
CATEGORIES:Saint Catherine School
ORGANIZER;CN="Michelle Anthamatten":MAILTO:manthamatten@saint-catherine.org
END:VEVENT
BEGIN:VEVENT
DTSTART;TZID=America/Chicago:20191211T153000
DTEND;TZID=America/Chicago:20191211T170000
DTSTAMP:20260424T062725
CREATED:20191202T163856Z
LAST-MODIFIED:20191202T163856Z
UID:10008342-1576078200-1576083600@www.saintcatherineschool.org
SUMMARY:Home and School meeting
DESCRIPTION:The Home and School meeting has been moved to today.
URL:https://www.saintcatherineschool.org/event/home-and-school-meeting-21
LOCATION:Mrs. Reid’s classroom
CATEGORIES:Saint Catherine School
ORGANIZER;CN="Kalinn Ballard":MAILTO:kalinnballard@yahoo.com
END:VEVENT
BEGIN:VEVENT
DTSTART;TZID=America/Chicago:20191127T153000
DTEND;TZID=America/Chicago:20191127T163000
DTSTAMP:20260424T062725
CREATED:20180816T212032Z
LAST-MODIFIED:20180816T212032Z
UID:10007829-1574868600-1574872200@www.saintcatherineschool.org
SUMMARY:Faculty Meeting
DESCRIPTION:The faculty of Saint Catherine will have their monthly faculty meeting today after school at 3:30 in Mrs. Reid’s room.
URL:https://www.saintcatherineschool.org/event/faculty-meeting-6/2019-11-27
LOCATION:Mrs. Reid’s classroom
CATEGORIES:Church of Saint Catherine,Saint Catherine School
ORGANIZER;CN="Michelle Anthamatten":MAILTO:manthamatten@saint-catherine.org
END:VEVENT
BEGIN:VEVENT
DTSTART;TZID=America/Chicago:20191118T153000
DTEND;TZID=America/Chicago:20191118T163000
DTSTAMP:20260424T062725
CREATED:20190626T023319Z
LAST-MODIFIED:20190626T023319Z
UID:10008360-1574091000-1574094600@www.saintcatherineschool.org
SUMMARY:Faculty Meeting
DESCRIPTION:The faculty will have their monthly meeting in Mrs. Reid’s room after school.
URL:https://www.saintcatherineschool.org/event/faculty-meeting-16
LOCATION:Mrs. Reid’s classroom
CATEGORIES:Saint Catherine School
ORGANIZER;CN="Michelle Anthamatten":MAILTO:manthamatten@saint-catherine.org
END:VEVENT
BEGIN:VEVENT
DTSTART;TZID=America/Chicago:20191028T150000
DTEND;TZID=America/Chicago:20191028T163000
DTSTAMP:20260424T062725
CREATED:20190626T022009Z
LAST-MODIFIED:20190626T022009Z
UID:10008077-1572274800-1572280200@www.saintcatherineschool.org
SUMMARY:Faculty Meeting
DESCRIPTION:The faculty will have their monthly meeting in Mrs. Reid’s room after school.
URL:https://www.saintcatherineschool.org/event/faculty-meeting-15
LOCATION:Mrs. Reid’s classroom
CATEGORIES:Saint Catherine School
ORGANIZER;CN="Michelle Anthamatten":MAILTO:manthamatten@saint-catherine.org
END:VEVENT
BEGIN:VEVENT
DTSTART;TZID=America/Chicago:20191027T153000
DTEND;TZID=America/Chicago:20191027T163000
DTSTAMP:20260424T062725
CREATED:20180816T212032Z
LAST-MODIFIED:20180816T212032Z
UID:10007828-1572190200-1572193800@www.saintcatherineschool.org
SUMMARY:Faculty Meeting
DESCRIPTION:The faculty of Saint Catherine will have their monthly faculty meeting today after school at 3:30 in Mrs. Reid’s room.
URL:https://www.saintcatherineschool.org/event/faculty-meeting-6/2019-10-27
LOCATION:Mrs. Reid’s classroom
CATEGORIES:Church of Saint Catherine,Saint Catherine School
ORGANIZER;CN="Michelle Anthamatten":MAILTO:manthamatten@saint-catherine.org
END:VEVENT
BEGIN:VEVENT
DTSTART;TZID=America/Chicago:20191008T080000
DTEND;TZID=America/Chicago:20191008T170000
DTSTAMP:20260424T062725
CREATED:20190924T192322Z
LAST-MODIFIED:20190924T192322Z
UID:10008300-1570521600-1570554000@www.saintcatherineschool.org
SUMMARY:Home and School Meeting
DESCRIPTION:Home and School will have their meeting at 6pm.
URL:https://www.saintcatherineschool.org/event/home-and-school-meeting-19
LOCATION:Mrs. Reid’s classroom
CATEGORIES:Saint Catherine School
ORGANIZER;CN="Kalinn Ballard":MAILTO:kalinnballard@yahoo.com
END:VEVENT
BEGIN:VEVENT
DTSTART;TZID=America/Chicago:20191001T080000
DTEND;TZID=America/Chicago:20191001T170000
DTSTAMP:20260424T062725
CREATED:20190924T191425Z
LAST-MODIFIED:20190924T191425Z
UID:10008302-1569916800-1569949200@www.saintcatherineschool.org
SUMMARY:School Advisory Meeting
DESCRIPTION:The School Advisory will meet in the school at 6pm.
URL:https://www.saintcatherineschool.org/event/school-advisory-meeting-15
LOCATION:Mrs. Reid’s classroom
CATEGORIES:Saint Catherine School
ORGANIZER;CN="Michelle Anthamatten":MAILTO:manthamatten@saint-catherine.org
END:VEVENT
BEGIN:VEVENT
DTSTART;TZID=America/Chicago:20190930T080000
DTEND;TZID=America/Chicago:20190930T170000
DTSTAMP:20260424T062725
CREATED:20190626T015348Z
LAST-MODIFIED:20190626T015348Z
UID:10008094-1569830400-1569862800@www.saintcatherineschool.org
SUMMARY:Faculty Meeting
DESCRIPTION:The faculty will have a meeting in Mrs. Reid’s room after school.
URL:https://www.saintcatherineschool.org/event/faculty-meeting-14
LOCATION:Mrs. Reid’s classroom
CATEGORIES:Saint Catherine School
ORGANIZER;CN="Michelle Anthamatten":MAILTO:manthamatten@saint-catherine.org
END:VEVENT
BEGIN:VEVENT
DTSTART;TZID=America/Chicago:20190927T153000
DTEND;TZID=America/Chicago:20190927T163000
DTSTAMP:20260424T062725
CREATED:20180816T212032Z
LAST-MODIFIED:20180816T212032Z
UID:10007827-1569598200-1569601800@www.saintcatherineschool.org
SUMMARY:Faculty Meeting
DESCRIPTION:The faculty of Saint Catherine will have their monthly faculty meeting today after school at 3:30 in Mrs. Reid’s room.
URL:https://www.saintcatherineschool.org/event/faculty-meeting-6/2019-09-27
LOCATION:Mrs. Reid’s classroom
CATEGORIES:Church of Saint Catherine,Saint Catherine School
ORGANIZER;CN="Michelle Anthamatten":MAILTO:manthamatten@saint-catherine.org
END:VEVENT
BEGIN:VEVENT
DTSTART;TZID=America/Chicago:20190903T180000
DTEND;TZID=America/Chicago:20190903T193000
DTSTAMP:20260424T062725
CREATED:20190827T135423Z
LAST-MODIFIED:20190827T135423Z
UID:10008192-1567533600-1567539000@www.saintcatherineschool.org
SUMMARY:School Advisory
DESCRIPTION:The School Advisory Committee will meet in Mrs. Reid’s room at 6pm.
URL:https://www.saintcatherineschool.org/event/school-advisory
LOCATION:Mrs. Reid’s classroom
CATEGORIES:Saint Catherine School
ORGANIZER;CN="Michelle Anthamatten":MAILTO:manthamatten@saint-catherine.org
END:VEVENT
BEGIN:VEVENT
DTSTART;TZID=America/Chicago:20190827T153000
DTEND;TZID=America/Chicago:20190827T163000
DTSTAMP:20260424T062725
CREATED:20180816T212032Z
LAST-MODIFIED:20180816T212032Z
UID:10007826-1566919800-1566923400@www.saintcatherineschool.org
SUMMARY:Faculty Meeting
DESCRIPTION:The faculty of Saint Catherine will have their monthly faculty meeting today after school at 3:30 in Mrs. Reid’s room.
URL:https://www.saintcatherineschool.org/event/faculty-meeting-6/2019-08-27
LOCATION:Mrs. Reid’s classroom
CATEGORIES:Church of Saint Catherine,Saint Catherine School
ORGANIZER;CN="Michelle Anthamatten":MAILTO:manthamatten@saint-catherine.org
END:VEVENT
BEGIN:VEVENT
DTSTART;TZID=America/Chicago:20190826T153000
DTEND;TZID=America/Chicago:20190826T163000
DTSTAMP:20260424T062725
CREATED:20190626T013722Z
LAST-MODIFIED:20190626T013722Z
UID:10008029-1566833400-1566837000@www.saintcatherineschool.org
SUMMARY:Faculty Meeting
DESCRIPTION:The faculty will meet after school in Mrs. Reid’s room for their monthly meeting.
URL:https://www.saintcatherineschool.org/event/faculty-meeting-13
LOCATION:Mrs. Reid’s classroom
CATEGORIES:Saint Catherine School
ORGANIZER;CN="Michelle Anthamatten":MAILTO:manthamatten@saint-catherine.org
END:VEVENT
BEGIN:VEVENT
DTSTART;TZID=America/Chicago:20190727T153000
DTEND;TZID=America/Chicago:20190727T163000
DTSTAMP:20260424T062725
CREATED:20180816T212032Z
LAST-MODIFIED:20180816T212032Z
UID:10007825-1564241400-1564245000@www.saintcatherineschool.org
SUMMARY:Faculty Meeting
DESCRIPTION:The faculty of Saint Catherine will have their monthly faculty meeting today after school at 3:30 in Mrs. Reid’s room.
URL:https://www.saintcatherineschool.org/event/faculty-meeting-6/2019-07-27
LOCATION:Mrs. Reid’s classroom
CATEGORIES:Church of Saint Catherine,Saint Catherine School
ORGANIZER;CN="Michelle Anthamatten":MAILTO:manthamatten@saint-catherine.org
END:VEVENT
BEGIN:VEVENT
DTSTART;TZID=America/Chicago:20190627T153000
DTEND;TZID=America/Chicago:20190627T163000
DTSTAMP:20260424T062725
CREATED:20180816T212032Z
LAST-MODIFIED:20180816T212032Z
UID:10007824-1561649400-1561653000@www.saintcatherineschool.org
SUMMARY:Faculty Meeting
DESCRIPTION:The faculty of Saint Catherine will have their monthly faculty meeting today after school at 3:30 in Mrs. Reid’s room.
URL:https://www.saintcatherineschool.org/event/faculty-meeting-6/2019-06-27
LOCATION:Mrs. Reid’s classroom
CATEGORIES:Church of Saint Catherine,Saint Catherine School
ORGANIZER;CN="Michelle Anthamatten":MAILTO:manthamatten@saint-catherine.org
END:VEVENT
BEGIN:VEVENT
DTSTART;TZID=America/Chicago:20190527T153000
DTEND;TZID=America/Chicago:20190527T163000
DTSTAMP:20260424T062725
CREATED:20180816T212032Z
LAST-MODIFIED:20180816T212032Z
UID:10007823-1558971000-1558974600@www.saintcatherineschool.org
SUMMARY:Faculty Meeting
DESCRIPTION:The faculty of Saint Catherine will have their monthly faculty meeting today after school at 3:30 in Mrs. Reid’s room.
URL:https://www.saintcatherineschool.org/event/faculty-meeting-6/2019-05-27
LOCATION:Mrs. Reid’s classroom
CATEGORIES:Church of Saint Catherine,Saint Catherine School
ORGANIZER;CN="Michelle Anthamatten":MAILTO:manthamatten@saint-catherine.org
END:VEVENT
BEGIN:VEVENT
DTSTART;TZID=America/Chicago:20190429T153000
DTEND;TZID=America/Chicago:20190429T163000
DTSTAMP:20260424T062725
CREATED:20190401T143505Z
LAST-MODIFIED:20190401T143505Z
UID:10007786-1556551800-1556555400@www.saintcatherineschool.org
SUMMARY:Faculty Meeting
DESCRIPTION:The faculty will will have their monthly meeting in Mrs. Reid’s classroom at 3:30.
URL:https://www.saintcatherineschool.org/event/faculty-meeting-12
LOCATION:Mrs. Reid’s classroom
CATEGORIES:Saint Catherine School
ORGANIZER;CN="Michelle Anthamatten":MAILTO:manthamatten@saint-catherine.org
END:VEVENT
BEGIN:VEVENT
DTSTART;TZID=America/Chicago:20190427T153000
DTEND;TZID=America/Chicago:20190427T163000
DTSTAMP:20260424T062725
CREATED:20180816T212032Z
LAST-MODIFIED:20180816T212032Z
UID:10007822-1556379000-1556382600@www.saintcatherineschool.org
SUMMARY:Faculty Meeting
DESCRIPTION:The faculty of Saint Catherine will have their monthly faculty meeting today after school at 3:30 in Mrs. Reid’s room.
URL:https://www.saintcatherineschool.org/event/faculty-meeting-6/2019-04-27
LOCATION:Mrs. Reid’s classroom
CATEGORIES:Church of Saint Catherine,Saint Catherine School
ORGANIZER;CN="Michelle Anthamatten":MAILTO:manthamatten@saint-catherine.org
END:VEVENT
BEGIN:VEVENT
DTSTART;TZID=America/Chicago:20190408T153000
DTEND;TZID=America/Chicago:20190408T163000
DTSTAMP:20260424T062725
CREATED:20190401T143616Z
LAST-MODIFIED:20190401T143616Z
UID:10007785-1554737400-1554741000@www.saintcatherineschool.org
SUMMARY:Home and School meeting
DESCRIPTION:The Home and School will have their monthly meeting in Mrs. Reid’s classroom at 3:30.
URL:https://www.saintcatherineschool.org/event/home-and-school-meeting-16
LOCATION:Mrs. Reid’s classroom
CATEGORIES:Saint Catherine School
END:VEVENT
BEGIN:VEVENT
DTSTART;TZID=America/Chicago:20190402T180000
DTEND;TZID=America/Chicago:20190402T193000
DTSTAMP:20260424T062725
CREATED:20190401T143807Z
LAST-MODIFIED:20190401T143807Z
UID:10007784-1554228000-1554233400@www.saintcatherineschool.org
SUMMARY:School Advisory Meeting
DESCRIPTION:The School Advisory will meet at 6pm in Mrs. Reid’s classroom.
URL:https://www.saintcatherineschool.org/event/school-advisory-meeting-13
LOCATION:Mrs. Reid’s classroom
CATEGORIES:Saint Catherine School
ORGANIZER;CN="Michelle Anthamatten":MAILTO:manthamatten@saint-catherine.org
END:VEVENT
BEGIN:VEVENT
DTSTART;TZID=America/Chicago:20190327T153000
DTEND;TZID=America/Chicago:20190327T163000
DTSTAMP:20260424T062725
CREATED:20180816T212032Z
LAST-MODIFIED:20180816T212032Z
UID:10007821-1553700600-1553704200@www.saintcatherineschool.org
SUMMARY:Faculty Meeting
DESCRIPTION:The faculty of Saint Catherine will have their monthly faculty meeting today after school at 3:30 in Mrs. Reid’s room.
URL:https://www.saintcatherineschool.org/event/faculty-meeting-6/2019-03-27
LOCATION:Mrs. Reid’s classroom
CATEGORIES:Church of Saint Catherine,Saint Catherine School
ORGANIZER;CN="Michelle Anthamatten":MAILTO:manthamatten@saint-catherine.org
END:VEVENT
BEGIN:VEVENT
DTSTART;TZID=America/Chicago:20190311T180000
DTEND;TZID=America/Chicago:20190311T193000
DTSTAMP:20260424T062725
CREATED:20190228T181409Z
LAST-MODIFIED:20190228T181436Z
UID:10007810-1552327200-1552332600@www.saintcatherineschool.org
SUMMARY:Home and School Meeting
DESCRIPTION:Home and School will meet in Mrs. Reid’s room at 6pm.
URL:https://www.saintcatherineschool.org/event/home-and-school-meeting-15
LOCATION:Mrs. Reid’s classroom
CATEGORIES:Saint Catherine School
END:VEVENT
BEGIN:VEVENT
DTSTART;TZID=America/Chicago:20190311T153000
DTEND;TZID=America/Chicago:20190311T163000
DTSTAMP:20260424T062725
CREATED:20190228T181111Z
LAST-MODIFIED:20190228T181111Z
UID:10007812-1552318200-1552321800@www.saintcatherineschool.org
SUMMARY:Faculty meeting
DESCRIPTION:The faculty will meet after school at 3:30.
URL:https://www.saintcatherineschool.org/event/faculty-meeting-11
LOCATION:Mrs. Reid’s classroom
CATEGORIES:Saint Catherine School
ORGANIZER;CN="Michelle Anthamatten":MAILTO:manthamatten@saint-catherine.org
END:VEVENT
BEGIN:VEVENT
DTSTART;TZID=America/Chicago:20190305T180000
DTEND;TZID=America/Chicago:20190305T190000
DTSTAMP:20260424T062725
CREATED:20190228T173941Z
LAST-MODIFIED:20190228T173941Z
UID:10007749-1551808800-1551812400@www.saintcatherineschool.org
SUMMARY:School Advisory Meeting
DESCRIPTION:The school advisory committee will meet in Mrs. Reid’s room at 6pm.
URL:https://www.saintcatherineschool.org/event/school-advisory-meeting-12
LOCATION:Mrs. Reid’s classroom
CATEGORIES:Saint Catherine School
ORGANIZER;CN="Michelle Anthamatten":MAILTO:manthamatten@saint-catherine.org
END:VEVENT
BEGIN:VEVENT
DTSTART;TZID=America/Chicago:20190227T153000
DTEND;TZID=America/Chicago:20190227T163000
DTSTAMP:20260424T062725
CREATED:20180816T212032Z
LAST-MODIFIED:20180816T212032Z
UID:10007820-1551281400-1551285000@www.saintcatherineschool.org
SUMMARY:Faculty Meeting
DESCRIPTION:The faculty of Saint Catherine will have their monthly faculty meeting today after school at 3:30 in Mrs. Reid’s room.
URL:https://www.saintcatherineschool.org/event/faculty-meeting-6/2019-02-27
LOCATION:Mrs. Reid’s classroom
CATEGORIES:Church of Saint Catherine,Saint Catherine School
ORGANIZER;CN="Michelle Anthamatten":MAILTO:manthamatten@saint-catherine.org
END:VEVENT
END:VCALENDAR