BEGIN:VCALENDAR
VERSION:2.0
PRODID:-//Saint Catherine of Alexandria School - ECPv6.15.20//NONSGML v1.0//EN
CALSCALE:GREGORIAN
METHOD:PUBLISH
X-WR-CALNAME:Saint Catherine of Alexandria School
X-ORIGINAL-URL:https://www.saintcatherineschool.org
X-WR-CALDESC:Events for Saint Catherine of Alexandria School
REFRESH-INTERVAL;VALUE=DURATION:PT1H
X-Robots-Tag:noindex
X-PUBLISHED-TTL:PT1H
BEGIN:VTIMEZONE
TZID:America/Chicago
BEGIN:DAYLIGHT
TZOFFSETFROM:-0600
TZOFFSETTO:-0500
TZNAME:CDT
DTSTART:20170312T080000
END:DAYLIGHT
BEGIN:STANDARD
TZOFFSETFROM:-0500
TZOFFSETTO:-0600
TZNAME:CST
DTSTART:20171105T070000
END:STANDARD
BEGIN:DAYLIGHT
TZOFFSETFROM:-0600
TZOFFSETTO:-0500
TZNAME:CDT
DTSTART:20180311T080000
END:DAYLIGHT
BEGIN:STANDARD
TZOFFSETFROM:-0500
TZOFFSETTO:-0600
TZNAME:CST
DTSTART:20181104T070000
END:STANDARD
BEGIN:DAYLIGHT
TZOFFSETFROM:-0600
TZOFFSETTO:-0500
TZNAME:CDT
DTSTART:20190310T080000
END:DAYLIGHT
BEGIN:STANDARD
TZOFFSETFROM:-0500
TZOFFSETTO:-0600
TZNAME:CST
DTSTART:20191103T070000
END:STANDARD
BEGIN:DAYLIGHT
TZOFFSETFROM:-0600
TZOFFSETTO:-0500
TZNAME:CDT
DTSTART:20200308T080000
END:DAYLIGHT
BEGIN:STANDARD
TZOFFSETFROM:-0500
TZOFFSETTO:-0600
TZNAME:CST
DTSTART:20201101T070000
END:STANDARD
END:VTIMEZONE
BEGIN:VEVENT
DTSTART;TZID=America/Chicago:20190225T150000
DTEND;TZID=America/Chicago:20190225T163000
DTSTAMP:20260424T062608
CREATED:20190123T192823Z
LAST-MODIFIED:20190123T192823Z
UID:10005396-1551106800-1551112200@www.saintcatherineschool.org
SUMMARY:Elementary Lego Club
DESCRIPTION:Elementary Lego Club will meet in Mrs. Victor’s room at 3:30.
URL:https://www.saintcatherineschool.org/event/elementary-lego-club-20
LOCATION:Mrs. Victor’s classroom
CATEGORIES:Saint Catherine School
ORGANIZER;CN="Carla Victor":MAILTO:cvictor@saint-catherine.org
END:VEVENT
BEGIN:VEVENT
DTSTART;TZID=America/Chicago:20190211T143000
DTEND;TZID=America/Chicago:20190211T153000
DTSTAMP:20260424T062608
CREATED:20190123T192735Z
LAST-MODIFIED:20190123T192735Z
UID:10005394-1549895400-1549899000@www.saintcatherineschool.org
SUMMARY:Elementary Lego Club
DESCRIPTION:Elementary Lego Club will meet in Mrs. Victor’s room at 3:30.
URL:https://www.saintcatherineschool.org/event/elementary-lego-club-19
LOCATION:Mrs. Victor’s classroom
CATEGORIES:Saint Catherine School
ORGANIZER;CN="Carla Victor":MAILTO:cvictor@saint-catherine.org
END:VEVENT
BEGIN:VEVENT
DTSTART;TZID=America/Chicago:20190204T153000
DTEND;TZID=America/Chicago:20190204T163000
DTSTAMP:20260424T062608
CREATED:20190123T192003Z
LAST-MODIFIED:20190123T192003Z
UID:10008264-1549294200-1549297800@www.saintcatherineschool.org
SUMMARY:Elementary Lego
DESCRIPTION:Elementary Lego will meet in Mrs. Victor’s room at 3:30.
URL:https://www.saintcatherineschool.org/event/elementary-lego-7
LOCATION:Mrs. Victor’s classroom
CATEGORIES:Saint Catherine School
ORGANIZER;CN="Carla Victor":MAILTO:cvictor@saint-catherine.org
END:VEVENT
BEGIN:VEVENT
DTSTART;TZID=America/Chicago:20190128T153000
DTEND;TZID=America/Chicago:20190128T163000
DTSTAMP:20260424T062608
CREATED:20190110T195229Z
LAST-MODIFIED:20190110T195229Z
UID:10007648-1548689400-1548693000@www.saintcatherineschool.org
SUMMARY:Elementary Lego Club
DESCRIPTION:The elementary Lego team will meet in Mrs. Victor’s room at 3:30.
URL:https://www.saintcatherineschool.org/event/elementary-lego-club-18
LOCATION:Mrs. Victor’s classroom
CATEGORIES:Saint Catherine School
ORGANIZER;CN="Carla Victor":MAILTO:cvictor@saint-catherine.org
END:VEVENT
BEGIN:VEVENT
DTSTART;TZID=America/Chicago:20190114T153000
DTEND;TZID=America/Chicago:20190114T163000
DTSTAMP:20260424T062608
CREATED:20190110T195122Z
LAST-MODIFIED:20190110T195122Z
UID:10007649-1547479800-1547483400@www.saintcatherineschool.org
SUMMARY:Elementary Lego
DESCRIPTION:The elementary Lego team will meet in Mrs. Victor’s room at 3:30.
URL:https://www.saintcatherineschool.org/event/elementary-lego-6
LOCATION:Mrs. Victor’s classroom
CATEGORIES:Saint Catherine School
ORGANIZER;CN="Carla Victor":MAILTO:cvictor@saint-catherine.org
END:VEVENT
BEGIN:VEVENT
DTSTART;TZID=America/Chicago:20181213T153000
DTEND;TZID=America/Chicago:20181213T170000
DTSTAMP:20260424T062608
CREATED:20181030T000225Z
LAST-MODIFIED:20181030T000225Z
UID:10005329-1544715000-1544720400@www.saintcatherineschool.org
SUMMARY:Tae Kwon Do
DESCRIPTION:TKD will meet in Mrs. Victor’s room at 3:30.
URL:https://www.saintcatherineschool.org/event/tae-kwon-do-3/2018-12-13
LOCATION:Mrs. Victor’s classroom
CATEGORIES:Saint Catherine School
ORGANIZER;CN="Carla Victor":MAILTO:cvictor@saint-catherine.org
END:VEVENT
BEGIN:VEVENT
DTSTART;TZID=America/Chicago:20181210T153000
DTEND;TZID=America/Chicago:20181210T163000
DTSTAMP:20260424T062608
CREATED:20181029T235038Z
LAST-MODIFIED:20181029T235038Z
UID:10007552-1544455800-1544459400@www.saintcatherineschool.org
SUMMARY:Elementary Lego Club
DESCRIPTION:The Elementary Lego Club will meet at 3:30 in Mrs. Victor’s room.
URL:https://www.saintcatherineschool.org/event/elementary-lego-club-17/2018-12-10
LOCATION:Mrs. Victor’s classroom
CATEGORIES:Saint Catherine School
ORGANIZER;CN="Carla Victor":MAILTO:cvictor@saint-catherine.org
END:VEVENT
BEGIN:VEVENT
DTSTART;TZID=America/Chicago:20181206T153000
DTEND;TZID=America/Chicago:20181206T170000
DTSTAMP:20260424T062608
CREATED:20181030T000225Z
LAST-MODIFIED:20181030T000225Z
UID:10005328-1544110200-1544115600@www.saintcatherineschool.org
SUMMARY:Tae Kwon Do
DESCRIPTION:TKD will meet in Mrs. Victor’s room at 3:30.
URL:https://www.saintcatherineschool.org/event/tae-kwon-do-3/2018-12-06
LOCATION:Mrs. Victor’s classroom
CATEGORIES:Saint Catherine School
ORGANIZER;CN="Carla Victor":MAILTO:cvictor@saint-catherine.org
END:VEVENT
BEGIN:VEVENT
DTSTART;TZID=America/Chicago:20181203T153000
DTEND;TZID=America/Chicago:20181203T163000
DTSTAMP:20260424T062608
CREATED:20181029T235038Z
LAST-MODIFIED:20181029T235038Z
UID:10007551-1543851000-1543854600@www.saintcatherineschool.org
SUMMARY:Elementary Lego Club
DESCRIPTION:The Elementary Lego Club will meet at 3:30 in Mrs. Victor’s room.
URL:https://www.saintcatherineschool.org/event/elementary-lego-club-17/2018-12-03
LOCATION:Mrs. Victor’s classroom
CATEGORIES:Saint Catherine School
ORGANIZER;CN="Carla Victor":MAILTO:cvictor@saint-catherine.org
END:VEVENT
BEGIN:VEVENT
DTSTART;TZID=America/Chicago:20181115T153500
DTEND;TZID=America/Chicago:20181115T170000
DTSTAMP:20260424T062608
CREATED:20180816T220858Z
LAST-MODIFIED:20180816T221000Z
UID:10005280-1542296100-1542301200@www.saintcatherineschool.org
SUMMARY:Tae Kwon Do
DESCRIPTION:Students in TKD will meet in Mrs. Victor’s classroom at 3:35.
URL:https://www.saintcatherineschool.org/event/tae-kwon-do-4/2018-11-15
LOCATION:Mrs. Victor’s classroom
CATEGORIES:Church of Saint Catherine,Saint Catherine School
ORGANIZER;CN="Carla Victor":MAILTO:cvictor@saint-catherine.org
END:VEVENT
BEGIN:VEVENT
DTSTART;TZID=America/Chicago:20181112T153000
DTEND;TZID=America/Chicago:20181112T163000
DTSTAMP:20260424T062608
CREATED:20180817T194430Z
LAST-MODIFIED:20180817T194430Z
UID:10007349-1542036600-1542040200@www.saintcatherineschool.org
SUMMARY:Elementary Lego Club
DESCRIPTION:Elementary Lego Club will meet after school in Mrs. Victor’s room at 3:30.
URL:https://www.saintcatherineschool.org/event/elementary-lego-club-16/2018-11-12
LOCATION:Mrs. Victor’s classroom
CATEGORIES:Church of Saint Catherine,Saint Catherine School
ORGANIZER;CN="Carla Victor":MAILTO:cvictor@saint-catherine.org
END:VEVENT
BEGIN:VEVENT
DTSTART;TZID=America/Chicago:20181108T153500
DTEND;TZID=America/Chicago:20181108T170000
DTSTAMP:20260424T062608
CREATED:20180816T220858Z
LAST-MODIFIED:20180816T221000Z
UID:10005279-1541691300-1541696400@www.saintcatherineschool.org
SUMMARY:Tae Kwon Do
DESCRIPTION:Students in TKD will meet in Mrs. Victor’s classroom at 3:35.
URL:https://www.saintcatherineschool.org/event/tae-kwon-do-4/2018-11-08
LOCATION:Mrs. Victor’s classroom
CATEGORIES:Church of Saint Catherine,Saint Catherine School
ORGANIZER;CN="Carla Victor":MAILTO:cvictor@saint-catherine.org
END:VEVENT
BEGIN:VEVENT
DTSTART;TZID=America/Chicago:20181105T153000
DTEND;TZID=America/Chicago:20181105T163000
DTSTAMP:20260424T062608
CREATED:20180817T194430Z
LAST-MODIFIED:20180817T194430Z
UID:10007348-1541431800-1541435400@www.saintcatherineschool.org
SUMMARY:Elementary Lego Club
DESCRIPTION:Elementary Lego Club will meet after school in Mrs. Victor’s room at 3:30.
URL:https://www.saintcatherineschool.org/event/elementary-lego-club-16/2018-11-05
LOCATION:Mrs. Victor’s classroom
CATEGORIES:Church of Saint Catherine,Saint Catherine School
ORGANIZER;CN="Carla Victor":MAILTO:cvictor@saint-catherine.org
END:VEVENT
BEGIN:VEVENT
DTSTART;TZID=America/Chicago:20181101T153500
DTEND;TZID=America/Chicago:20181101T170000
DTSTAMP:20260424T062608
CREATED:20180816T220858Z
LAST-MODIFIED:20180816T221000Z
UID:10005278-1541086500-1541091600@www.saintcatherineschool.org
SUMMARY:Tae Kwon Do
DESCRIPTION:Students in TKD will meet in Mrs. Victor’s classroom at 3:35.
URL:https://www.saintcatherineschool.org/event/tae-kwon-do-4/2018-11-01
LOCATION:Mrs. Victor’s classroom
CATEGORIES:Church of Saint Catherine,Saint Catherine School
ORGANIZER;CN="Carla Victor":MAILTO:cvictor@saint-catherine.org
END:VEVENT
BEGIN:VEVENT
DTSTART;TZID=America/Chicago:20181015T153000
DTEND;TZID=America/Chicago:20181015T163000
DTSTAMP:20260424T062608
CREATED:20180817T185223Z
LAST-MODIFIED:20180817T185223Z
UID:10007357-1539617400-1539621000@www.saintcatherineschool.org
SUMMARY:Elementary Lego Club
DESCRIPTION:Elementary Lego Club will meet in Mrs. Victor’s room at 3:30.
URL:https://www.saintcatherineschool.org/event/elementary-lego-club-15/2018-10-15
LOCATION:Mrs. Victor’s classroom
CATEGORIES:Church of Saint Catherine,Saint Catherine School
ORGANIZER;CN="Carla Victor":MAILTO:cvictor@saint-catherine.org
END:VEVENT
BEGIN:VEVENT
DTSTART;TZID=America/Chicago:20181011T153500
DTEND;TZID=America/Chicago:20181011T170000
DTSTAMP:20260424T062608
CREATED:20180816T215803Z
LAST-MODIFIED:20180816T215803Z
UID:10005268-1539272100-1539277200@www.saintcatherineschool.org
SUMMARY:Tae Kwon Do
DESCRIPTION:Students will meet in Mrs. Victor’s classroom for TKD at 3:35.
URL:https://www.saintcatherineschool.org/event/tae-kwon-do-2/2018-10-11
LOCATION:Mrs. Victor’s classroom
CATEGORIES:Church of Saint Catherine,Saint Catherine School
ORGANIZER;CN="Carla Victor":MAILTO:cvictor@saint-catherine.org
END:VEVENT
BEGIN:VEVENT
DTSTART;TZID=America/Chicago:20181008T153000
DTEND;TZID=America/Chicago:20181008T163000
DTSTAMP:20260424T062608
CREATED:20180817T185223Z
LAST-MODIFIED:20180817T185223Z
UID:10007356-1539012600-1539016200@www.saintcatherineschool.org
SUMMARY:Elementary Lego Club
DESCRIPTION:Elementary Lego Club will meet in Mrs. Victor’s room at 3:30.
URL:https://www.saintcatherineschool.org/event/elementary-lego-club-15/2018-10-08
LOCATION:Mrs. Victor’s classroom
CATEGORIES:Church of Saint Catherine,Saint Catherine School
ORGANIZER;CN="Carla Victor":MAILTO:cvictor@saint-catherine.org
END:VEVENT
BEGIN:VEVENT
DTSTART;TZID=America/Chicago:20181004T153500
DTEND;TZID=America/Chicago:20181004T170000
DTSTAMP:20260424T062608
CREATED:20180816T215803Z
LAST-MODIFIED:20180816T215803Z
UID:10005267-1538667300-1538672400@www.saintcatherineschool.org
SUMMARY:Tae Kwon Do
DESCRIPTION:Students will meet in Mrs. Victor’s classroom for TKD at 3:35.
URL:https://www.saintcatherineschool.org/event/tae-kwon-do-2/2018-10-04
LOCATION:Mrs. Victor’s classroom
CATEGORIES:Church of Saint Catherine,Saint Catherine School
ORGANIZER;CN="Carla Victor":MAILTO:cvictor@saint-catherine.org
END:VEVENT
BEGIN:VEVENT
DTSTART;TZID=America/Chicago:20181001T153000
DTEND;TZID=America/Chicago:20181001T163000
DTSTAMP:20260424T062608
CREATED:20180817T185223Z
LAST-MODIFIED:20180817T185223Z
UID:10007355-1538407800-1538411400@www.saintcatherineschool.org
SUMMARY:Elementary Lego Club
DESCRIPTION:Elementary Lego Club will meet in Mrs. Victor’s room at 3:30.
URL:https://www.saintcatherineschool.org/event/elementary-lego-club-15/2018-10-01
LOCATION:Mrs. Victor’s classroom
CATEGORIES:Church of Saint Catherine,Saint Catherine School
ORGANIZER;CN="Carla Victor":MAILTO:cvictor@saint-catherine.org
END:VEVENT
BEGIN:VEVENT
DTSTART;TZID=America/Chicago:20180920T153500
DTEND;TZID=America/Chicago:20180920T170000
DTSTAMP:20260424T062608
CREATED:20180816T212519Z
LAST-MODIFIED:20180816T212519Z
UID:10007386-1537457700-1537462800@www.saintcatherineschool.org
SUMMARY:Tae Kwon Do
DESCRIPTION:Kids who are enrolled in Tae Kwon Do will meet in Mrs. Victor’s room at 3:35.  The class will be from 3:35-5:00.
URL:https://www.saintcatherineschool.org/event/tae-kwon-do/2018-09-20
LOCATION:Mrs. Victor’s classroom
CATEGORIES:Church of Saint Catherine,Saint Catherine School
ORGANIZER;CN="Carla Victor":MAILTO:cvictor@saint-catherine.org
END:VEVENT
BEGIN:VEVENT
DTSTART;TZID=America/Chicago:20180917T153000
DTEND;TZID=America/Chicago:20180917T163000
DTSTAMP:20260424T062608
CREATED:20180817T185041Z
LAST-MODIFIED:20180817T185041Z
UID:10007360-1537198200-1537201800@www.saintcatherineschool.org
SUMMARY:Elementary Lego Club
DESCRIPTION:Elementary Lego Club will meet in Mrs. Victor’s room at 3:30.
URL:https://www.saintcatherineschool.org/event/elementary-lego-club-14/2018-09-17
LOCATION:Mrs. Victor’s classroom
CATEGORIES:Church of Saint Catherine,Saint Catherine School
ORGANIZER;CN="Carla Victor":MAILTO:cvictor@saint-catherine.org
END:VEVENT
BEGIN:VEVENT
DTSTART;TZID=America/Chicago:20180913T153500
DTEND;TZID=America/Chicago:20180913T170000
DTSTAMP:20260424T062608
CREATED:20180816T212519Z
LAST-MODIFIED:20180816T212519Z
UID:10007385-1536852900-1536858000@www.saintcatherineschool.org
SUMMARY:Tae Kwon Do
DESCRIPTION:Kids who are enrolled in Tae Kwon Do will meet in Mrs. Victor’s room at 3:35.  The class will be from 3:35-5:00.
URL:https://www.saintcatherineschool.org/event/tae-kwon-do/2018-09-13
LOCATION:Mrs. Victor’s classroom
CATEGORIES:Church of Saint Catherine,Saint Catherine School
ORGANIZER;CN="Carla Victor":MAILTO:cvictor@saint-catherine.org
END:VEVENT
BEGIN:VEVENT
DTSTART;TZID=America/Chicago:20180910T153000
DTEND;TZID=America/Chicago:20180910T163000
DTSTAMP:20260424T062608
CREATED:20180817T185041Z
LAST-MODIFIED:20180817T185041Z
UID:10007359-1536593400-1536597000@www.saintcatherineschool.org
SUMMARY:Elementary Lego Club
DESCRIPTION:Elementary Lego Club will meet in Mrs. Victor’s room at 3:30.
URL:https://www.saintcatherineschool.org/event/elementary-lego-club-14/2018-09-10
LOCATION:Mrs. Victor’s classroom
CATEGORIES:Church of Saint Catherine,Saint Catherine School
ORGANIZER;CN="Carla Victor":MAILTO:cvictor@saint-catherine.org
END:VEVENT
BEGIN:VEVENT
DTSTART;TZID=America/Chicago:20180906T153500
DTEND;TZID=America/Chicago:20180906T170000
DTSTAMP:20260424T062608
CREATED:20180816T212519Z
LAST-MODIFIED:20180816T212519Z
UID:10007384-1536248100-1536253200@www.saintcatherineschool.org
SUMMARY:Tae Kwon Do
DESCRIPTION:Kids who are enrolled in Tae Kwon Do will meet in Mrs. Victor’s room at 3:35.  The class will be from 3:35-5:00.
URL:https://www.saintcatherineschool.org/event/tae-kwon-do/2018-09-06
LOCATION:Mrs. Victor’s classroom
CATEGORIES:Church of Saint Catherine,Saint Catherine School
ORGANIZER;CN="Carla Victor":MAILTO:cvictor@saint-catherine.org
END:VEVENT
BEGIN:VEVENT
DTSTART;TZID=America/Chicago:20180830T153500
DTEND;TZID=America/Chicago:20180830T170000
DTSTAMP:20260424T062608
CREATED:20180816T212519Z
LAST-MODIFIED:20180816T212519Z
UID:10007383-1535643300-1535648400@www.saintcatherineschool.org
SUMMARY:Tae Kwon Do
DESCRIPTION:Kids who are enrolled in Tae Kwon Do will meet in Mrs. Victor’s room at 3:35.  The class will be from 3:35-5:00.
URL:https://www.saintcatherineschool.org/event/tae-kwon-do/2018-08-30
LOCATION:Mrs. Victor’s classroom
CATEGORIES:Church of Saint Catherine,Saint Catherine School
ORGANIZER;CN="Carla Victor":MAILTO:cvictor@saint-catherine.org
END:VEVENT
BEGIN:VEVENT
DTSTART;TZID=America/Chicago:20180820T153000
DTEND;TZID=America/Chicago:20180820T163000
DTSTAMP:20260424T062608
CREATED:20180817T184826Z
LAST-MODIFIED:20180817T184826Z
UID:10007362-1534779000-1534782600@www.saintcatherineschool.org
SUMMARY:Elementary Lego
DESCRIPTION:Elementary Lego Club will meet in Mrs. Victor’s room at 3:30.
URL:https://www.saintcatherineschool.org/event/elementary-lego-5
LOCATION:Mrs. Victor’s classroom
CATEGORIES:Church of Saint Catherine,Saint Catherine School
ORGANIZER;CN="Carla Victor":MAILTO:cvictor@saint-catherine.org
END:VEVENT
BEGIN:VEVENT
DTSTART;TZID=America/Chicago:20180514T153000
DTEND;TZID=America/Chicago:20180514T163000
DTSTAMP:20260424T062608
CREATED:20180501T200810Z
LAST-MODIFIED:20180501T200810Z
UID:10007193-1526311800-1526315400@www.saintcatherineschool.org
SUMMARY:Elementary Lego Club
DESCRIPTION:The Elementary Lego Club will meet at 3:30 in Mrs. Victor’s room.
URL:https://www.saintcatherineschool.org/event/elementary-lego-club-13/2018-05-14
LOCATION:Mrs. Victor’s classroom
CATEGORIES:Saint Catherine School
ORGANIZER;CN="Carla Victor":MAILTO:cvictor@saint-catherine.org
END:VEVENT
BEGIN:VEVENT
DTSTART;TZID=America/Chicago:20180507T153000
DTEND;TZID=America/Chicago:20180507T163000
DTSTAMP:20260424T062608
CREATED:20180501T200810Z
LAST-MODIFIED:20180501T200810Z
UID:10007192-1525707000-1525710600@www.saintcatherineschool.org
SUMMARY:Elementary Lego Club
DESCRIPTION:The Elementary Lego Club will meet at 3:30 in Mrs. Victor’s room.
URL:https://www.saintcatherineschool.org/event/elementary-lego-club-13/2018-05-07
LOCATION:Mrs. Victor’s classroom
CATEGORIES:Saint Catherine School
ORGANIZER;CN="Carla Victor":MAILTO:cvictor@saint-catherine.org
END:VEVENT
BEGIN:VEVENT
DTSTART;TZID=America/Chicago:20180122T093000
DTEND;TZID=America/Chicago:20180122T103000
DTSTAMP:20260424T062608
CREATED:20180104T083752Z
LAST-MODIFIED:20180104T083752Z
UID:10005491-1516613400-1516617000@www.saintcatherineschool.org
SUMMARY:Elementary Lego Club
DESCRIPTION:Elementary Lego Club will meet on Monday\, January 8th in Mrs. Victor’s room.
URL:https://www.saintcatherineschool.org/event/elementary-lego-club-11
LOCATION:Mrs. Victor’s classroom
CATEGORIES:Saint Catherine School
ORGANIZER;CN="Carla Victor":MAILTO:cvictor@saint-catherine.org
END:VEVENT
BEGIN:VEVENT
DTSTART;TZID=America/Chicago:20180118T093500
DTEND;TZID=America/Chicago:20180118T103000
DTSTAMP:20260424T062608
CREATED:20180104T092752Z
LAST-MODIFIED:20180104T092752Z
UID:10007505-1516268100-1516271400@www.saintcatherineschool.org
SUMMARY:Tae Kwon Do and Little Dragons
DESCRIPTION:TWD and Little Dragons will meet in Mrs. Victor’s room at 3:35.
URL:https://www.saintcatherineschool.org/event/tae-kwon-do-and-little-dragons-2
LOCATION:Mrs. Victor’s classroom
CATEGORIES:Saint Catherine School
ORGANIZER;CN="Carla Victor":MAILTO:cvictor@saint-catherine.org
END:VEVENT
END:VCALENDAR