BEGIN:VCALENDAR
VERSION:2.0
PRODID:-//Saint Catherine of Alexandria School - ECPv6.15.20//NONSGML v1.0//EN
CALSCALE:GREGORIAN
METHOD:PUBLISH
X-WR-CALNAME:Saint Catherine of Alexandria School
X-ORIGINAL-URL:https://www.saintcatherineschool.org
X-WR-CALDESC:Events for Saint Catherine of Alexandria School
REFRESH-INTERVAL;VALUE=DURATION:PT1H
X-Robots-Tag:noindex
X-PUBLISHED-TTL:PT1H
BEGIN:VTIMEZONE
TZID:America/Chicago
BEGIN:DAYLIGHT
TZOFFSETFROM:-0600
TZOFFSETTO:-0500
TZNAME:CDT
DTSTART:20160313T080000
END:DAYLIGHT
BEGIN:STANDARD
TZOFFSETFROM:-0500
TZOFFSETTO:-0600
TZNAME:CST
DTSTART:20161106T070000
END:STANDARD
BEGIN:DAYLIGHT
TZOFFSETFROM:-0600
TZOFFSETTO:-0500
TZNAME:CDT
DTSTART:20170312T080000
END:DAYLIGHT
BEGIN:STANDARD
TZOFFSETFROM:-0500
TZOFFSETTO:-0600
TZNAME:CST
DTSTART:20171105T070000
END:STANDARD
BEGIN:DAYLIGHT
TZOFFSETFROM:-0600
TZOFFSETTO:-0500
TZNAME:CDT
DTSTART:20180311T080000
END:DAYLIGHT
BEGIN:STANDARD
TZOFFSETFROM:-0500
TZOFFSETTO:-0600
TZNAME:CST
DTSTART:20181104T070000
END:STANDARD
END:VTIMEZONE
BEGIN:VEVENT
DTSTART;TZID=America/Chicago:20170828T103000
DTEND;TZID=America/Chicago:20170828T113000
DTSTAMP:20260424T145733
CREATED:20170821T193949Z
LAST-MODIFIED:20170821T194450Z
UID:10005031-1503916200-1503919800@www.saintcatherineschool.org
SUMMARY:NO Elementary Lego Club
DESCRIPTION:There will not be Elementary Lego today.  The faculty has a meeting.
URL:https://www.saintcatherineschool.org/event/elementary-lego-club-2
LOCATION:Mrs. Victor’s classroom
END:VEVENT
BEGIN:VEVENT
DTSTART;TZID=America/Chicago:20170821T103000
DTEND;TZID=America/Chicago:20170821T113000
DTSTAMP:20260424T145733
CREATED:20170821T191725Z
LAST-MODIFIED:20170821T191725Z
UID:10005264-1503311400-1503315000@www.saintcatherineschool.org
SUMMARY:Elementary Lego Club
DESCRIPTION:Elementary Lego Club will meet today in Mrs. Victor’s classroom.
URL:https://www.saintcatherineschool.org/event/elementary-lego-club
LOCATION:Mrs. Victor’s classroom
CATEGORIES:Saint Catherine School
END:VEVENT
BEGIN:VEVENT
DTSTART;TZID=America/Chicago:20170811T103000
DTEND;TZID=America/Chicago:20170811T113000
DTSTAMP:20260424T145733
CREATED:20170821T222227Z
LAST-MODIFIED:20170821T222227Z
UID:10005047-1502447400-1502451000@www.saintcatherineschool.org
SUMMARY:Elementary Lego
DESCRIPTION:
URL:https://www.saintcatherineschool.org/event/elementary-lego
LOCATION:Mrs. Victor’s classroom
CATEGORIES:Saint Catherine School
END:VEVENT
END:VCALENDAR