BEGIN:VCALENDAR
VERSION:2.0
PRODID:-//Saint Catherine of Alexandria School - ECPv6.15.20//NONSGML v1.0//EN
CALSCALE:GREGORIAN
METHOD:PUBLISH
X-WR-CALNAME:Saint Catherine of Alexandria School
X-ORIGINAL-URL:https://www.saintcatherineschool.org
X-WR-CALDESC:Events for Saint Catherine of Alexandria School
REFRESH-INTERVAL;VALUE=DURATION:PT1H
X-Robots-Tag:noindex
X-PUBLISHED-TTL:PT1H
BEGIN:VTIMEZONE
TZID:America/Chicago
BEGIN:DAYLIGHT
TZOFFSETFROM:-0600
TZOFFSETTO:-0500
TZNAME:CDT
DTSTART:20210314T080000
END:DAYLIGHT
BEGIN:STANDARD
TZOFFSETFROM:-0500
TZOFFSETTO:-0600
TZNAME:CST
DTSTART:20211107T070000
END:STANDARD
BEGIN:DAYLIGHT
TZOFFSETFROM:-0600
TZOFFSETTO:-0500
TZNAME:CDT
DTSTART:20220313T080000
END:DAYLIGHT
BEGIN:STANDARD
TZOFFSETFROM:-0500
TZOFFSETTO:-0600
TZNAME:CST
DTSTART:20221106T070000
END:STANDARD
BEGIN:DAYLIGHT
TZOFFSETFROM:-0600
TZOFFSETTO:-0500
TZNAME:CDT
DTSTART:20230312T080000
END:DAYLIGHT
BEGIN:STANDARD
TZOFFSETFROM:-0500
TZOFFSETTO:-0600
TZNAME:CST
DTSTART:20231105T070000
END:STANDARD
END:VTIMEZONE
BEGIN:VEVENT
DTSTART;TZID=America/Chicago:20221022T120000
DTEND;TZID=America/Chicago:20221022T130000
DTSTAMP:20260424T005202
CREATED:20221004T190507Z
LAST-MODIFIED:20221004T190507Z
UID:10008030-1666440000-1666443600@www.saintcatherineschool.org
SUMMARY:Boys Volleyball Game
DESCRIPTION:
URL:https://www.saintcatherineschool.org/event/boys-volleyball-game-4
LOCATION:Neinhuis Park\, 3201 N 9th St.\, Broken Arrow\, OK\, 74012\, United States
CATEGORIES:Church of Saint Catherine,Saint Catherine School
ORGANIZER;CN="Kayley Anthamatten":MAILTO:kayleya@saint-catherine.org
GEO:36.0841434;-95.7773795
X-APPLE-STRUCTURED-LOCATION;VALUE=URI;X-ADDRESS=Neinhuis Park 3201 N 9th St. Broken Arrow OK 74012 United States;X-APPLE-RADIUS=500;X-TITLE=3201 N 9th St.:geo:-95.7773795,36.0841434
END:VEVENT
BEGIN:VEVENT
DTSTART;TZID=America/Chicago:20221022T110000
DTEND;TZID=America/Chicago:20221022T120000
DTSTAMP:20260424T005202
CREATED:20221004T184725Z
LAST-MODIFIED:20221004T184725Z
UID:10008028-1666436400-1666440000@www.saintcatherineschool.org
SUMMARY:Boys Volleyball Game
DESCRIPTION:
URL:https://www.saintcatherineschool.org/event/boys-volleyball-game-3
LOCATION:Neinhuis Park\, 3201 N 9th St.\, Broken Arrow\, OK\, 74012\, United States
CATEGORIES:Church of Saint Catherine,Saint Catherine School
ORGANIZER;CN="Kayley Anthamatten":MAILTO:kayleya@saint-catherine.org
GEO:36.0841434;-95.7773795
X-APPLE-STRUCTURED-LOCATION;VALUE=URI;X-ADDRESS=Neinhuis Park 3201 N 9th St. Broken Arrow OK 74012 United States;X-APPLE-RADIUS=500;X-TITLE=3201 N 9th St.:geo:-95.7773795,36.0841434
END:VEVENT
BEGIN:VEVENT
DTSTART;TZID=America/Chicago:20221021T185000
DTEND;TZID=America/Chicago:20221021T200000
DTSTAMP:20260424T005202
CREATED:20221004T184539Z
LAST-MODIFIED:20221004T184539Z
UID:10009234-1666378200-1666382400@www.saintcatherineschool.org
SUMMARY:Boys Volleyball Game
DESCRIPTION:
URL:https://www.saintcatherineschool.org/event/boys-volleyball-game-2
LOCATION:Neinhuis Park\, 3201 N 9th St.\, Broken Arrow\, OK\, 74012\, United States
CATEGORIES:Church of Saint Catherine,Saint Catherine School
ORGANIZER;CN="Kayley Anthamatten":MAILTO:kayleya@saint-catherine.org
GEO:36.0841434;-95.7773795
X-APPLE-STRUCTURED-LOCATION;VALUE=URI;X-ADDRESS=Neinhuis Park 3201 N 9th St. Broken Arrow OK 74012 United States;X-APPLE-RADIUS=500;X-TITLE=3201 N 9th St.:geo:-95.7773795,36.0841434
END:VEVENT
BEGIN:VEVENT
DTSTART;TZID=America/Chicago:20221008T100000
DTEND;TZID=America/Chicago:20221008T110000
DTSTAMP:20260424T005202
CREATED:20221004T181452Z
LAST-MODIFIED:20221004T181452Z
UID:10009246-1665223200-1665226800@www.saintcatherineschool.org
SUMMARY:Boys Volleyball Game
DESCRIPTION:Nei
URL:https://www.saintcatherineschool.org/event/boys-volleyball-game
LOCATION:Neinhuis Park\, 3201 N 9th St.\, Broken Arrow\, OK\, 74012\, United States
CATEGORIES:Church of Saint Catherine,Saint Catherine School
ORGANIZER;CN="Kayley Anthamatten":MAILTO:kayleya@saint-catherine.org
GEO:36.0841434;-95.7773795
X-APPLE-STRUCTURED-LOCATION;VALUE=URI;X-ADDRESS=Neinhuis Park 3201 N 9th St. Broken Arrow OK 74012 United States;X-APPLE-RADIUS=500;X-TITLE=3201 N 9th St.:geo:-95.7773795,36.0841434
END:VEVENT
END:VCALENDAR