BEGIN:VCALENDAR
VERSION:2.0
PRODID:-//Saint Catherine of Alexandria School - ECPv6.15.20//NONSGML v1.0//EN
CALSCALE:GREGORIAN
METHOD:PUBLISH
X-ORIGINAL-URL:https://www.saintcatherineschool.org
X-WR-CALDESC:Events for Saint Catherine of Alexandria School
REFRESH-INTERVAL;VALUE=DURATION:PT1H
X-Robots-Tag:noindex
X-PUBLISHED-TTL:PT1H
BEGIN:VTIMEZONE
TZID:America/Chicago
BEGIN:DAYLIGHT
TZOFFSETFROM:-0600
TZOFFSETTO:-0500
TZNAME:CDT
DTSTART:20180311T080000
END:DAYLIGHT
BEGIN:STANDARD
TZOFFSETFROM:-0500
TZOFFSETTO:-0600
TZNAME:CST
DTSTART:20181104T070000
END:STANDARD
BEGIN:DAYLIGHT
TZOFFSETFROM:-0600
TZOFFSETTO:-0500
TZNAME:CDT
DTSTART:20190310T080000
END:DAYLIGHT
BEGIN:STANDARD
TZOFFSETFROM:-0500
TZOFFSETTO:-0600
TZNAME:CST
DTSTART:20191103T070000
END:STANDARD
BEGIN:DAYLIGHT
TZOFFSETFROM:-0600
TZOFFSETTO:-0500
TZNAME:CDT
DTSTART:20200308T080000
END:DAYLIGHT
BEGIN:STANDARD
TZOFFSETFROM:-0500
TZOFFSETTO:-0600
TZNAME:CST
DTSTART:20201101T070000
END:STANDARD
END:VTIMEZONE
BEGIN:VEVENT
DTSTART;TZID=America/Chicago:20191022T080000
DTEND;TZID=America/Chicago:20191022T150000
DTSTAMP:20260424T104028
CREATED:20190924T202332Z
LAST-MODIFIED:20190924T202332Z
UID:10008297-1571731200-1571756400@www.saintcatherineschool.org
SUMMARY:Women in Science
DESCRIPTION:The 6-8th girls will go to OKC to Women in Science.  The students can wear spirit wear with jeans.
URL:https://www.saintcatherineschool.org/event/women-in-science
LOCATION:OKC Science Museum\, 2020 Remington Pl\, Oklahoma City\, OK\, 73111\, United States
CATEGORIES:Saint Catherine School
ORGANIZER;CN="Sister Margaret":MAILTO:mgibbons@saint-catherine.org
GEO:35.524712;-97.47465
X-APPLE-STRUCTURED-LOCATION;VALUE=URI;X-ADDRESS=OKC Science Museum 2020 Remington Pl Oklahoma City OK 73111 United States;X-APPLE-RADIUS=500;X-TITLE=2020 Remington Pl:geo:-97.47465,35.524712
END:VEVENT
BEGIN:VEVENT
DTSTART;TZID=America/Chicago:20190507T073000
DTEND;TZID=America/Chicago:20190507T153000
DTSTAMP:20260424T104028
CREATED:20190430T141821Z
LAST-MODIFIED:20190430T141821Z
UID:10007981-1557214200-1557243000@www.saintcatherineschool.org
SUMMARY:4th grade field trip
DESCRIPTION:The 4th grade will be going to OKC Science Museum.
URL:https://www.saintcatherineschool.org/event/4th-grade-field-trip-5
LOCATION:OKC Science Museum\, 2020 Remington Pl\, Oklahoma City\, OK\, 73111\, United States
CATEGORIES:Saint Catherine School
GEO:35.524712;-97.47465
X-APPLE-STRUCTURED-LOCATION;VALUE=URI;X-ADDRESS=OKC Science Museum 2020 Remington Pl Oklahoma City OK 73111 United States;X-APPLE-RADIUS=500;X-TITLE=2020 Remington Pl:geo:-97.47465,35.524712
END:VEVENT
END:VCALENDAR